{"text_format":"1","workbook":"xlsx","n_sheets":12,"sheets":["MODÜLER NOT FİŞİ örnek","Modül S1","MS2","MS3","MS4","MS5","MS6","MS7","MS8","MS9","MODÜLER NOT FİŞİ","MODÜLER NOT FİŞİ (2)"],"not_rendered":{"charts":0,"images":0,"macros":1,"external_links":0,"defined_names":18,"comments":1,"pivot_tables":0},"unopened":[],"bounds":{"document_bytes":16777216,"sheet_cells":100000,"rows_first":2000,"rows_last":500,"rows_between":2000,"halvings":0,"cell_chars":16384,"cell_head_chars":4096},"cells_cut":0,"cells_raw":0,"read":"whole","date_system":"1900"}

{"sheet":"MODÜLER NOT FİŞİ örnek","index":0,"n_rows":41,"n_cols":33,"rows_kept":41,"cut":false,"hidden":false,"merged":[[4,16,4,19],[3,20,4,25],[6,11,6,13],[10,11,10,13],[0,0,0,32],[1,2,1,26],[5,0,5,10],[5,14,5,30],[1,29,1,32],[10,32,11,32],[10,29,11,31],[6,14,6,30],[6,31,6,32],[10,23,10,25],[10,1,11,1],[5,31,5,32],[5,11,5,13],[10,2,10,4],[6,0,6,10],[10,8,10,10],[7,31,7,32],[7,0,7,10],[7,11,7,13],[7,14,7,30],[10,0,11,0],[10,14,10,16],[10,17,10,19],[10,5,10,7],[10,20,10,22],[10,26,10,28],[41,0,41,1],[39,0,39,1],[12,29,12,31],[13,29,13,31],[14,29,14,31],[15,29,15,31],[16,29,16,31],[39,28,39,31],[40,0,40,1],[20,29,20,31],[17,29,17,31],[18,29,18,31],[19,29,19,31],[29,29,29,31],[30,29,30,31],[40,28,40,31],[18,14,18,16],[21,29,21,31],[22,29,22,31],[23,29,23,31],[24,29,24,31],[31,29,31,31],[25,29,25,31],[26,29,26,31],[27,29,27,31],[28,29,28,31],[13,2,13,4],[14,17,14,19],[14,20,14,22],[15,2,15,4],[15,5,15,7],[15,8,15,10]]}
["TEOMANPAŞA HALK EĞİTİMİ MERKEZİ"]
[null,null,"KURSİYER NOT FİŞİ",null,null,null,null,null,null,null,null,null,null,null,null,null,null,null,null,null,null,null,null,null,null,null,null,null,null," Tel :0 242 3383125"]
[null,null,null,null,null,null,null,null,null,null,null,null,null,null,null,null,null,null,null,null,null,null,null,null,null,null," Web:","http://teomanpasahem.meb.k12.tr/"]
[null,null,null,null,null,null,null,null,null,null,null,null,null,null,null,null,null,null,null,null,123456]
["KURSUN ADI : ",null,"Bağlama Eğitimi (Bozuk Düzen)",null,null,null,null,null,null,null,null,null,null,null,null,null,"KURS NO (e-Yaygin): "]
["KURSA BAŞLAYAN KURSİYER SAYISI (e-Yaygin Sistemine Kayıtlı Kursiyer)",null,null,null,null,null,null,null,null,null,null,7,null,null,"BAŞARISIZ OLAN KURSİYER SAYISI",null,null,null,null,null,null,null,null,null,null,null,null,null,null,null,null,0]
["BAŞARILI OLAN KURSİYER SAYISI (e-Yaygin Saiteminden BELGE ALACAK)",null,null,null,null,null,null,null,null,null,null,4,null,null,"DEVAMSIZ OLAN KURSİYER SAYISI",null,null,null,null,null,null,null,null,null,null,null,null,null,null,null,null,0]
["SADECE TRANSKRİPT ALACAK KURSİYER SAYISI",null,null,null,null,null,null,null,null,null,null,3]
[]
[]
["S.\nNO","ADI VE SOYADI","1. Modül",null,null,"2. Modül",null,null,"3. Modül",null,null,"4. Modül",null,null,"5. Modül",null,null,"6. Modül",null,null,"7. Modül",null,null,"8. Modül",null,null,"9. Modül",null,null,"Açıklama / \nTranskript Mod.",null,null,"Belge/\nTranskript"]
[null,null,"Uy.","Yaz.","OR.","Uy.","Yaz.","ORT","Uy.","Yaz.","ORT","Uy.","Yaz.","ORT","Uy.","Yaz.","ORT","Uy.","Yaz.","ORT","Uy.","Yaz.","ORT","Uy.","Yaz.","ORT","Uy.","Yaz.","ORT"]
[1,"ALİ KAYA",100,70,{"$f":"AVERAGE(C13:D13)","v":85},70,70,{"$f":"AVERAGE(F13:G13)","v":70},80,90,{"$f":"AVERAGE(I13:J13)","v":85},60,50,{"$f":"AVERAGE(L13:M13)","v":55},90,96,{"$f":"AVERAGE(O13:P13)","v":93},60,70,{"$f":"AVERAGE(R13:S13)","v":65},70,70,{"$f":"AVERAGE(U13:V13)","v":70},null,null,null,null,null,null,"TAMAMI",null,null,"Belge"]
[2,"AYŞE TAŞ","MUAF",null,null,80,90,{"$f":"AVERAGE(F14:G14)","v":85},60,50,{"$f":"AVERAGE(I14:J14)","v":55},90,96,93,60,70,65,70,70,{"$f":"AVERAGE(R14:S14)","v":70},80,90,{"$f":"AVERAGE(U14:V14)","v":85},null,null,null,null,null,null,"2,3,4,5,6,7",null,null,"Belge"]
[3,"CANAN BİLİR",80,90,{"$f":"AVERAGE(C15:D15)","v":85},60,50,{"$f":"AVERAGE(F15:G15)","v":55},90,96,{"$f":"AVERAGE(I15:J15)","v":93},60,70,65,70,70,70,"DEVAMSIZ",null,null,"DEVAMSIZ",null,null,null,null,null,null,null,null,"1,2,3,4,5",null,null,"Transkript"]
[4,"MEHMET TOPTAN","MUAF",null,null,"MUAF",null,null,"MUAF",null,null,70,70,70,80,90,85,60,50,{"$f":"AVERAGE(R16:S16)","v":55},90,96,{"$f":"AVERAGE(U16:V16)","v":93},null,null,null,null,null,null,"4,5,6,7",null,null,"Belge"]
[5,"ÖZLEM DEMİRCİ",90,95,{"$f":"AVERAGE(C17:D17)","v":92.5},60,70,{"$f":"AVERAGE(F17:G17)","v":65},70,70,{"$f":"AVERAGE(I17:J17)","v":70},80,90,85,60,50,55,90,96,{"$f":"AVERAGE(R17:S17)","v":93},60,70,{"$f":"AVERAGE(U17:V17)","v":65},null,null,null,null,null,null,"TAMAMI",null,null,"Belge"]
[6,"MUSTAFA CEYLAN",60,50,{"$f":"AVERAGE(C18:D18)","v":55},90,96,{"$f":"AVERAGE(F18:G18)","v":93},60,70,{"$f":"AVERAGE(I18:J18)","v":65},0,40,20,80,90,85,60,50,{"$f":"AVERAGE(R18:S18)","v":55},70,70,{"$f":"AVERAGE(U18:V18)","v":70},null,null,null,null,null,null,"1,2,3,  5,6,7",null,null,"Transkript"]
[7,"CEMİL BULUŞÇU",100,70,{"$f":"AVERAGE(C19:D19)","v":85},70,70,{"$f":"AVERAGE(F19:G19)","v":70},80,90,{"$f":"AVERAGE(I19:J19)","v":85},60,50,55,"DEVAMSIZ",null,null,60,70,{"$f":"AVERAGE(R19:S19)","v":65},70,70,{"$f":"AVERAGE(U19:V19)","v":70},null,null,null,null,null,null,"1,2,3,4,  6,7",null,null,"Transkript"]
[8]
[9]
[10]
[11]
[12]
[13]
[14]
[15]
[16]
[17]
[18]
[19]
[20]
[]
[]
["Açıklamalar: "]
[1,"Uy. Modül uygulama notu (Varsa) 100 üzerinden"]
[2,"Yaz. Modül yazılı notu (Varsa) 100 üzerinden"]
[3,"Ort: 100 üzerinden"]
[]
["Ders Öğretmeni",null,null,null,null,null,null,null,null,null,null,null,null,null,null,null,null,null,null,null,null,null,null,null,null,null,null,null,"Tastik olunur."]
["…………………………………..",null,null,null,null,null,null,null,null,null,null,null,null,null,null,null,null,null,null,null,null,null,null,null,null,null,null,null,"........../........../20….."]

{"sheet":"Modül S1","index":1,"n_rows":55,"n_cols":16,"rows_kept":55,"cut":false,"hidden":false,"merged":[[0,0,0,15],[1,3,1,15],[2,0,3,3],[2,4,2,13],[4,0,4,1],[4,2,4,3],[4,4,7,4],[4,5,7,5],[4,6,7,6],[4,7,7,7],[5,0,5,1],[5,2,5,3],[5,14,8,14],[5,15,8,15],[6,0,6,1],[6,2,6,3],[7,0,7,1],[7,2,7,3],[8,0,8,1],[8,2,8,3],[4,8,7,8],[4,9,7,9],[4,10,7,10],[4,11,7,11],[4,12,7,12],[4,13,7,13],[18,1,18,2],[8,4,8,12],[9,1,9,2],[9,14,9,15],[10,1,10,2],[11,1,11,2],[12,1,12,2],[13,1,13,2],[14,1,14,2],[15,1,15,2],[16,1,16,2],[17,1,17,2],[30,1,30,2],[19,1,19,2],[20,1,20,2],[21,1,21,2],[22,1,22,2],[23,1,23,2],[24,1,24,2],[25,1,25,2],[26,1,26,2],[27,1,27,2],[28,1,28,2],[29,1,29,2],[42,1,42,2],[31,1,31,2],[32,1,32,2],[33,1,33,2],[34,1,34,2],[35,1,35,2],[36,1,36,2],[37,1,37,2],[38,1,38,2],[39,1,39,2],[40,1,40,2],[41,1,41,2],[55,0,55,15],[43,1,43,2],[44,1,44,2],[45,1,45,2],[46,1,46,2],[47,1,47,2],[48,1,48,2],[49,1,49,2],[51,13,52,15],[53,0,54,12],[53,13,53,15],[54,13,54,15]]}
[]
[null,null,null,"MODÜL UYGULAMA SINAV DEĞERLENDİRME FORMU"]
[null,null,null,null,"UYGULAMA KRİTERLERİ"]
[null,null,null,null,1,2,3,4,5,6,7,8,9,10]
["KURS MERKEZİ: ",null,"Teomanpaşa Halk Eğitimi Merkezi",null,null,null,null,null,null,null,null,null,null,null,"YAZI İLE","RAKAM"]
["KURS ADI:",null,null,null,null,null,null,null,null,null,null,null,null,null,"YÜZ",100]
["KURS KODU:"]
["MODÜL ADI:"]
["MODÜL NO:",null,1,null,"NOT BAREMİ"]
["S.NO","T.C",null,"ADI VE SOYADI",null,null,null,null,null,null,null,null,null,null,"TOPLAM"]
[1,null,null,null,null,null,null,null,null,null,null,null,null,null,{"$f":"IF(P11=\"\",\"\",Sayıyı_Yazıya_Çevir(P11))","v":""},{"$f":"IF(E11=\"\",\"\",(IF(SUM(E11:N11)>100,\"<HATA>\",ROUND(SUM(E11:N11),0))))","v":""}]
[2,null,null,null,null,null,null,null,null,null,null,null,null,null,{"$f":"IF(P12=\"\",\"\",Sayıyı_Yazıya_Çevir(P12))","v":""},{"$f":"IF(E12=\"\",\"\",(IF(SUM(E12:N12)>100,\"<HATA>\",ROUND(SUM(E12:N12),0))))","v":""}]
[3,null,null,null,null,null,null,null,null,null,null,null,null,null,{"$f":"IF(P13=\"\",\"\",Sayıyı_Yazıya_Çevir(P13))","v":""},""]
[4,null,null,null,null,null,null,null,null,null,null,null,null,null,{"$f":"IF(P14=\"\",\"\",Sayıyı_Yazıya_Çevir(P14))","v":""},""]
[5,null,null,null,null,null,null,null,null,null,null,null,null,null,{"$f":"IF(P15=\"\",\"\",Sayıyı_Yazıya_Çevir(P15))","v":""},""]
[6,null,null,null,null,null,null,null,null,null,null,null,null,null,{"$f":"IF(P16=\"\",\"\",Sayıyı_Yazıya_Çevir(P16))","v":""},""]
[7,null,null,null,null,null,null,null,null,null,null,null,null,null,{"$f":"IF(P17=\"\",\"\",Sayıyı_Yazıya_Çevir(P17))","v":""},""]
[8,null,null,null,null,null,null,null,null,null,null,null,null,null,{"$f":"IF(P18=\"\",\"\",Sayıyı_Yazıya_Çevir(P18))","v":""},""]
[9,null,null,null,null,null,null,null,null,null,null,null,null,null,{"$f":"IF(P19=\"\",\"\",Sayıyı_Yazıya_Çevir(P19))","v":""},""]
[10,null,null,null,null,null,null,null,null,null,null,null,null,null,{"$f":"IF(P20=\"\",\"\",Sayıyı_Yazıya_Çevir(P20))","v":""},""]
[11,null,null,null,null,null,null,null,null,null,null,null,null,null,{"$f":"IF(P21=\"\",\"\",Sayıyı_Yazıya_Çevir(P21))","v":""},""]
[12,null,null,null,null,null,null,null,null,null,null,null,null,null,{"$f":"IF(P22=\"\",\"\",Sayıyı_Yazıya_Çevir(P22))","v":""},""]
[13,null,null,null,null,null,null,null,null,null,null,null,null,null,{"$f":"IF(P23=\"\",\"\",Sayıyı_Yazıya_Çevir(P23))","v":""},""]
[14,null,null,null,null,null,null,null,null,null,null,null,null,null,{"$f":"IF(P24=\"\",\"\",Sayıyı_Yazıya_Çevir(P24))","v":""},""]
[15,null,null,null,null,null,null,null,null,null,null,null,null,null,{"$f":"IF(P25=\"\",\"\",Sayıyı_Yazıya_Çevir(P25))","v":""},""]
[16,null,null,null,null,null,null,null,null,null,null,null,null,null,{"$f":"IF(P26=\"\",\"\",Sayıyı_Yazıya_Çevir(P26))","v":""},""]
[17,null,null,null,null,null,null,null,null,null,null,null,null,null,{"$f":"IF(P27=\"\",\"\",Sayıyı_Yazıya_Çevir(P27))","v":""},""]
[18,null,null,null,null,null,null,null,null,null,null,null,null,null,{"$f":"IF(P28=\"\",\"\",Sayıyı_Yazıya_Çevir(P28))","v":""},""]
[19,null,null,null,null,null,null,null,null,null,null,null,null,null,{"$f":"IF(P29=\"\",\"\",Sayıyı_Yazıya_Çevir(P29))","v":""},""]
[20,null,null,null,null,null,null,null,null,null,null,null,null,null,{"$f":"IF(P30=\"\",\"\",Sayıyı_Yazıya_Çevir(P30))","v":""},""]
[21,null,null,null,null,null,null,null,null,null,null,null,null,null,{"$f":"IF(P31=\"\",\"\",Sayıyı_Yazıya_Çevir(P31))","v":""},""]
[22,null,null,null,null,null,null,null,null,null,null,null,null,null,{"$f":"IF(P32=\"\",\"\",Sayıyı_Yazıya_Çevir(P32))","v":""},""]
[23,null,null,null,null,null,null,null,null,null,null,null,null,null,{"$f":"IF(P33=\"\",\"\",Sayıyı_Yazıya_Çevir(P33))","v":""},""]
[24,null,null,null,null,null,null,null,null,null,null,null,null,null,{"$f":"IF(P34=\"\",\"\",Sayıyı_Yazıya_Çevir(P34))","v":""},""]
[25,null,null,null,null,null,null,null,null,null,null,null,null,null,{"$f":"IF(P35=\"\",\"\",Sayıyı_Yazıya_Çevir(P35))","v":""},""]
[26,null,null,null,null,null,null,null,null,null,null,null,null,null,{"$f":"IF(P36=\"\",\"\",Sayıyı_Yazıya_Çevir(P36))","v":""},""]
[27,null,null,null,null,null,null,null,null,null,null,null,null,null,{"$f":"IF(P37=\"\",\"\",Sayıyı_Yazıya_Çevir(P37))","v":""},""]
[28,null,null,null,null,null,null,null,null,null,null,null,null,null,{"$f":"IF(P38=\"\",\"\",Sayıyı_Yazıya_Çevir(P38))","v":""},""]
[29,null,null,null,null,null,null,null,null,null,null,null,null,null,{"$f":"IF(P39=\"\",\"\",Sayıyı_Yazıya_Çevir(P39))","v":""},""]
[30,null,null,null,null,null,null,null,null,null,null,null,null,null,{"$f":"IF(P40=\"\",\"\",Sayıyı_Yazıya_Çevir(P40))","v":""},""]
[31,null,null,null,null,null,null,null,null,null,null,null,null,null,{"$f":"IF(P41=\"\",\"\",Sayıyı_Yazıya_Çevir(P41))","v":""},""]
[32,null,null,null,null,null,null,null,null,null,null,null,null,null,{"$f":"IF(P42=\"\",\"\",Sayıyı_Yazıya_Çevir(P42))","v":""},""]
[33,null,null,null,null,null,null,null,null,null,null,null,null,null,{"$f":"IF(P43=\"\",\"\",Sayıyı_Yazıya_Çevir(P43))","v":""},""]
[34,null,null,null,null,null,null,null,null,null,null,null,null,null,{"$f":"IF(P44=\"\",\"\",Sayıyı_Yazıya_Çevir(P44))","v":""},""]
[35,null,null,null,null,null,null,null,null,null,null,null,null,null,{"$f":"IF(P45=\"\",\"\",Sayıyı_Yazıya_Çevir(P45))","v":""},""]
[36,null,null,null,null,null,null,null,null,null,null,null,null,null,{"$f":"IF(P46=\"\",\"\",Sayıyı_Yazıya_Çevir(P46))","v":""},""]
[37,null,null,null,null,null,null,null,null,null,null,null,null,null,{"$f":"IF(P47=\"\",\"\",Sayıyı_Yazıya_Çevir(P47))","v":""},""]
[38,null,null,null,null,null,null,null,null,null,null,null,null,null,{"$f":"IF(P48=\"\",\"\",Sayıyı_Yazıya_Çevir(P48))","v":""},""]
[39,null,null,null,null,null,null,null,null,null,null,null,null,null,{"$f":"IF(P49=\"\",\"\",Sayıyı_Yazıya_Çevir(P49))","v":""},""]
[40,null,null,null,null,null,null,null,null,null,null,null,null,null,{"$f":"IF(P50=\"\",\"\",Sayıyı_Yazıya_Çevir(P50))","v":""},""]
["Not: E yaygında kayıtlı bütün kursiyerler not fişine kaydedilecektir."]
[null,null,null,null,null,null,null,null,null,null,null,null,null,"ÖĞRETMEN ADI SOYADI"]
[]
[null,null,null,null,null,null,null,null,null,null,null,null,null,"………………………………"]
[null,null,null,null,null,null,null,null,null,null,null,null,null,"İMZA"]

{"sheet":"MS2","index":2,"n_rows":55,"n_cols":16,"rows_kept":55,"cut":false,"hidden":false,"merged":[[51,13,52,15],[53,0,54,12],[55,0,55,15],[44,1,44,2],[45,1,45,2],[46,1,46,2],[47,1,47,2],[49,1,49,2],[53,13,53,15],[54,13,54,15],[48,1,48,2],[42,1,42,2],[43,1,43,2],[21,1,21,2],[22,1,22,2],[23,1,23,2],[24,1,24,2],[37,1,37,2],[18,1,18,2],[19,1,19,2],[20,1,20,2],[30,1,30,2],[41,1,41,2],[38,1,38,2],[39,1,39,2],[40,1,40,2],[36,1,36,2],[13,1,13,2],[14,1,14,2],[15,1,15,2],[16,1,16,2],[17,1,17,2],[9,1,9,2],[9,14,9,15],[10,1,10,2],[11,1,11,2],[12,1,12,2],[7,2,7,3],[8,0,8,1],[8,2,8,3],[8,4,8,12],[4,9,7,9],[0,0,0,15],[2,0,3,3],[2,4,2,13],[4,0,4,1],[4,2,4,3],[4,4,7,4],[4,5,7,5],[4,6,7,6],[4,7,7,7],[4,8,7,8],[4,10,7,10],[4,11,7,11],[4,12,7,12],[4,13,7,13],[5,0,5,1],[5,2,5,3],[1,3,1,15],[32,1,32,2],[33,1,33,2],[34,1,34,2],[35,1,35,2],[25,1,25,2],[26,1,26,2],[27,1,27,2],[28,1,28,2],[29,1,29,2],[31,1,31,2],[5,14,8,14],[5,15,8,15],[6,0,6,1],[6,2,6,3],[7,0,7,1]]}
[]
[null,null,null,"MODÜL UYGULAMA SINAV DEĞERLENDİRME FORMU"]
[null,null,null,null,"UYGULAMA KRİTERLERİ"]
[null,null,null,null,1,2,3,4,5,6,7,8,9,10]
["KURS MERKEZİ: ",null,"Teomanpaşa Halk Eğitimi Merkezi",null,null,null,null,null,null,null,null,null,null,null,"YAZI İLE","RAKAM"]
["KURS ADI:",null,{"$f":"'Modül S1'!C6:D6","v":0},null,null,null,null,null,null,null,null,null,null,null,"YÜZ",100]
["KURS KODU:",null,{"$f":"'Modül S1'!C7:D7","v":0}]
["MODÜL ADI:"]
["MODÜL NO:",null,2,null,"NOT BAREMİ"]
["S.NO","T.C",null,"ADI VE SOYADI",null,null,null,null,null,null,null,null,null,null,"TOPLAM"]
[1,{"$f":"IF('Modül S1'!B11:C11=\"\",\"\",'Modül S1'!B11:C11)","v":""},null,{"$f":"IF('Modül S1'!D11=\"\",\"\",'Modül S1'!D11)","v":""},null,null,null,null,null,null,null,null,null,null,{"$f":"IF(P11=\"\",\"\",Sayıyı_Yazıya_Çevir(P11))","v":""},{"$f":"IF(E11=\"\",\"\",(IF(SUM(E11:N11)>100,\"<HATA>\",ROUND(SUM(E11:N11),0))))","v":""}]
[2,{"$f":"IF('Modül S1'!B12:C12=\"\",\"\",'Modül S1'!B12:C12)","v":""},null,{"$f":"IF('Modül S1'!D12=\"\",\"\",'Modül S1'!D12)","v":""},null,null,null,null,null,null,null,null,null,null,{"$f":"IF(P12=\"\",\"\",Sayıyı_Yazıya_Çevir(P12))","v":""},{"$f":"IF(E12=\"\",\"\",(IF(SUM(E12:N12)>100,\"<HATA>\",ROUND(SUM(E12:N12),0))))","v":""}]
[3,{"$f":"IF('Modül S1'!B13:C13=\"\",\"\",'Modül S1'!B13:C13)","v":""},null,{"$f":"IF('Modül S1'!D13=\"\",\"\",'Modül S1'!D13)","v":""},null,null,null,null,null,null,null,null,null,null,{"$f":"IF(P13=\"\",\"\",Sayıyı_Yazıya_Çevir(P13))","v":""},""]
[4,{"$f":"IF('Modül S1'!B14:C14=\"\",\"\",'Modül S1'!B14:C14)","v":""},null,{"$f":"IF('Modül S1'!D14=\"\",\"\",'Modül S1'!D14)","v":""},null,null,null,null,null,null,null,null,null,null,{"$f":"IF(P14=\"\",\"\",Sayıyı_Yazıya_Çevir(P14))","v":""},""]
[5,{"$f":"IF('Modül S1'!B15:C15=\"\",\"\",'Modül S1'!B15:C15)","v":""},null,{"$f":"IF('Modül S1'!D15=\"\",\"\",'Modül S1'!D15)","v":""},null,null,null,null,null,null,null,null,null,null,{"$f":"IF(P15=\"\",\"\",Sayıyı_Yazıya_Çevir(P15))","v":""},""]
[6,{"$f":"IF('Modül S1'!B16:C16=\"\",\"\",'Modül S1'!B16:C16)","v":""},null,{"$f":"IF('Modül S1'!D16=\"\",\"\",'Modül S1'!D16)","v":""},null,null,null,null,null,null,null,null,null,null,{"$f":"IF(P16=\"\",\"\",Sayıyı_Yazıya_Çevir(P16))","v":""},""]
[7,{"$f":"IF('Modül S1'!B17:C17=\"\",\"\",'Modül S1'!B17:C17)","v":""},null,{"$f":"IF('Modül S1'!D17=\"\",\"\",'Modül S1'!D17)","v":""},null,null,null,null,null,null,null,null,null,null,{"$f":"IF(P17=\"\",\"\",Sayıyı_Yazıya_Çevir(P17))","v":""},""]
[8,{"$f":"IF('Modül S1'!B18:C18=\"\",\"\",'Modül S1'!B18:C18)","v":""},null,{"$f":"IF('Modül S1'!D18=\"\",\"\",'Modül S1'!D18)","v":""},null,null,null,null,null,null,null,null,null,null,{"$f":"IF(P18=\"\",\"\",Sayıyı_Yazıya_Çevir(P18))","v":""},""]
[9,{"$f":"IF('Modül S1'!B19:C19=\"\",\"\",'Modül S1'!B19:C19)","v":""},null,{"$f":"IF('Modül S1'!D19=\"\",\"\",'Modül S1'!D19)","v":""},null,null,null,null,null,null,null,null,null,null,{"$f":"IF(P19=\"\",\"\",Sayıyı_Yazıya_Çevir(P19))","v":""},""]
[10,{"$f":"IF('Modül S1'!B20:C20=\"\",\"\",'Modül S1'!B20:C20)","v":""},null,{"$f":"IF('Modül S1'!D20=\"\",\"\",'Modül S1'!D20)","v":""},null,null,null,null,null,null,null,null,null,null,{"$f":"IF(P20=\"\",\"\",Sayıyı_Yazıya_Çevir(P20))","v":""},""]
[11,{"$f":"IF('Modül S1'!B21:C21=\"\",\"\",'Modül S1'!B21:C21)","v":""},null,{"$f":"IF('Modül S1'!D21=\"\",\"\",'Modül S1'!D21)","v":""},null,null,null,null,null,null,null,null,null,null,{"$f":"IF(P21=\"\",\"\",Sayıyı_Yazıya_Çevir(P21))","v":""},""]
[12,{"$f":"IF('Modül S1'!B22:C22=\"\",\"\",'Modül S1'!B22:C22)","v":""},null,{"$f":"IF('Modül S1'!D22=\"\",\"\",'Modül S1'!D22)","v":""},null,null,null,null,null,null,null,null,null,null,{"$f":"IF(P22=\"\",\"\",Sayıyı_Yazıya_Çevir(P22))","v":""},""]
[13,{"$f":"IF('Modül S1'!B23:C23=\"\",\"\",'Modül S1'!B23:C23)","v":""},null,{"$f":"IF('Modül S1'!D23=\"\",\"\",'Modül S1'!D23)","v":""},null,null,null,null,null,null,null,null,null,null,{"$f":"IF(P23=\"\",\"\",Sayıyı_Yazıya_Çevir(P23))","v":""},""]
[14,{"$f":"IF('Modül S1'!B24:C24=\"\",\"\",'Modül S1'!B24:C24)","v":""},null,{"$f":"IF('Modül S1'!D24=\"\",\"\",'Modül S1'!D24)","v":""},null,null,null,null,null,null,null,null,null,null,{"$f":"IF(P24=\"\",\"\",Sayıyı_Yazıya_Çevir(P24))","v":""},""]
[15,{"$f":"IF('Modül S1'!B25:C25=\"\",\"\",'Modül S1'!B25:C25)","v":""},null,{"$f":"IF('Modül S1'!D25=\"\",\"\",'Modül S1'!D25)","v":""},null,null,null,null,null,null,null,null,null,null,{"$f":"IF(P25=\"\",\"\",Sayıyı_Yazıya_Çevir(P25))","v":""},""]
[16,{"$f":"IF('Modül S1'!B26:C26=\"\",\"\",'Modül S1'!B26:C26)","v":""},null,{"$f":"IF('Modül S1'!D26=\"\",\"\",'Modül S1'!D26)","v":""},null,null,null,null,null,null,null,null,null,null,{"$f":"IF(P26=\"\",\"\",Sayıyı_Yazıya_Çevir(P26))","v":""},""]
[17,{"$f":"IF('Modül S1'!B27:C27=\"\",\"\",'Modül S1'!B27:C27)","v":""},null,{"$f":"IF('Modül S1'!D27=\"\",\"\",'Modül S1'!D27)","v":""},null,null,null,null,null,null,null,null,null,null,{"$f":"IF(P27=\"\",\"\",Sayıyı_Yazıya_Çevir(P27))","v":""},""]
[18,{"$f":"IF('Modül S1'!B28:C28=\"\",\"\",'Modül S1'!B28:C28)","v":""},null,{"$f":"IF('Modül S1'!D28=\"\",\"\",'Modül S1'!D28)","v":""},null,null,null,null,null,null,null,null,null,null,{"$f":"IF(P28=\"\",\"\",Sayıyı_Yazıya_Çevir(P28))","v":""},""]
[19,{"$f":"IF('Modül S1'!B29:C29=\"\",\"\",'Modül S1'!B29:C29)","v":""},null,{"$f":"IF('Modül S1'!D29=\"\",\"\",'Modül S1'!D29)","v":""},null,null,null,null,null,null,null,null,null,null,{"$f":"IF(P29=\"\",\"\",Sayıyı_Yazıya_Çevir(P29))","v":""},""]
[20,{"$f":"IF('Modül S1'!B30:C30=\"\",\"\",'Modül S1'!B30:C30)","v":""},null,{"$f":"IF('Modül S1'!D30=\"\",\"\",'Modül S1'!D30)","v":""},null,null,null,null,null,null,null,null,null,null,{"$f":"IF(P30=\"\",\"\",Sayıyı_Yazıya_Çevir(P30))","v":""},""]
[21,{"$f":"IF('Modül S1'!B31:C31=\"\",\"\",'Modül S1'!B31:C31)","v":""},null,{"$f":"IF('Modül S1'!D31=\"\",\"\",'Modül S1'!D31)","v":""},null,null,null,null,null,null,null,null,null,null,{"$f":"IF(P31=\"\",\"\",Sayıyı_Yazıya_Çevir(P31))","v":""},""]
[22,{"$f":"IF('Modül S1'!B32:C32=\"\",\"\",'Modül S1'!B32:C32)","v":""},null,{"$f":"IF('Modül S1'!D32=\"\",\"\",'Modül S1'!D32)","v":""},null,null,null,null,null,null,null,null,null,null,{"$f":"IF(P32=\"\",\"\",Sayıyı_Yazıya_Çevir(P32))","v":""},""]
[23,{"$f":"IF('Modül S1'!B33:C33=\"\",\"\",'Modül S1'!B33:C33)","v":""},null,{"$f":"IF('Modül S1'!D33=\"\",\"\",'Modül S1'!D33)","v":""},null,null,null,null,null,null,null,null,null,null,{"$f":"IF(P33=\"\",\"\",Sayıyı_Yazıya_Çevir(P33))","v":""},""]
[24,{"$f":"IF('Modül S1'!B34:C34=\"\",\"\",'Modül S1'!B34:C34)","v":""},null,{"$f":"IF('Modül S1'!D34=\"\",\"\",'Modül S1'!D34)","v":""},null,null,null,null,null,null,null,null,null,null,{"$f":"IF(P34=\"\",\"\",Sayıyı_Yazıya_Çevir(P34))","v":""},""]
[25,{"$f":"IF('Modül S1'!B35:C35=\"\",\"\",'Modül S1'!B35:C35)","v":""},null,{"$f":"IF('Modül S1'!D35=\"\",\"\",'Modül S1'!D35)","v":""},null,null,null,null,null,null,null,null,null,null,{"$f":"IF(P35=\"\",\"\",Sayıyı_Yazıya_Çevir(P35))","v":""},""]
[26,{"$f":"IF('Modül S1'!B36:C36=\"\",\"\",'Modül S1'!B36:C36)","v":""},null,{"$f":"IF('Modül S1'!D36=\"\",\"\",'Modül S1'!D36)","v":""},null,null,null,null,null,null,null,null,null,null,{"$f":"IF(P36=\"\",\"\",Sayıyı_Yazıya_Çevir(P36))","v":""},""]
[27,{"$f":"IF('Modül S1'!B37:C37=\"\",\"\",'Modül S1'!B37:C37)","v":""},null,{"$f":"IF('Modül S1'!D37=\"\",\"\",'Modül S1'!D37)","v":""},null,null,null,null,null,null,null,null,null,null,{"$f":"IF(P37=\"\",\"\",Sayıyı_Yazıya_Çevir(P37))","v":""},""]
[28,{"$f":"IF('Modül S1'!B38:C38=\"\",\"\",'Modül S1'!B38:C38)","v":""},null,{"$f":"IF('Modül S1'!D38=\"\",\"\",'Modül S1'!D38)","v":""},null,null,null,null,null,null,null,null,null,null,{"$f":"IF(P38=\"\",\"\",Sayıyı_Yazıya_Çevir(P38))","v":""},""]
[29,{"$f":"IF('Modül S1'!B39:C39=\"\",\"\",'Modül S1'!B39:C39)","v":""},null,{"$f":"IF('Modül S1'!D39=\"\",\"\",'Modül S1'!D39)","v":""},null,null,null,null,null,null,null,null,null,null,{"$f":"IF(P39=\"\",\"\",Sayıyı_Yazıya_Çevir(P39))","v":""},""]
[30,{"$f":"IF('Modül S1'!B40:C40=\"\",\"\",'Modül S1'!B40:C40)","v":""},null,{"$f":"IF('Modül S1'!D40=\"\",\"\",'Modül S1'!D40)","v":""},null,null,null,null,null,null,null,null,null,null,{"$f":"IF(P40=\"\",\"\",Sayıyı_Yazıya_Çevir(P40))","v":""},""]
[31,{"$f":"IF('Modül S1'!B41:C41=\"\",\"\",'Modül S1'!B41:C41)","v":""},null,{"$f":"IF('Modül S1'!D41=\"\",\"\",'Modül S1'!D41)","v":""},null,null,null,null,null,null,null,null,null,null,{"$f":"IF(P41=\"\",\"\",Sayıyı_Yazıya_Çevir(P41))","v":""},""]
[32,{"$f":"IF('Modül S1'!B42:C42=\"\",\"\",'Modül S1'!B42:C42)","v":""},null,{"$f":"IF('Modül S1'!D42=\"\",\"\",'Modül S1'!D42)","v":""},null,null,null,null,null,null,null,null,null,null,{"$f":"IF(P42=\"\",\"\",Sayıyı_Yazıya_Çevir(P42))","v":""},""]
[33,{"$f":"IF('Modül S1'!B43:C43=\"\",\"\",'Modül S1'!B43:C43)","v":""},null,{"$f":"IF('Modül S1'!D43=\"\",\"\",'Modül S1'!D43)","v":""},null,null,null,null,null,null,null,null,null,null,{"$f":"IF(P43=\"\",\"\",Sayıyı_Yazıya_Çevir(P43))","v":""},""]
[34,{"$f":"IF('Modül S1'!B44:C44=\"\",\"\",'Modül S1'!B44:C44)","v":""},null,{"$f":"IF('Modül S1'!D44=\"\",\"\",'Modül S1'!D44)","v":""},null,null,null,null,null,null,null,null,null,null,{"$f":"IF(P44=\"\",\"\",Sayıyı_Yazıya_Çevir(P44))","v":""},""]
[35,{"$f":"IF('Modül S1'!B45:C45=\"\",\"\",'Modül S1'!B45:C45)","v":""},null,{"$f":"IF('Modül S1'!D45=\"\",\"\",'Modül S1'!D45)","v":""},null,null,null,null,null,null,null,null,null,null,{"$f":"IF(P45=\"\",\"\",Sayıyı_Yazıya_Çevir(P45))","v":""},""]
[36,{"$f":"IF('Modül S1'!B46:C46=\"\",\"\",'Modül S1'!B46:C46)","v":""},null,{"$f":"IF('Modül S1'!D46=\"\",\"\",'Modül S1'!D46)","v":""},null,null,null,null,null,null,null,null,null,null,{"$f":"IF(P46=\"\",\"\",Sayıyı_Yazıya_Çevir(P46))","v":""},""]
[37,{"$f":"IF('Modül S1'!B47:C47=\"\",\"\",'Modül S1'!B47:C47)","v":""},null,{"$f":"IF('Modül S1'!D47=\"\",\"\",'Modül S1'!D47)","v":""},null,null,null,null,null,null,null,null,null,null,{"$f":"IF(P47=\"\",\"\",Sayıyı_Yazıya_Çevir(P47))","v":""},""]
[38,{"$f":"IF('Modül S1'!B48:C48=\"\",\"\",'Modül S1'!B48:C48)","v":""},null,{"$f":"IF('Modül S1'!D48=\"\",\"\",'Modül S1'!D48)","v":""},null,null,null,null,null,null,null,null,null,null,{"$f":"IF(P48=\"\",\"\",Sayıyı_Yazıya_Çevir(P48))","v":""},""]
[39,{"$f":"IF('Modül S1'!B49:C49=\"\",\"\",'Modül S1'!B49:C49)","v":""},null,{"$f":"IF('Modül S1'!D49=\"\",\"\",'Modül S1'!D49)","v":""},null,null,null,null,null,null,null,null,null,null,{"$f":"IF(P49=\"\",\"\",Sayıyı_Yazıya_Çevir(P49))","v":""},""]
[40,{"$f":"IF('Modül S1'!B50:C50=\"\",\"\",'Modül S1'!B50:C50)","v":""},null,{"$f":"IF('Modül S1'!D50=\"\",\"\",'Modül S1'!D50)","v":""},null,null,null,null,null,null,null,null,null,null,{"$f":"IF(P50=\"\",\"\",Sayıyı_Yazıya_Çevir(P50))","v":""},""]
["Not: E yaygında kayıtlı bütün kursiyerler not fişine kaydedilecektir."]
[null,null,null,null,null,null,null,null,null,null,null,null,null,"ÖĞRETMEN ADI SOYADI"]
[]
[null,null,null,null,null,null,null,null,null,null,null,null,null,{"$f":"'Modül S1'!N54:P54","v":"………………………………"}]
[null,null,null,null,null,null,null,null,null,null,null,null,null,"İMZA"]

{"sheet":"MS3","index":3,"n_rows":55,"n_cols":16,"rows_kept":55,"cut":false,"hidden":false,"merged":[[0,0,0,15],[1,3,1,15],[2,0,3,3],[2,4,2,13],[4,0,4,1],[4,2,4,3],[4,4,7,4],[4,5,7,5],[4,6,7,6],[4,7,7,7],[5,0,5,1],[5,2,5,3],[5,14,8,14],[5,15,8,15],[6,0,6,1],[6,2,6,3],[7,0,7,1],[7,2,7,3],[8,0,8,1],[8,2,8,3],[4,8,7,8],[4,9,7,9],[4,10,7,10],[4,11,7,11],[4,12,7,12],[4,13,7,13],[18,1,18,2],[8,4,8,12],[9,1,9,2],[9,14,9,15],[10,1,10,2],[11,1,11,2],[12,1,12,2],[13,1,13,2],[14,1,14,2],[15,1,15,2],[16,1,16,2],[17,1,17,2],[30,1,30,2],[19,1,19,2],[20,1,20,2],[21,1,21,2],[22,1,22,2],[23,1,23,2],[24,1,24,2],[25,1,25,2],[26,1,26,2],[27,1,27,2],[28,1,28,2],[29,1,29,2],[42,1,42,2],[31,1,31,2],[32,1,32,2],[33,1,33,2],[34,1,34,2],[35,1,35,2],[36,1,36,2],[37,1,37,2],[38,1,38,2],[39,1,39,2],[40,1,40,2],[41,1,41,2],[55,0,55,15],[43,1,43,2],[44,1,44,2],[45,1,45,2],[46,1,46,2],[47,1,47,2],[48,1,48,2],[49,1,49,2],[51,13,52,15],[53,0,54,12],[53,13,53,15],[54,13,54,15]]}
[]
[null,null,null,"MODÜL UYGULAMA SINAV DEĞERLENDİRME FORMU"]
[null,null,null,null,"UYGULAMA KRİTERLERİ"]
[null,null,null,null,1,2,3,4,5,6,7,8,9,10]
["KURS MERKEZİ: ",null,"Teomanpaşa Halk Eğitimi Merkezi",null,null,null,null,null,null,null,null,null,null,null,"YAZI İLE","RAKAM"]
["KURS ADI:",null,{"$f":"'Modül S1'!C6:D6","v":0},null,null,null,null,null,null,null,null,null,null,null,"YÜZ",100]
["KURS KODU:",null,{"$f":"'Modül S1'!C7:D7","v":0}]
["MODÜL ADI:"]
["MODÜL NO:",null,3,null,"NOT BAREMİ"]
["S.NO","T.C",null,"ADI VE SOYADI",null,null,null,null,null,null,null,null,null,null,"TOPLAM"]
[1,{"$f":"IF('Modül S1'!B11:C11=\"\",\"\",'Modül S1'!B11:C11)","v":""},null,{"$f":"IF('Modül S1'!D11=\"\",\"\",'Modül S1'!D11)","v":""},null,null,null,null,null,null,null,null,null,null,{"$f":"IF(P11=\"\",\"\",Sayıyı_Yazıya_Çevir(P11))","v":""},{"$f":"IF(E11=\"\",\"\",(IF(SUM(E11:N11)>100,\"<HATA>\",ROUND(SUM(E11:N11),0))))","v":""}]
[2,{"$f":"IF('Modül S1'!B12:C12=\"\",\"\",'Modül S1'!B12:C12)","v":""},null,{"$f":"IF('Modül S1'!D12=\"\",\"\",'Modül S1'!D12)","v":""},null,null,null,null,null,null,null,null,null,null,{"$f":"IF(P12=\"\",\"\",Sayıyı_Yazıya_Çevir(P12))","v":""},{"$f":"IF(E12=\"\",\"\",(IF(SUM(E12:N12)>100,\"<HATA>\",ROUND(SUM(E12:N12),0))))","v":""}]
[3,{"$f":"IF('Modül S1'!B13:C13=\"\",\"\",'Modül S1'!B13:C13)","v":""},null,{"$f":"IF('Modül S1'!D13=\"\",\"\",'Modül S1'!D13)","v":""},null,null,null,null,null,null,null,null,null,null,{"$f":"IF(P13=\"\",\"\",Sayıyı_Yazıya_Çevir(P13))","v":""},""]
[4,{"$f":"IF('Modül S1'!B14:C14=\"\",\"\",'Modül S1'!B14:C14)","v":""},null,{"$f":"IF('Modül S1'!D14=\"\",\"\",'Modül S1'!D14)","v":""},null,null,null,null,null,null,null,null,null,null,{"$f":"IF(P14=\"\",\"\",Sayıyı_Yazıya_Çevir(P14))","v":""},""]
[5,{"$f":"IF('Modül S1'!B15:C15=\"\",\"\",'Modül S1'!B15:C15)","v":""},null,{"$f":"IF('Modül S1'!D15=\"\",\"\",'Modül S1'!D15)","v":""},null,null,null,null,null,null,null,null,null,null,{"$f":"IF(P15=\"\",\"\",Sayıyı_Yazıya_Çevir(P15))","v":""},""]
[6,{"$f":"IF('Modül S1'!B16:C16=\"\",\"\",'Modül S1'!B16:C16)","v":""},null,{"$f":"IF('Modül S1'!D16=\"\",\"\",'Modül S1'!D16)","v":""},null,null,null,null,null,null,null,null,null,null,{"$f":"IF(P16=\"\",\"\",Sayıyı_Yazıya_Çevir(P16))","v":""},""]
[7,{"$f":"IF('Modül S1'!B17:C17=\"\",\"\",'Modül S1'!B17:C17)","v":""},null,{"$f":"IF('Modül S1'!D17=\"\",\"\",'Modül S1'!D17)","v":""},null,null,null,null,null,null,null,null,null,null,{"$f":"IF(P17=\"\",\"\",Sayıyı_Yazıya_Çevir(P17))","v":""},""]
[8,{"$f":"IF('Modül S1'!B18:C18=\"\",\"\",'Modül S1'!B18:C18)","v":""},null,{"$f":"IF('Modül S1'!D18=\"\",\"\",'Modül S1'!D18)","v":""},null,null,null,null,null,null,null,null,null,null,{"$f":"IF(P18=\"\",\"\",Sayıyı_Yazıya_Çevir(P18))","v":""},""]
[9,{"$f":"IF('Modül S1'!B19:C19=\"\",\"\",'Modül S1'!B19:C19)","v":""},null,{"$f":"IF('Modül S1'!D19=\"\",\"\",'Modül S1'!D19)","v":""},null,null,null,null,null,null,null,null,null,null,{"$f":"IF(P19=\"\",\"\",Sayıyı_Yazıya_Çevir(P19))","v":""},""]
[10,{"$f":"IF('Modül S1'!B20:C20=\"\",\"\",'Modül S1'!B20:C20)","v":""},null,{"$f":"IF('Modül S1'!D20=\"\",\"\",'Modül S1'!D20)","v":""},null,null,null,null,null,null,null,null,null,null,{"$f":"IF(P20=\"\",\"\",Sayıyı_Yazıya_Çevir(P20))","v":""},""]
[11,{"$f":"IF('Modül S1'!B21:C21=\"\",\"\",'Modül S1'!B21:C21)","v":""},null,{"$f":"IF('Modül S1'!D21=\"\",\"\",'Modül S1'!D21)","v":""},null,null,null,null,null,null,null,null,null,null,{"$f":"IF(P21=\"\",\"\",Sayıyı_Yazıya_Çevir(P21))","v":""},""]
[12,{"$f":"IF('Modül S1'!B22:C22=\"\",\"\",'Modül S1'!B22:C22)","v":""},null,{"$f":"IF('Modül S1'!D22=\"\",\"\",'Modül S1'!D22)","v":""},null,null,null,null,null,null,null,null,null,null,{"$f":"IF(P22=\"\",\"\",Sayıyı_Yazıya_Çevir(P22))","v":""},""]
[13,{"$f":"IF('Modül S1'!B23:C23=\"\",\"\",'Modül S1'!B23:C23)","v":""},null,{"$f":"IF('Modül S1'!D23=\"\",\"\",'Modül S1'!D23)","v":""},null,null,null,null,null,null,null,null,null,null,{"$f":"IF(P23=\"\",\"\",Sayıyı_Yazıya_Çevir(P23))","v":""},""]
[14,{"$f":"IF('Modül S1'!B24:C24=\"\",\"\",'Modül S1'!B24:C24)","v":""},null,{"$f":"IF('Modül S1'!D24=\"\",\"\",'Modül S1'!D24)","v":""},null,null,null,null,null,null,null,null,null,null,{"$f":"IF(P24=\"\",\"\",Sayıyı_Yazıya_Çevir(P24))","v":""},""]
[15,{"$f":"IF('Modül S1'!B25:C25=\"\",\"\",'Modül S1'!B25:C25)","v":""},null,{"$f":"IF('Modül S1'!D25=\"\",\"\",'Modül S1'!D25)","v":""},null,null,null,null,null,null,null,null,null,null,{"$f":"IF(P25=\"\",\"\",Sayıyı_Yazıya_Çevir(P25))","v":""},""]
[16,{"$f":"IF('Modül S1'!B26:C26=\"\",\"\",'Modül S1'!B26:C26)","v":""},null,{"$f":"IF('Modül S1'!D26=\"\",\"\",'Modül S1'!D26)","v":""},null,null,null,null,null,null,null,null,null,null,{"$f":"IF(P26=\"\",\"\",Sayıyı_Yazıya_Çevir(P26))","v":""},""]
[17,{"$f":"IF('Modül S1'!B27:C27=\"\",\"\",'Modül S1'!B27:C27)","v":""},null,{"$f":"IF('Modül S1'!D27=\"\",\"\",'Modül S1'!D27)","v":""},null,null,null,null,null,null,null,null,null,null,{"$f":"IF(P27=\"\",\"\",Sayıyı_Yazıya_Çevir(P27))","v":""},""]
[18,{"$f":"IF('Modül S1'!B28:C28=\"\",\"\",'Modül S1'!B28:C28)","v":""},null,{"$f":"IF('Modül S1'!D28=\"\",\"\",'Modül S1'!D28)","v":""},null,null,null,null,null,null,null,null,null,null,{"$f":"IF(P28=\"\",\"\",Sayıyı_Yazıya_Çevir(P28))","v":""},""]
[19,{"$f":"IF('Modül S1'!B29:C29=\"\",\"\",'Modül S1'!B29:C29)","v":""},null,{"$f":"IF('Modül S1'!D29=\"\",\"\",'Modül S1'!D29)","v":""},null,null,null,null,null,null,null,null,null,null,{"$f":"IF(P29=\"\",\"\",Sayıyı_Yazıya_Çevir(P29))","v":""},""]
[20,{"$f":"IF('Modül S1'!B30:C30=\"\",\"\",'Modül S1'!B30:C30)","v":""},null,{"$f":"IF('Modül S1'!D30=\"\",\"\",'Modül S1'!D30)","v":""},null,null,null,null,null,null,null,null,null,null,{"$f":"IF(P30=\"\",\"\",Sayıyı_Yazıya_Çevir(P30))","v":""},""]
[21,{"$f":"IF('Modül S1'!B31:C31=\"\",\"\",'Modül S1'!B31:C31)","v":""},null,{"$f":"IF('Modül S1'!D31=\"\",\"\",'Modül S1'!D31)","v":""},null,null,null,null,null,null,null,null,null,null,{"$f":"IF(P31=\"\",\"\",Sayıyı_Yazıya_Çevir(P31))","v":""},""]
[22,{"$f":"IF('Modül S1'!B32:C32=\"\",\"\",'Modül S1'!B32:C32)","v":""},null,{"$f":"IF('Modül S1'!D32=\"\",\"\",'Modül S1'!D32)","v":""},null,null,null,null,null,null,null,null,null,null,{"$f":"IF(P32=\"\",\"\",Sayıyı_Yazıya_Çevir(P32))","v":""},""]
[23,{"$f":"IF('Modül S1'!B33:C33=\"\",\"\",'Modül S1'!B33:C33)","v":""},null,{"$f":"IF('Modül S1'!D33=\"\",\"\",'Modül S1'!D33)","v":""},null,null,null,null,null,null,null,null,null,null,{"$f":"IF(P33=\"\",\"\",Sayıyı_Yazıya_Çevir(P33))","v":""},""]
[24,{"$f":"IF('Modül S1'!B34:C34=\"\",\"\",'Modül S1'!B34:C34)","v":""},null,{"$f":"IF('Modül S1'!D34=\"\",\"\",'Modül S1'!D34)","v":""},null,null,null,null,null,null,null,null,null,null,{"$f":"IF(P34=\"\",\"\",Sayıyı_Yazıya_Çevir(P34))","v":""},""]
[25,{"$f":"IF('Modül S1'!B35:C35=\"\",\"\",'Modül S1'!B35:C35)","v":""},null,{"$f":"IF('Modül S1'!D35=\"\",\"\",'Modül S1'!D35)","v":""},null,null,null,null,null,null,null,null,null,null,{"$f":"IF(P35=\"\",\"\",Sayıyı_Yazıya_Çevir(P35))","v":""},""]
[26,{"$f":"IF('Modül S1'!B36:C36=\"\",\"\",'Modül S1'!B36:C36)","v":""},null,{"$f":"IF('Modül S1'!D36=\"\",\"\",'Modül S1'!D36)","v":""},null,null,null,null,null,null,null,null,null,null,{"$f":"IF(P36=\"\",\"\",Sayıyı_Yazıya_Çevir(P36))","v":""},""]
[27,{"$f":"IF('Modül S1'!B37:C37=\"\",\"\",'Modül S1'!B37:C37)","v":""},null,{"$f":"IF('Modül S1'!D37=\"\",\"\",'Modül S1'!D37)","v":""},null,null,null,null,null,null,null,null,null,null,{"$f":"IF(P37=\"\",\"\",Sayıyı_Yazıya_Çevir(P37))","v":""},""]
[28,{"$f":"IF('Modül S1'!B38:C38=\"\",\"\",'Modül S1'!B38:C38)","v":""},null,{"$f":"IF('Modül S1'!D38=\"\",\"\",'Modül S1'!D38)","v":""},null,null,null,null,null,null,null,null,null,null,{"$f":"IF(P38=\"\",\"\",Sayıyı_Yazıya_Çevir(P38))","v":""},""]
[29,{"$f":"IF('Modül S1'!B39:C39=\"\",\"\",'Modül S1'!B39:C39)","v":""},null,{"$f":"IF('Modül S1'!D39=\"\",\"\",'Modül S1'!D39)","v":""},null,null,null,null,null,null,null,null,null,null,{"$f":"IF(P39=\"\",\"\",Sayıyı_Yazıya_Çevir(P39))","v":""},""]
[30,{"$f":"IF('Modül S1'!B40:C40=\"\",\"\",'Modül S1'!B40:C40)","v":""},null,{"$f":"IF('Modül S1'!D40=\"\",\"\",'Modül S1'!D40)","v":""},null,null,null,null,null,null,null,null,null,null,{"$f":"IF(P40=\"\",\"\",Sayıyı_Yazıya_Çevir(P40))","v":""},""]
[31,{"$f":"IF('Modül S1'!B41:C41=\"\",\"\",'Modül S1'!B41:C41)","v":""},null,{"$f":"IF('Modül S1'!D41=\"\",\"\",'Modül S1'!D41)","v":""},null,null,null,null,null,null,null,null,null,null,{"$f":"IF(P41=\"\",\"\",Sayıyı_Yazıya_Çevir(P41))","v":""},""]
[32,{"$f":"IF('Modül S1'!B42:C42=\"\",\"\",'Modül S1'!B42:C42)","v":""},null,{"$f":"IF('Modül S1'!D42=\"\",\"\",'Modül S1'!D42)","v":""},null,null,null,null,null,null,null,null,null,null,{"$f":"IF(P42=\"\",\"\",Sayıyı_Yazıya_Çevir(P42))","v":""},""]
[33,{"$f":"IF('Modül S1'!B43:C43=\"\",\"\",'Modül S1'!B43:C43)","v":""},null,{"$f":"IF('Modül S1'!D43=\"\",\"\",'Modül S1'!D43)","v":""},null,null,null,null,null,null,null,null,null,null,{"$f":"IF(P43=\"\",\"\",Sayıyı_Yazıya_Çevir(P43))","v":""},""]
[34,{"$f":"IF('Modül S1'!B44:C44=\"\",\"\",'Modül S1'!B44:C44)","v":""},null,{"$f":"IF('Modül S1'!D44=\"\",\"\",'Modül S1'!D44)","v":""},null,null,null,null,null,null,null,null,null,null,{"$f":"IF(P44=\"\",\"\",Sayıyı_Yazıya_Çevir(P44))","v":""},""]
[35,{"$f":"IF('Modül S1'!B45:C45=\"\",\"\",'Modül S1'!B45:C45)","v":""},null,{"$f":"IF('Modül S1'!D45=\"\",\"\",'Modül S1'!D45)","v":""},null,null,null,null,null,null,null,null,null,null,{"$f":"IF(P45=\"\",\"\",Sayıyı_Yazıya_Çevir(P45))","v":""},""]
[36,{"$f":"IF('Modül S1'!B46:C46=\"\",\"\",'Modül S1'!B46:C46)","v":""},null,{"$f":"IF('Modül S1'!D46=\"\",\"\",'Modül S1'!D46)","v":""},null,null,null,null,null,null,null,null,null,null,{"$f":"IF(P46=\"\",\"\",Sayıyı_Yazıya_Çevir(P46))","v":""},""]
[37,{"$f":"IF('Modül S1'!B47:C47=\"\",\"\",'Modül S1'!B47:C47)","v":""},null,{"$f":"IF('Modül S1'!D47=\"\",\"\",'Modül S1'!D47)","v":""},null,null,null,null,null,null,null,null,null,null,{"$f":"IF(P47=\"\",\"\",Sayıyı_Yazıya_Çevir(P47))","v":""},""]
[38,{"$f":"IF('Modül S1'!B48:C48=\"\",\"\",'Modül S1'!B48:C48)","v":""},null,{"$f":"IF('Modül S1'!D48=\"\",\"\",'Modül S1'!D48)","v":""},null,null,null,null,null,null,null,null,null,null,{"$f":"IF(P48=\"\",\"\",Sayıyı_Yazıya_Çevir(P48))","v":""},""]
[39,{"$f":"IF('Modül S1'!B49:C49=\"\",\"\",'Modül S1'!B49:C49)","v":""},null,{"$f":"IF('Modül S1'!D49=\"\",\"\",'Modül S1'!D49)","v":""},null,null,null,null,null,null,null,null,null,null,{"$f":"IF(P49=\"\",\"\",Sayıyı_Yazıya_Çevir(P49))","v":""},""]
[40,{"$f":"IF('Modül S1'!B50:C50=\"\",\"\",'Modül S1'!B50:C50)","v":""},null,{"$f":"IF('Modül S1'!D50=\"\",\"\",'Modül S1'!D50)","v":""},null,null,null,null,null,null,null,null,null,null,{"$f":"IF(P50=\"\",\"\",Sayıyı_Yazıya_Çevir(P50))","v":""},""]
["Not: E yaygında kayıtlı bütün kursiyerler not fişine kaydedilecektir."]
[null,null,null,null,null,null,null,null,null,null,null,null,null,"ÖĞRETMEN ADI SOYADI"]
[]
[null,null,null,null,null,null,null,null,null,null,null,null,null,{"$f":"'Modül S1'!N54:P54","v":"………………………………"}]
[null,null,null,null,null,null,null,null,null,null,null,null,null,"İMZA"]

{"sheet":"MS4","index":4,"n_rows":55,"n_cols":16,"rows_kept":55,"cut":false,"hidden":false,"merged":[[0,0,0,15],[1,3,1,15],[2,0,3,3],[2,4,2,13],[4,0,4,1],[4,2,4,3],[4,4,7,4],[4,5,7,5],[4,6,7,6],[4,7,7,7],[5,0,5,1],[5,2,5,3],[5,14,8,14],[5,15,8,15],[6,0,6,1],[6,2,6,3],[7,0,7,1],[7,2,7,3],[8,0,8,1],[8,2,8,3],[4,8,7,8],[4,9,7,9],[4,10,7,10],[4,11,7,11],[4,12,7,12],[4,13,7,13],[18,1,18,2],[8,4,8,12],[9,1,9,2],[9,14,9,15],[10,1,10,2],[11,1,11,2],[12,1,12,2],[13,1,13,2],[14,1,14,2],[15,1,15,2],[16,1,16,2],[17,1,17,2],[30,1,30,2],[19,1,19,2],[20,1,20,2],[21,1,21,2],[22,1,22,2],[23,1,23,2],[24,1,24,2],[25,1,25,2],[26,1,26,2],[27,1,27,2],[28,1,28,2],[29,1,29,2],[42,1,42,2],[31,1,31,2],[32,1,32,2],[33,1,33,2],[34,1,34,2],[35,1,35,2],[36,1,36,2],[37,1,37,2],[38,1,38,2],[39,1,39,2],[40,1,40,2],[41,1,41,2],[55,0,55,15],[43,1,43,2],[44,1,44,2],[45,1,45,2],[46,1,46,2],[47,1,47,2],[48,1,48,2],[49,1,49,2],[51,13,52,15],[53,0,54,12],[53,13,53,15],[54,13,54,15]]}
[]
[null,null,null,"MODÜL UYGULAMA SINAV DEĞERLENDİRME FORMU"]
[null,null,null,null,"UYGULAMA KRİTERLERİ"]
[null,null,null,null,1,2,3,4,5,6,7,8,9,10]
["KURS MERKEZİ: ",null,"Teomanpaşa Halk Eğitimi Merkezi",null,null,null,null,null,null,null,null,null,null,null,"YAZI İLE","RAKAM"]
["KURS ADI:",null,{"$f":"'Modül S1'!C6:D6","v":0},null,null,null,null,null,null,null,null,null,null,null,"YÜZ",100]
["KURS KODU:",null,{"$f":"'Modül S1'!C7:D7","v":0}]
["MODÜL ADI:"]
["MODÜL NO:",null,4,null,"NOT BAREMİ"]
["S.NO","T.C",null,"ADI VE SOYADI",null,null,null,null,null,null,null,null,null,null,"TOPLAM"]
[1,{"$f":"IF('Modül S1'!B11:C11=\"\",\"\",'Modül S1'!B11:C11)","v":""},null,{"$f":"IF('Modül S1'!D11=\"\",\"\",'Modül S1'!D11)","v":""},null,null,null,null,null,null,null,null,null,null,{"$f":"IF(P11=\"\",\"\",Sayıyı_Yazıya_Çevir(P11))","v":""},{"$f":"IF(E11=\"\",\"\",(IF(SUM(E11:N11)>100,\"<HATA>\",ROUND(SUM(E11:N11),0))))","v":""}]
[2,{"$f":"IF('Modül S1'!B12:C12=\"\",\"\",'Modül S1'!B12:C12)","v":""},null,{"$f":"IF('Modül S1'!D12=\"\",\"\",'Modül S1'!D12)","v":""},null,null,null,null,null,null,null,null,null,null,{"$f":"IF(P12=\"\",\"\",Sayıyı_Yazıya_Çevir(P12))","v":""},{"$f":"IF(E12=\"\",\"\",(IF(SUM(E12:N12)>100,\"<HATA>\",ROUND(SUM(E12:N12),0))))","v":""}]
[3,{"$f":"IF('Modül S1'!B13:C13=\"\",\"\",'Modül S1'!B13:C13)","v":""},null,{"$f":"IF('Modül S1'!D13=\"\",\"\",'Modül S1'!D13)","v":""},null,null,null,null,null,null,null,null,null,null,{"$f":"IF(P13=\"\",\"\",Sayıyı_Yazıya_Çevir(P13))","v":""},""]
[4,{"$f":"IF('Modül S1'!B14:C14=\"\",\"\",'Modül S1'!B14:C14)","v":""},null,{"$f":"IF('Modül S1'!D14=\"\",\"\",'Modül S1'!D14)","v":""},null,null,null,null,null,null,null,null,null,null,{"$f":"IF(P14=\"\",\"\",Sayıyı_Yazıya_Çevir(P14))","v":""},""]
[5,{"$f":"IF('Modül S1'!B15:C15=\"\",\"\",'Modül S1'!B15:C15)","v":""},null,{"$f":"IF('Modül S1'!D15=\"\",\"\",'Modül S1'!D15)","v":""},null,null,null,null,null,null,null,null,null,null,{"$f":"IF(P15=\"\",\"\",Sayıyı_Yazıya_Çevir(P15))","v":""},""]
[6,{"$f":"IF('Modül S1'!B16:C16=\"\",\"\",'Modül S1'!B16:C16)","v":""},null,{"$f":"IF('Modül S1'!D16=\"\",\"\",'Modül S1'!D16)","v":""},null,null,null,null,null,null,null,null,null,null,{"$f":"IF(P16=\"\",\"\",Sayıyı_Yazıya_Çevir(P16))","v":""},""]
[7,{"$f":"IF('Modül S1'!B17:C17=\"\",\"\",'Modül S1'!B17:C17)","v":""},null,{"$f":"IF('Modül S1'!D17=\"\",\"\",'Modül S1'!D17)","v":""},null,null,null,null,null,null,null,null,null,null,{"$f":"IF(P17=\"\",\"\",Sayıyı_Yazıya_Çevir(P17))","v":""},""]
[8,{"$f":"IF('Modül S1'!B18:C18=\"\",\"\",'Modül S1'!B18:C18)","v":""},null,{"$f":"IF('Modül S1'!D18=\"\",\"\",'Modül S1'!D18)","v":""},null,null,null,null,null,null,null,null,null,null,{"$f":"IF(P18=\"\",\"\",Sayıyı_Yazıya_Çevir(P18))","v":""},""]
[9,{"$f":"IF('Modül S1'!B19:C19=\"\",\"\",'Modül S1'!B19:C19)","v":""},null,{"$f":"IF('Modül S1'!D19=\"\",\"\",'Modül S1'!D19)","v":""},null,null,null,null,null,null,null,null,null,null,{"$f":"IF(P19=\"\",\"\",Sayıyı_Yazıya_Çevir(P19))","v":""},""]
[10,{"$f":"IF('Modül S1'!B20:C20=\"\",\"\",'Modül S1'!B20:C20)","v":""},null,{"$f":"IF('Modül S1'!D20=\"\",\"\",'Modül S1'!D20)","v":""},null,null,null,null,null,null,null,null,null,null,{"$f":"IF(P20=\"\",\"\",Sayıyı_Yazıya_Çevir(P20))","v":""},""]
[11,{"$f":"IF('Modül S1'!B21:C21=\"\",\"\",'Modül S1'!B21:C21)","v":""},null,{"$f":"IF('Modül S1'!D21=\"\",\"\",'Modül S1'!D21)","v":""},null,null,null,null,null,null,null,null,null,null,{"$f":"IF(P21=\"\",\"\",Sayıyı_Yazıya_Çevir(P21))","v":""},""]
[12,{"$f":"IF('Modül S1'!B22:C22=\"\",\"\",'Modül S1'!B22:C22)","v":""},null,{"$f":"IF('Modül S1'!D22=\"\",\"\",'Modül S1'!D22)","v":""},null,null,null,null,null,null,null,null,null,null,{"$f":"IF(P22=\"\",\"\",Sayıyı_Yazıya_Çevir(P22))","v":""},""]
[13,{"$f":"IF('Modül S1'!B23:C23=\"\",\"\",'Modül S1'!B23:C23)","v":""},null,{"$f":"IF('Modül S1'!D23=\"\",\"\",'Modül S1'!D23)","v":""},null,null,null,null,null,null,null,null,null,null,{"$f":"IF(P23=\"\",\"\",Sayıyı_Yazıya_Çevir(P23))","v":""},""]
[14,{"$f":"IF('Modül S1'!B24:C24=\"\",\"\",'Modül S1'!B24:C24)","v":""},null,{"$f":"IF('Modül S1'!D24=\"\",\"\",'Modül S1'!D24)","v":""},null,null,null,null,null,null,null,null,null,null,{"$f":"IF(P24=\"\",\"\",Sayıyı_Yazıya_Çevir(P24))","v":""},""]
[15,{"$f":"IF('Modül S1'!B25:C25=\"\",\"\",'Modül S1'!B25:C25)","v":""},null,{"$f":"IF('Modül S1'!D25=\"\",\"\",'Modül S1'!D25)","v":""},null,null,null,null,null,null,null,null,null,null,{"$f":"IF(P25=\"\",\"\",Sayıyı_Yazıya_Çevir(P25))","v":""},""]
[16,{"$f":"IF('Modül S1'!B26:C26=\"\",\"\",'Modül S1'!B26:C26)","v":""},null,{"$f":"IF('Modül S1'!D26=\"\",\"\",'Modül S1'!D26)","v":""},null,null,null,null,null,null,null,null,null,null,{"$f":"IF(P26=\"\",\"\",Sayıyı_Yazıya_Çevir(P26))","v":""},""]
[17,{"$f":"IF('Modül S1'!B27:C27=\"\",\"\",'Modül S1'!B27:C27)","v":""},null,{"$f":"IF('Modül S1'!D27=\"\",\"\",'Modül S1'!D27)","v":""},null,null,null,null,null,null,null,null,null,null,{"$f":"IF(P27=\"\",\"\",Sayıyı_Yazıya_Çevir(P27))","v":""},""]
[18,{"$f":"IF('Modül S1'!B28:C28=\"\",\"\",'Modül S1'!B28:C28)","v":""},null,{"$f":"IF('Modül S1'!D28=\"\",\"\",'Modül S1'!D28)","v":""},null,null,null,null,null,null,null,null,null,null,{"$f":"IF(P28=\"\",\"\",Sayıyı_Yazıya_Çevir(P28))","v":""},""]
[19,{"$f":"IF('Modül S1'!B29:C29=\"\",\"\",'Modül S1'!B29:C29)","v":""},null,{"$f":"IF('Modül S1'!D29=\"\",\"\",'Modül S1'!D29)","v":""},null,null,null,null,null,null,null,null,null,null,{"$f":"IF(P29=\"\",\"\",Sayıyı_Yazıya_Çevir(P29))","v":""},""]
[20,{"$f":"IF('Modül S1'!B30:C30=\"\",\"\",'Modül S1'!B30:C30)","v":""},null,{"$f":"IF('Modül S1'!D30=\"\",\"\",'Modül S1'!D30)","v":""},null,null,null,null,null,null,null,null,null,null,{"$f":"IF(P30=\"\",\"\",Sayıyı_Yazıya_Çevir(P30))","v":""},""]
[21,{"$f":"IF('Modül S1'!B31:C31=\"\",\"\",'Modül S1'!B31:C31)","v":""},null,{"$f":"IF('Modül S1'!D31=\"\",\"\",'Modül S1'!D31)","v":""},null,null,null,null,null,null,null,null,null,null,{"$f":"IF(P31=\"\",\"\",Sayıyı_Yazıya_Çevir(P31))","v":""},""]
[22,{"$f":"IF('Modül S1'!B32:C32=\"\",\"\",'Modül S1'!B32:C32)","v":""},null,{"$f":"IF('Modül S1'!D32=\"\",\"\",'Modül S1'!D32)","v":""},null,null,null,null,null,null,null,null,null,null,{"$f":"IF(P32=\"\",\"\",Sayıyı_Yazıya_Çevir(P32))","v":""},""]
[23,{"$f":"IF('Modül S1'!B33:C33=\"\",\"\",'Modül S1'!B33:C33)","v":""},null,{"$f":"IF('Modül S1'!D33=\"\",\"\",'Modül S1'!D33)","v":""},null,null,null,null,null,null,null,null,null,null,{"$f":"IF(P33=\"\",\"\",Sayıyı_Yazıya_Çevir(P33))","v":""},""]
[24,{"$f":"IF('Modül S1'!B34:C34=\"\",\"\",'Modül S1'!B34:C34)","v":""},null,{"$f":"IF('Modül S1'!D34=\"\",\"\",'Modül S1'!D34)","v":""},null,null,null,null,null,null,null,null,null,null,{"$f":"IF(P34=\"\",\"\",Sayıyı_Yazıya_Çevir(P34))","v":""},""]
[25,{"$f":"IF('Modül S1'!B35:C35=\"\",\"\",'Modül S1'!B35:C35)","v":""},null,{"$f":"IF('Modül S1'!D35=\"\",\"\",'Modül S1'!D35)","v":""},null,null,null,null,null,null,null,null,null,null,{"$f":"IF(P35=\"\",\"\",Sayıyı_Yazıya_Çevir(P35))","v":""},""]
[26,{"$f":"IF('Modül S1'!B36:C36=\"\",\"\",'Modül S1'!B36:C36)","v":""},null,{"$f":"IF('Modül S1'!D36=\"\",\"\",'Modül S1'!D36)","v":""},null,null,null,null,null,null,null,null,null,null,{"$f":"IF(P36=\"\",\"\",Sayıyı_Yazıya_Çevir(P36))","v":""},""]
[27,{"$f":"IF('Modül S1'!B37:C37=\"\",\"\",'Modül S1'!B37:C37)","v":""},null,{"$f":"IF('Modül S1'!D37=\"\",\"\",'Modül S1'!D37)","v":""},null,null,null,null,null,null,null,null,null,null,{"$f":"IF(P37=\"\",\"\",Sayıyı_Yazıya_Çevir(P37))","v":""},""]
[28,{"$f":"IF('Modül S1'!B38:C38=\"\",\"\",'Modül S1'!B38:C38)","v":""},null,{"$f":"IF('Modül S1'!D38=\"\",\"\",'Modül S1'!D38)","v":""},null,null,null,null,null,null,null,null,null,null,{"$f":"IF(P38=\"\",\"\",Sayıyı_Yazıya_Çevir(P38))","v":""},""]
[29,{"$f":"IF('Modül S1'!B39:C39=\"\",\"\",'Modül S1'!B39:C39)","v":""},null,{"$f":"IF('Modül S1'!D39=\"\",\"\",'Modül S1'!D39)","v":""},null,null,null,null,null,null,null,null,null,null,{"$f":"IF(P39=\"\",\"\",Sayıyı_Yazıya_Çevir(P39))","v":""},""]
[30,{"$f":"IF('Modül S1'!B40:C40=\"\",\"\",'Modül S1'!B40:C40)","v":""},null,{"$f":"IF('Modül S1'!D40=\"\",\"\",'Modül S1'!D40)","v":""},null,null,null,null,null,null,null,null,null,null,{"$f":"IF(P40=\"\",\"\",Sayıyı_Yazıya_Çevir(P40))","v":""},""]
[31,{"$f":"IF('Modül S1'!B41:C41=\"\",\"\",'Modül S1'!B41:C41)","v":""},null,{"$f":"IF('Modül S1'!D41=\"\",\"\",'Modül S1'!D41)","v":""},null,null,null,null,null,null,null,null,null,null,{"$f":"IF(P41=\"\",\"\",Sayıyı_Yazıya_Çevir(P41))","v":""},""]
[32,{"$f":"IF('Modül S1'!B42:C42=\"\",\"\",'Modül S1'!B42:C42)","v":""},null,{"$f":"IF('Modül S1'!D42=\"\",\"\",'Modül S1'!D42)","v":""},null,null,null,null,null,null,null,null,null,null,{"$f":"IF(P42=\"\",\"\",Sayıyı_Yazıya_Çevir(P42))","v":""},""]
[33,{"$f":"IF('Modül S1'!B43:C43=\"\",\"\",'Modül S1'!B43:C43)","v":""},null,{"$f":"IF('Modül S1'!D43=\"\",\"\",'Modül S1'!D43)","v":""},null,null,null,null,null,null,null,null,null,null,{"$f":"IF(P43=\"\",\"\",Sayıyı_Yazıya_Çevir(P43))","v":""},""]
[34,{"$f":"IF('Modül S1'!B44:C44=\"\",\"\",'Modül S1'!B44:C44)","v":""},null,{"$f":"IF('Modül S1'!D44=\"\",\"\",'Modül S1'!D44)","v":""},null,null,null,null,null,null,null,null,null,null,{"$f":"IF(P44=\"\",\"\",Sayıyı_Yazıya_Çevir(P44))","v":""},""]
[35,{"$f":"IF('Modül S1'!B45:C45=\"\",\"\",'Modül S1'!B45:C45)","v":""},null,{"$f":"IF('Modül S1'!D45=\"\",\"\",'Modül S1'!D45)","v":""},null,null,null,null,null,null,null,null,null,null,{"$f":"IF(P45=\"\",\"\",Sayıyı_Yazıya_Çevir(P45))","v":""},""]
[36,{"$f":"IF('Modül S1'!B46:C46=\"\",\"\",'Modül S1'!B46:C46)","v":""},null,{"$f":"IF('Modül S1'!D46=\"\",\"\",'Modül S1'!D46)","v":""},null,null,null,null,null,null,null,null,null,null,{"$f":"IF(P46=\"\",\"\",Sayıyı_Yazıya_Çevir(P46))","v":""},""]
[37,{"$f":"IF('Modül S1'!B47:C47=\"\",\"\",'Modül S1'!B47:C47)","v":""},null,{"$f":"IF('Modül S1'!D47=\"\",\"\",'Modül S1'!D47)","v":""},null,null,null,null,null,null,null,null,null,null,{"$f":"IF(P47=\"\",\"\",Sayıyı_Yazıya_Çevir(P47))","v":""},""]
[38,{"$f":"IF('Modül S1'!B48:C48=\"\",\"\",'Modül S1'!B48:C48)","v":""},null,{"$f":"IF('Modül S1'!D48=\"\",\"\",'Modül S1'!D48)","v":""},null,null,null,null,null,null,null,null,null,null,{"$f":"IF(P48=\"\",\"\",Sayıyı_Yazıya_Çevir(P48))","v":""},""]
[39,{"$f":"IF('Modül S1'!B49:C49=\"\",\"\",'Modül S1'!B49:C49)","v":""},null,{"$f":"IF('Modül S1'!D49=\"\",\"\",'Modül S1'!D49)","v":""},null,null,null,null,null,null,null,null,null,null,{"$f":"IF(P49=\"\",\"\",Sayıyı_Yazıya_Çevir(P49))","v":""},""]
[40,{"$f":"IF('Modül S1'!B50:C50=\"\",\"\",'Modül S1'!B50:C50)","v":""},null,{"$f":"IF('Modül S1'!D50=\"\",\"\",'Modül S1'!D50)","v":""},null,null,null,null,null,null,null,null,null,null,{"$f":"IF(P50=\"\",\"\",Sayıyı_Yazıya_Çevir(P50))","v":""},""]
["Not: E yaygında kayıtlı bütün kursiyerler not fişine kaydedilecektir."]
[null,null,null,null,null,null,null,null,null,null,null,null,null,"ÖĞRETMEN ADI SOYADI"]
[]
[null,null,null,null,null,null,null,null,null,null,null,null,null,{"$f":"'Modül S1'!N54:P54","v":"………………………………"}]
[null,null,null,null,null,null,null,null,null,null,null,null,null,"İMZA"]

{"sheet":"MS5","index":5,"n_rows":55,"n_cols":16,"rows_kept":55,"cut":false,"hidden":false,"merged":[[0,0,0,15],[1,3,1,15],[2,0,3,3],[2,4,2,13],[4,0,4,1],[4,2,4,3],[4,4,7,4],[4,5,7,5],[4,6,7,6],[4,7,7,7],[5,0,5,1],[5,2,5,3],[5,14,8,14],[5,15,8,15],[6,0,6,1],[6,2,6,3],[7,0,7,1],[7,2,7,3],[8,0,8,1],[8,2,8,3],[4,8,7,8],[4,9,7,9],[4,10,7,10],[4,11,7,11],[4,12,7,12],[4,13,7,13],[18,1,18,2],[8,4,8,12],[9,1,9,2],[9,14,9,15],[10,1,10,2],[11,1,11,2],[12,1,12,2],[13,1,13,2],[14,1,14,2],[15,1,15,2],[16,1,16,2],[17,1,17,2],[30,1,30,2],[19,1,19,2],[20,1,20,2],[21,1,21,2],[22,1,22,2],[23,1,23,2],[24,1,24,2],[25,1,25,2],[26,1,26,2],[27,1,27,2],[28,1,28,2],[29,1,29,2],[42,1,42,2],[31,1,31,2],[32,1,32,2],[33,1,33,2],[34,1,34,2],[35,1,35,2],[36,1,36,2],[37,1,37,2],[38,1,38,2],[39,1,39,2],[40,1,40,2],[41,1,41,2],[55,0,55,15],[43,1,43,2],[44,1,44,2],[45,1,45,2],[46,1,46,2],[47,1,47,2],[48,1,48,2],[49,1,49,2],[51,13,52,15],[53,0,54,12],[53,13,53,15],[54,13,54,15]]}
[]
[null,null,null,"MODÜL UYGULAMA SINAV DEĞERLENDİRME FORMU"]
[null,null,null,null,"UYGULAMA KRİTERLERİ"]
[null,null,null,null,1,2,3,4,5,6,7,8,9,10]
["KURS MERKEZİ: ",null,"Teomanpaşa Halk Eğitimi Merkezi",null,null,null,null,null,null,null,null,null,null,null,"YAZI İLE","RAKAM"]
["KURS ADI:",null,{"$f":"'Modül S1'!C6:D6","v":0},null,null,null,null,null,null,null,null,null,null,null,"YÜZ",100]
["KURS KODU:",null,{"$f":"'Modül S1'!C7:D7","v":0}]
["MODÜL ADI:"]
["MODÜL NO:",null,5,null,"NOT BAREMİ"]
["S.NO","T.C",null,"ADI VE SOYADI",null,null,null,null,null,null,null,null,null,null,"TOPLAM"]
[1,{"$f":"IF('Modül S1'!B11:C11=\"\",\"\",'Modül S1'!B11:C11)","v":""},null,{"$f":"IF('Modül S1'!D11=\"\",\"\",'Modül S1'!D11)","v":""},null,null,null,null,null,null,null,null,null,null,{"$f":"IF(P11=\"\",\"\",Sayıyı_Yazıya_Çevir(P11))","v":""},{"$f":"IF(E11=\"\",\"\",(IF(SUM(E11:N11)>100,\"<HATA>\",ROUND(SUM(E11:N11),0))))","v":""}]
[2,{"$f":"IF('Modül S1'!B12:C12=\"\",\"\",'Modül S1'!B12:C12)","v":""},null,{"$f":"IF('Modül S1'!D12=\"\",\"\",'Modül S1'!D12)","v":""},null,null,null,null,null,null,null,null,null,null,{"$f":"IF(P12=\"\",\"\",Sayıyı_Yazıya_Çevir(P12))","v":""},{"$f":"IF(E12=\"\",\"\",(IF(SUM(E12:N12)>100,\"<HATA>\",ROUND(SUM(E12:N12),0))))","v":""}]
[3,{"$f":"IF('Modül S1'!B13:C13=\"\",\"\",'Modül S1'!B13:C13)","v":""},null,{"$f":"IF('Modül S1'!D13=\"\",\"\",'Modül S1'!D13)","v":""},null,null,null,null,null,null,null,null,null,null,{"$f":"IF(P13=\"\",\"\",Sayıyı_Yazıya_Çevir(P13))","v":""},""]
[4,{"$f":"IF('Modül S1'!B14:C14=\"\",\"\",'Modül S1'!B14:C14)","v":""},null,{"$f":"IF('Modül S1'!D14=\"\",\"\",'Modül S1'!D14)","v":""},null,null,null,null,null,null,null,null,null,null,{"$f":"IF(P14=\"\",\"\",Sayıyı_Yazıya_Çevir(P14))","v":""},""]
[5,{"$f":"IF('Modül S1'!B15:C15=\"\",\"\",'Modül S1'!B15:C15)","v":""},null,{"$f":"IF('Modül S1'!D15=\"\",\"\",'Modül S1'!D15)","v":""},null,null,null,null,null,null,null,null,null,null,{"$f":"IF(P15=\"\",\"\",Sayıyı_Yazıya_Çevir(P15))","v":""},""]
[6,{"$f":"IF('Modül S1'!B16:C16=\"\",\"\",'Modül S1'!B16:C16)","v":""},null,{"$f":"IF('Modül S1'!D16=\"\",\"\",'Modül S1'!D16)","v":""},null,null,null,null,null,null,null,null,null,null,{"$f":"IF(P16=\"\",\"\",Sayıyı_Yazıya_Çevir(P16))","v":""},""]
[7,{"$f":"IF('Modül S1'!B17:C17=\"\",\"\",'Modül S1'!B17:C17)","v":""},null,{"$f":"IF('Modül S1'!D17=\"\",\"\",'Modül S1'!D17)","v":""},null,null,null,null,null,null,null,null,null,null,{"$f":"IF(P17=\"\",\"\",Sayıyı_Yazıya_Çevir(P17))","v":""},""]
[8,{"$f":"IF('Modül S1'!B18:C18=\"\",\"\",'Modül S1'!B18:C18)","v":""},null,{"$f":"IF('Modül S1'!D18=\"\",\"\",'Modül S1'!D18)","v":""},null,null,null,null,null,null,null,null,null,null,{"$f":"IF(P18=\"\",\"\",Sayıyı_Yazıya_Çevir(P18))","v":""},""]
[9,{"$f":"IF('Modül S1'!B19:C19=\"\",\"\",'Modül S1'!B19:C19)","v":""},null,{"$f":"IF('Modül S1'!D19=\"\",\"\",'Modül S1'!D19)","v":""},null,null,null,null,null,null,null,null,null,null,{"$f":"IF(P19=\"\",\"\",Sayıyı_Yazıya_Çevir(P19))","v":""},""]
[10,{"$f":"IF('Modül S1'!B20:C20=\"\",\"\",'Modül S1'!B20:C20)","v":""},null,{"$f":"IF('Modül S1'!D20=\"\",\"\",'Modül S1'!D20)","v":""},null,null,null,null,null,null,null,null,null,null,{"$f":"IF(P20=\"\",\"\",Sayıyı_Yazıya_Çevir(P20))","v":""},""]
[11,{"$f":"IF('Modül S1'!B21:C21=\"\",\"\",'Modül S1'!B21:C21)","v":""},null,{"$f":"IF('Modül S1'!D21=\"\",\"\",'Modül S1'!D21)","v":""},null,null,null,null,null,null,null,null,null,null,{"$f":"IF(P21=\"\",\"\",Sayıyı_Yazıya_Çevir(P21))","v":""},""]
[12,{"$f":"IF('Modül S1'!B22:C22=\"\",\"\",'Modül S1'!B22:C22)","v":""},null,{"$f":"IF('Modül S1'!D22=\"\",\"\",'Modül S1'!D22)","v":""},null,null,null,null,null,null,null,null,null,null,{"$f":"IF(P22=\"\",\"\",Sayıyı_Yazıya_Çevir(P22))","v":""},""]
[13,{"$f":"IF('Modül S1'!B23:C23=\"\",\"\",'Modül S1'!B23:C23)","v":""},null,{"$f":"IF('Modül S1'!D23=\"\",\"\",'Modül S1'!D23)","v":""},null,null,null,null,null,null,null,null,null,null,{"$f":"IF(P23=\"\",\"\",Sayıyı_Yazıya_Çevir(P23))","v":""},""]
[14,{"$f":"IF('Modül S1'!B24:C24=\"\",\"\",'Modül S1'!B24:C24)","v":""},null,{"$f":"IF('Modül S1'!D24=\"\",\"\",'Modül S1'!D24)","v":""},null,null,null,null,null,null,null,null,null,null,{"$f":"IF(P24=\"\",\"\",Sayıyı_Yazıya_Çevir(P24))","v":""},""]
[15,{"$f":"IF('Modül S1'!B25:C25=\"\",\"\",'Modül S1'!B25:C25)","v":""},null,{"$f":"IF('Modül S1'!D25=\"\",\"\",'Modül S1'!D25)","v":""},null,null,null,null,null,null,null,null,null,null,{"$f":"IF(P25=\"\",\"\",Sayıyı_Yazıya_Çevir(P25))","v":""},""]
[16,{"$f":"IF('Modül S1'!B26:C26=\"\",\"\",'Modül S1'!B26:C26)","v":""},null,{"$f":"IF('Modül S1'!D26=\"\",\"\",'Modül S1'!D26)","v":""},null,null,null,null,null,null,null,null,null,null,{"$f":"IF(P26=\"\",\"\",Sayıyı_Yazıya_Çevir(P26))","v":""},""]
[17,{"$f":"IF('Modül S1'!B27:C27=\"\",\"\",'Modül S1'!B27:C27)","v":""},null,{"$f":"IF('Modül S1'!D27=\"\",\"\",'Modül S1'!D27)","v":""},null,null,null,null,null,null,null,null,null,null,{"$f":"IF(P27=\"\",\"\",Sayıyı_Yazıya_Çevir(P27))","v":""},""]
[18,{"$f":"IF('Modül S1'!B28:C28=\"\",\"\",'Modül S1'!B28:C28)","v":""},null,{"$f":"IF('Modül S1'!D28=\"\",\"\",'Modül S1'!D28)","v":""},null,null,null,null,null,null,null,null,null,null,{"$f":"IF(P28=\"\",\"\",Sayıyı_Yazıya_Çevir(P28))","v":""},""]
[19,{"$f":"IF('Modül S1'!B29:C29=\"\",\"\",'Modül S1'!B29:C29)","v":""},null,{"$f":"IF('Modül S1'!D29=\"\",\"\",'Modül S1'!D29)","v":""},null,null,null,null,null,null,null,null,null,null,{"$f":"IF(P29=\"\",\"\",Sayıyı_Yazıya_Çevir(P29))","v":""},""]
[20,{"$f":"IF('Modül S1'!B30:C30=\"\",\"\",'Modül S1'!B30:C30)","v":""},null,{"$f":"IF('Modül S1'!D30=\"\",\"\",'Modül S1'!D30)","v":""},null,null,null,null,null,null,null,null,null,null,{"$f":"IF(P30=\"\",\"\",Sayıyı_Yazıya_Çevir(P30))","v":""},""]
[21,{"$f":"IF('Modül S1'!B31:C31=\"\",\"\",'Modül S1'!B31:C31)","v":""},null,{"$f":"IF('Modül S1'!D31=\"\",\"\",'Modül S1'!D31)","v":""},null,null,null,null,null,null,null,null,null,null,{"$f":"IF(P31=\"\",\"\",Sayıyı_Yazıya_Çevir(P31))","v":""},""]
[22,{"$f":"IF('Modül S1'!B32:C32=\"\",\"\",'Modül S1'!B32:C32)","v":""},null,{"$f":"IF('Modül S1'!D32=\"\",\"\",'Modül S1'!D32)","v":""},null,null,null,null,null,null,null,null,null,null,{"$f":"IF(P32=\"\",\"\",Sayıyı_Yazıya_Çevir(P32))","v":""},""]
[23,{"$f":"IF('Modül S1'!B33:C33=\"\",\"\",'Modül S1'!B33:C33)","v":""},null,{"$f":"IF('Modül S1'!D33=\"\",\"\",'Modül S1'!D33)","v":""},null,null,null,null,null,null,null,null,null,null,{"$f":"IF(P33=\"\",\"\",Sayıyı_Yazıya_Çevir(P33))","v":""},""]
[24,{"$f":"IF('Modül S1'!B34:C34=\"\",\"\",'Modül S1'!B34:C34)","v":""},null,{"$f":"IF('Modül S1'!D34=\"\",\"\",'Modül S1'!D34)","v":""},null,null,null,null,null,null,null,null,null,null,{"$f":"IF(P34=\"\",\"\",Sayıyı_Yazıya_Çevir(P34))","v":""},""]
[25,{"$f":"IF('Modül S1'!B35:C35=\"\",\"\",'Modül S1'!B35:C35)","v":""},null,{"$f":"IF('Modül S1'!D35=\"\",\"\",'Modül S1'!D35)","v":""},null,null,null,null,null,null,null,null,null,null,{"$f":"IF(P35=\"\",\"\",Sayıyı_Yazıya_Çevir(P35))","v":""},""]
[26,{"$f":"IF('Modül S1'!B36:C36=\"\",\"\",'Modül S1'!B36:C36)","v":""},null,{"$f":"IF('Modül S1'!D36=\"\",\"\",'Modül S1'!D36)","v":""},null,null,null,null,null,null,null,null,null,null,{"$f":"IF(P36=\"\",\"\",Sayıyı_Yazıya_Çevir(P36))","v":""},""]
[27,{"$f":"IF('Modül S1'!B37:C37=\"\",\"\",'Modül S1'!B37:C37)","v":""},null,{"$f":"IF('Modül S1'!D37=\"\",\"\",'Modül S1'!D37)","v":""},null,null,null,null,null,null,null,null,null,null,{"$f":"IF(P37=\"\",\"\",Sayıyı_Yazıya_Çevir(P37))","v":""},""]
[28,{"$f":"IF('Modül S1'!B38:C38=\"\",\"\",'Modül S1'!B38:C38)","v":""},null,{"$f":"IF('Modül S1'!D38=\"\",\"\",'Modül S1'!D38)","v":""},null,null,null,null,null,null,null,null,null,null,{"$f":"IF(P38=\"\",\"\",Sayıyı_Yazıya_Çevir(P38))","v":""},""]
[29,{"$f":"IF('Modül S1'!B39:C39=\"\",\"\",'Modül S1'!B39:C39)","v":""},null,{"$f":"IF('Modül S1'!D39=\"\",\"\",'Modül S1'!D39)","v":""},null,null,null,null,null,null,null,null,null,null,{"$f":"IF(P39=\"\",\"\",Sayıyı_Yazıya_Çevir(P39))","v":""},""]
[30,{"$f":"IF('Modül S1'!B40:C40=\"\",\"\",'Modül S1'!B40:C40)","v":""},null,{"$f":"IF('Modül S1'!D40=\"\",\"\",'Modül S1'!D40)","v":""},null,null,null,null,null,null,null,null,null,null,{"$f":"IF(P40=\"\",\"\",Sayıyı_Yazıya_Çevir(P40))","v":""},""]
[31,{"$f":"IF('Modül S1'!B41:C41=\"\",\"\",'Modül S1'!B41:C41)","v":""},null,{"$f":"IF('Modül S1'!D41=\"\",\"\",'Modül S1'!D41)","v":""},null,null,null,null,null,null,null,null,null,null,{"$f":"IF(P41=\"\",\"\",Sayıyı_Yazıya_Çevir(P41))","v":""},""]
[32,{"$f":"IF('Modül S1'!B42:C42=\"\",\"\",'Modül S1'!B42:C42)","v":""},null,{"$f":"IF('Modül S1'!D42=\"\",\"\",'Modül S1'!D42)","v":""},null,null,null,null,null,null,null,null,null,null,{"$f":"IF(P42=\"\",\"\",Sayıyı_Yazıya_Çevir(P42))","v":""},""]
[33,{"$f":"IF('Modül S1'!B43:C43=\"\",\"\",'Modül S1'!B43:C43)","v":""},null,{"$f":"IF('Modül S1'!D43=\"\",\"\",'Modül S1'!D43)","v":""},null,null,null,null,null,null,null,null,null,null,{"$f":"IF(P43=\"\",\"\",Sayıyı_Yazıya_Çevir(P43))","v":""},""]
[34,{"$f":"IF('Modül S1'!B44:C44=\"\",\"\",'Modül S1'!B44:C44)","v":""},null,{"$f":"IF('Modül S1'!D44=\"\",\"\",'Modül S1'!D44)","v":""},null,null,null,null,null,null,null,null,null,null,{"$f":"IF(P44=\"\",\"\",Sayıyı_Yazıya_Çevir(P44))","v":""},""]
[35,{"$f":"IF('Modül S1'!B45:C45=\"\",\"\",'Modül S1'!B45:C45)","v":""},null,{"$f":"IF('Modül S1'!D45=\"\",\"\",'Modül S1'!D45)","v":""},null,null,null,null,null,null,null,null,null,null,{"$f":"IF(P45=\"\",\"\",Sayıyı_Yazıya_Çevir(P45))","v":""},""]
[36,{"$f":"IF('Modül S1'!B46:C46=\"\",\"\",'Modül S1'!B46:C46)","v":""},null,{"$f":"IF('Modül S1'!D46=\"\",\"\",'Modül S1'!D46)","v":""},null,null,null,null,null,null,null,null,null,null,{"$f":"IF(P46=\"\",\"\",Sayıyı_Yazıya_Çevir(P46))","v":""},""]
[37,{"$f":"IF('Modül S1'!B47:C47=\"\",\"\",'Modül S1'!B47:C47)","v":""},null,{"$f":"IF('Modül S1'!D47=\"\",\"\",'Modül S1'!D47)","v":""},null,null,null,null,null,null,null,null,null,null,{"$f":"IF(P47=\"\",\"\",Sayıyı_Yazıya_Çevir(P47))","v":""},""]
[38,{"$f":"IF('Modül S1'!B48:C48=\"\",\"\",'Modül S1'!B48:C48)","v":""},null,{"$f":"IF('Modül S1'!D48=\"\",\"\",'Modül S1'!D48)","v":""},null,null,null,null,null,null,null,null,null,null,{"$f":"IF(P48=\"\",\"\",Sayıyı_Yazıya_Çevir(P48))","v":""},""]
[39,{"$f":"IF('Modül S1'!B49:C49=\"\",\"\",'Modül S1'!B49:C49)","v":""},null,{"$f":"IF('Modül S1'!D49=\"\",\"\",'Modül S1'!D49)","v":""},null,null,null,null,null,null,null,null,null,null,{"$f":"IF(P49=\"\",\"\",Sayıyı_Yazıya_Çevir(P49))","v":""},""]
[40,{"$f":"IF('Modül S1'!B50:C50=\"\",\"\",'Modül S1'!B50:C50)","v":""},null,{"$f":"IF('Modül S1'!D50=\"\",\"\",'Modül S1'!D50)","v":""},null,null,null,null,null,null,null,null,null,null,{"$f":"IF(P50=\"\",\"\",Sayıyı_Yazıya_Çevir(P50))","v":""},""]
["Not: E yaygında kayıtlı bütün kursiyerler not fişine kaydedilecektir."]
[null,null,null,null,null,null,null,null,null,null,null,null,null,"ÖĞRETMEN ADI SOYADI"]
[]
[null,null,null,null,null,null,null,null,null,null,null,null,null,{"$f":"'Modül S1'!N54:P54","v":"………………………………"}]
[null,null,null,null,null,null,null,null,null,null,null,null,null,"İMZA"]

{"sheet":"MS6","index":6,"n_rows":55,"n_cols":16,"rows_kept":55,"cut":false,"hidden":false,"merged":[[0,0,0,15],[1,3,1,15],[2,0,3,3],[2,4,2,13],[4,0,4,1],[4,2,4,3],[4,4,7,4],[4,5,7,5],[4,6,7,6],[4,7,7,7],[5,0,5,1],[5,2,5,3],[5,14,8,14],[5,15,8,15],[6,0,6,1],[6,2,6,3],[7,0,7,1],[7,2,7,3],[8,0,8,1],[8,2,8,3],[4,8,7,8],[4,9,7,9],[4,10,7,10],[4,11,7,11],[4,12,7,12],[4,13,7,13],[18,1,18,2],[8,4,8,12],[9,1,9,2],[9,14,9,15],[10,1,10,2],[11,1,11,2],[12,1,12,2],[13,1,13,2],[14,1,14,2],[15,1,15,2],[16,1,16,2],[17,1,17,2],[30,1,30,2],[19,1,19,2],[20,1,20,2],[21,1,21,2],[22,1,22,2],[23,1,23,2],[24,1,24,2],[25,1,25,2],[26,1,26,2],[27,1,27,2],[28,1,28,2],[29,1,29,2],[42,1,42,2],[31,1,31,2],[32,1,32,2],[33,1,33,2],[34,1,34,2],[35,1,35,2],[36,1,36,2],[37,1,37,2],[38,1,38,2],[39,1,39,2],[40,1,40,2],[41,1,41,2],[55,0,55,15],[43,1,43,2],[44,1,44,2],[45,1,45,2],[46,1,46,2],[47,1,47,2],[48,1,48,2],[49,1,49,2],[51,13,52,15],[53,0,54,12],[53,13,53,15],[54,13,54,15]]}
[]
[null,null,null,"MODÜL UYGULAMA SINAV DEĞERLENDİRME FORMU"]
[null,null,null,null,"UYGULAMA KRİTERLERİ"]
[null,null,null,null,1,2,3,4,5,6,7,8,9,10]
["KURS MERKEZİ: ",null,"Teomanpaşa Halk Eğitimi Merkezi",null,null,null,null,null,null,null,null,null,null,null,"YAZI İLE","RAKAM"]
["KURS ADI:",null,{"$f":"'Modül S1'!C6:D6","v":0},null,null,null,null,null,null,null,null,null,null,null,"YÜZ",100]
["KURS KODU:",null,{"$f":"'Modül S1'!C7:D7","v":0}]
["MODÜL ADI:"]
["MODÜL NO:",null,6,null,"NOT BAREMİ"]
["S.NO","T.C",null,"ADI VE SOYADI",null,null,null,null,null,null,null,null,null,null,"TOPLAM"]
[1,{"$f":"IF('Modül S1'!B11:C11=\"\",\"\",'Modül S1'!B11:C11)","v":""},null,{"$f":"IF('Modül S1'!D11=\"\",\"\",'Modül S1'!D11)","v":""},null,null,null,null,null,null,null,null,null,null,{"$f":"IF(P11=\"\",\"\",Sayıyı_Yazıya_Çevir(P11))","v":""},{"$f":"IF(E11=\"\",\"\",(IF(SUM(E11:N11)>100,\"<HATA>\",ROUND(SUM(E11:N11),0))))","v":""}]
[2,{"$f":"IF('Modül S1'!B12:C12=\"\",\"\",'Modül S1'!B12:C12)","v":""},null,{"$f":"IF('Modül S1'!D12=\"\",\"\",'Modül S1'!D12)","v":""},null,null,null,null,null,null,null,null,null,null,{"$f":"IF(P12=\"\",\"\",Sayıyı_Yazıya_Çevir(P12))","v":""},{"$f":"IF(E12=\"\",\"\",(IF(SUM(E12:N12)>100,\"<HATA>\",ROUND(SUM(E12:N12),0))))","v":""}]
[3,{"$f":"IF('Modül S1'!B13:C13=\"\",\"\",'Modül S1'!B13:C13)","v":""},null,{"$f":"IF('Modül S1'!D13=\"\",\"\",'Modül S1'!D13)","v":""},null,null,null,null,null,null,null,null,null,null,{"$f":"IF(P13=\"\",\"\",Sayıyı_Yazıya_Çevir(P13))","v":""},""]
[4,{"$f":"IF('Modül S1'!B14:C14=\"\",\"\",'Modül S1'!B14:C14)","v":""},null,{"$f":"IF('Modül S1'!D14=\"\",\"\",'Modül S1'!D14)","v":""},null,null,null,null,null,null,null,null,null,null,{"$f":"IF(P14=\"\",\"\",Sayıyı_Yazıya_Çevir(P14))","v":""},""]
[5,{"$f":"IF('Modül S1'!B15:C15=\"\",\"\",'Modül S1'!B15:C15)","v":""},null,{"$f":"IF('Modül S1'!D15=\"\",\"\",'Modül S1'!D15)","v":""},null,null,null,null,null,null,null,null,null,null,{"$f":"IF(P15=\"\",\"\",Sayıyı_Yazıya_Çevir(P15))","v":""},""]
[6,{"$f":"IF('Modül S1'!B16:C16=\"\",\"\",'Modül S1'!B16:C16)","v":""},null,{"$f":"IF('Modül S1'!D16=\"\",\"\",'Modül S1'!D16)","v":""},null,null,null,null,null,null,null,null,null,null,{"$f":"IF(P16=\"\",\"\",Sayıyı_Yazıya_Çevir(P16))","v":""},""]
[7,{"$f":"IF('Modül S1'!B17:C17=\"\",\"\",'Modül S1'!B17:C17)","v":""},null,{"$f":"IF('Modül S1'!D17=\"\",\"\",'Modül S1'!D17)","v":""},null,null,null,null,null,null,null,null,null,null,{"$f":"IF(P17=\"\",\"\",Sayıyı_Yazıya_Çevir(P17))","v":""},""]
[8,{"$f":"IF('Modül S1'!B18:C18=\"\",\"\",'Modül S1'!B18:C18)","v":""},null,{"$f":"IF('Modül S1'!D18=\"\",\"\",'Modül S1'!D18)","v":""},null,null,null,null,null,null,null,null,null,null,{"$f":"IF(P18=\"\",\"\",Sayıyı_Yazıya_Çevir(P18))","v":""},""]
[9,{"$f":"IF('Modül S1'!B19:C19=\"\",\"\",'Modül S1'!B19:C19)","v":""},null,{"$f":"IF('Modül S1'!D19=\"\",\"\",'Modül S1'!D19)","v":""},null,null,null,null,null,null,null,null,null,null,{"$f":"IF(P19=\"\",\"\",Sayıyı_Yazıya_Çevir(P19))","v":""},""]
[10,{"$f":"IF('Modül S1'!B20:C20=\"\",\"\",'Modül S1'!B20:C20)","v":""},null,{"$f":"IF('Modül S1'!D20=\"\",\"\",'Modül S1'!D20)","v":""},null,null,null,null,null,null,null,null,null,null,{"$f":"IF(P20=\"\",\"\",Sayıyı_Yazıya_Çevir(P20))","v":""},""]
[11,{"$f":"IF('Modül S1'!B21:C21=\"\",\"\",'Modül S1'!B21:C21)","v":""},null,{"$f":"IF('Modül S1'!D21=\"\",\"\",'Modül S1'!D21)","v":""},null,null,null,null,null,null,null,null,null,null,{"$f":"IF(P21=\"\",\"\",Sayıyı_Yazıya_Çevir(P21))","v":""},""]
[12,{"$f":"IF('Modül S1'!B22:C22=\"\",\"\",'Modül S1'!B22:C22)","v":""},null,{"$f":"IF('Modül S1'!D22=\"\",\"\",'Modül S1'!D22)","v":""},null,null,null,null,null,null,null,null,null,null,{"$f":"IF(P22=\"\",\"\",Sayıyı_Yazıya_Çevir(P22))","v":""},""]
[13,{"$f":"IF('Modül S1'!B23:C23=\"\",\"\",'Modül S1'!B23:C23)","v":""},null,{"$f":"IF('Modül S1'!D23=\"\",\"\",'Modül S1'!D23)","v":""},null,null,null,null,null,null,null,null,null,null,{"$f":"IF(P23=\"\",\"\",Sayıyı_Yazıya_Çevir(P23))","v":""},""]
[14,{"$f":"IF('Modül S1'!B24:C24=\"\",\"\",'Modül S1'!B24:C24)","v":""},null,{"$f":"IF('Modül S1'!D24=\"\",\"\",'Modül S1'!D24)","v":""},null,null,null,null,null,null,null,null,null,null,{"$f":"IF(P24=\"\",\"\",Sayıyı_Yazıya_Çevir(P24))","v":""},""]
[15,{"$f":"IF('Modül S1'!B25:C25=\"\",\"\",'Modül S1'!B25:C25)","v":""},null,{"$f":"IF('Modül S1'!D25=\"\",\"\",'Modül S1'!D25)","v":""},null,null,null,null,null,null,null,null,null,null,{"$f":"IF(P25=\"\",\"\",Sayıyı_Yazıya_Çevir(P25))","v":""},""]
[16,{"$f":"IF('Modül S1'!B26:C26=\"\",\"\",'Modül S1'!B26:C26)","v":""},null,{"$f":"IF('Modül S1'!D26=\"\",\"\",'Modül S1'!D26)","v":""},null,null,null,null,null,null,null,null,null,null,{"$f":"IF(P26=\"\",\"\",Sayıyı_Yazıya_Çevir(P26))","v":""},""]
[17,{"$f":"IF('Modül S1'!B27:C27=\"\",\"\",'Modül S1'!B27:C27)","v":""},null,{"$f":"IF('Modül S1'!D27=\"\",\"\",'Modül S1'!D27)","v":""},null,null,null,null,null,null,null,null,null,null,{"$f":"IF(P27=\"\",\"\",Sayıyı_Yazıya_Çevir(P27))","v":""},""]
[18,{"$f":"IF('Modül S1'!B28:C28=\"\",\"\",'Modül S1'!B28:C28)","v":""},null,{"$f":"IF('Modül S1'!D28=\"\",\"\",'Modül S1'!D28)","v":""},null,null,null,null,null,null,null,null,null,null,{"$f":"IF(P28=\"\",\"\",Sayıyı_Yazıya_Çevir(P28))","v":""},""]
[19,{"$f":"IF('Modül S1'!B29:C29=\"\",\"\",'Modül S1'!B29:C29)","v":""},null,{"$f":"IF('Modül S1'!D29=\"\",\"\",'Modül S1'!D29)","v":""},null,null,null,null,null,null,null,null,null,null,{"$f":"IF(P29=\"\",\"\",Sayıyı_Yazıya_Çevir(P29))","v":""},""]
[20,{"$f":"IF('Modül S1'!B30:C30=\"\",\"\",'Modül S1'!B30:C30)","v":""},null,{"$f":"IF('Modül S1'!D30=\"\",\"\",'Modül S1'!D30)","v":""},null,null,null,null,null,null,null,null,null,null,{"$f":"IF(P30=\"\",\"\",Sayıyı_Yazıya_Çevir(P30))","v":""},""]
[21,{"$f":"IF('Modül S1'!B31:C31=\"\",\"\",'Modül S1'!B31:C31)","v":""},null,{"$f":"IF('Modül S1'!D31=\"\",\"\",'Modül S1'!D31)","v":""},null,null,null,null,null,null,null,null,null,null,{"$f":"IF(P31=\"\",\"\",Sayıyı_Yazıya_Çevir(P31))","v":""},""]
[22,{"$f":"IF('Modül S1'!B32:C32=\"\",\"\",'Modül S1'!B32:C32)","v":""},null,{"$f":"IF('Modül S1'!D32=\"\",\"\",'Modül S1'!D32)","v":""},null,null,null,null,null,null,null,null,null,null,{"$f":"IF(P32=\"\",\"\",Sayıyı_Yazıya_Çevir(P32))","v":""},""]
[23,{"$f":"IF('Modül S1'!B33:C33=\"\",\"\",'Modül S1'!B33:C33)","v":""},null,{"$f":"IF('Modül S1'!D33=\"\",\"\",'Modül S1'!D33)","v":""},null,null,null,null,null,null,null,null,null,null,{"$f":"IF(P33=\"\",\"\",Sayıyı_Yazıya_Çevir(P33))","v":""},""]
[24,{"$f":"IF('Modül S1'!B34:C34=\"\",\"\",'Modül S1'!B34:C34)","v":""},null,{"$f":"IF('Modül S1'!D34=\"\",\"\",'Modül S1'!D34)","v":""},null,null,null,null,null,null,null,null,null,null,{"$f":"IF(P34=\"\",\"\",Sayıyı_Yazıya_Çevir(P34))","v":""},""]
[25,{"$f":"IF('Modül S1'!B35:C35=\"\",\"\",'Modül S1'!B35:C35)","v":""},null,{"$f":"IF('Modül S1'!D35=\"\",\"\",'Modül S1'!D35)","v":""},null,null,null,null,null,null,null,null,null,null,{"$f":"IF(P35=\"\",\"\",Sayıyı_Yazıya_Çevir(P35))","v":""},""]
[26,{"$f":"IF('Modül S1'!B36:C36=\"\",\"\",'Modül S1'!B36:C36)","v":""},null,{"$f":"IF('Modül S1'!D36=\"\",\"\",'Modül S1'!D36)","v":""},null,null,null,null,null,null,null,null,null,null,{"$f":"IF(P36=\"\",\"\",Sayıyı_Yazıya_Çevir(P36))","v":""},""]
[27,{"$f":"IF('Modül S1'!B37:C37=\"\",\"\",'Modül S1'!B37:C37)","v":""},null,{"$f":"IF('Modül S1'!D37=\"\",\"\",'Modül S1'!D37)","v":""},null,null,null,null,null,null,null,null,null,null,{"$f":"IF(P37=\"\",\"\",Sayıyı_Yazıya_Çevir(P37))","v":""},""]
[28,{"$f":"IF('Modül S1'!B38:C38=\"\",\"\",'Modül S1'!B38:C38)","v":""},null,{"$f":"IF('Modül S1'!D38=\"\",\"\",'Modül S1'!D38)","v":""},null,null,null,null,null,null,null,null,null,null,{"$f":"IF(P38=\"\",\"\",Sayıyı_Yazıya_Çevir(P38))","v":""},""]
[29,{"$f":"IF('Modül S1'!B39:C39=\"\",\"\",'Modül S1'!B39:C39)","v":""},null,{"$f":"IF('Modül S1'!D39=\"\",\"\",'Modül S1'!D39)","v":""},null,null,null,null,null,null,null,null,null,null,{"$f":"IF(P39=\"\",\"\",Sayıyı_Yazıya_Çevir(P39))","v":""},""]
[30,{"$f":"IF('Modül S1'!B40:C40=\"\",\"\",'Modül S1'!B40:C40)","v":""},null,{"$f":"IF('Modül S1'!D40=\"\",\"\",'Modül S1'!D40)","v":""},null,null,null,null,null,null,null,null,null,null,{"$f":"IF(P40=\"\",\"\",Sayıyı_Yazıya_Çevir(P40))","v":""},""]
[31,{"$f":"IF('Modül S1'!B41:C41=\"\",\"\",'Modül S1'!B41:C41)","v":""},null,{"$f":"IF('Modül S1'!D41=\"\",\"\",'Modül S1'!D41)","v":""},null,null,null,null,null,null,null,null,null,null,{"$f":"IF(P41=\"\",\"\",Sayıyı_Yazıya_Çevir(P41))","v":""},""]
[32,{"$f":"IF('Modül S1'!B42:C42=\"\",\"\",'Modül S1'!B42:C42)","v":""},null,{"$f":"IF('Modül S1'!D42=\"\",\"\",'Modül S1'!D42)","v":""},null,null,null,null,null,null,null,null,null,null,{"$f":"IF(P42=\"\",\"\",Sayıyı_Yazıya_Çevir(P42))","v":""},""]
[33,{"$f":"IF('Modül S1'!B43:C43=\"\",\"\",'Modül S1'!B43:C43)","v":""},null,{"$f":"IF('Modül S1'!D43=\"\",\"\",'Modül S1'!D43)","v":""},null,null,null,null,null,null,null,null,null,null,{"$f":"IF(P43=\"\",\"\",Sayıyı_Yazıya_Çevir(P43))","v":""},""]
[34,{"$f":"IF('Modül S1'!B44:C44=\"\",\"\",'Modül S1'!B44:C44)","v":""},null,{"$f":"IF('Modül S1'!D44=\"\",\"\",'Modül S1'!D44)","v":""},null,null,null,null,null,null,null,null,null,null,{"$f":"IF(P44=\"\",\"\",Sayıyı_Yazıya_Çevir(P44))","v":""},""]
[35,{"$f":"IF('Modül S1'!B45:C45=\"\",\"\",'Modül S1'!B45:C45)","v":""},null,{"$f":"IF('Modül S1'!D45=\"\",\"\",'Modül S1'!D45)","v":""},null,null,null,null,null,null,null,null,null,null,{"$f":"IF(P45=\"\",\"\",Sayıyı_Yazıya_Çevir(P45))","v":""},""]
[36,{"$f":"IF('Modül S1'!B46:C46=\"\",\"\",'Modül S1'!B46:C46)","v":""},null,{"$f":"IF('Modül S1'!D46=\"\",\"\",'Modül S1'!D46)","v":""},null,null,null,null,null,null,null,null,null,null,{"$f":"IF(P46=\"\",\"\",Sayıyı_Yazıya_Çevir(P46))","v":""},""]
[37,{"$f":"IF('Modül S1'!B47:C47=\"\",\"\",'Modül S1'!B47:C47)","v":""},null,{"$f":"IF('Modül S1'!D47=\"\",\"\",'Modül S1'!D47)","v":""},null,null,null,null,null,null,null,null,null,null,{"$f":"IF(P47=\"\",\"\",Sayıyı_Yazıya_Çevir(P47))","v":""},""]
[38,{"$f":"IF('Modül S1'!B48:C48=\"\",\"\",'Modül S1'!B48:C48)","v":""},null,{"$f":"IF('Modül S1'!D48=\"\",\"\",'Modül S1'!D48)","v":""},null,null,null,null,null,null,null,null,null,null,{"$f":"IF(P48=\"\",\"\",Sayıyı_Yazıya_Çevir(P48))","v":""},""]
[39,{"$f":"IF('Modül S1'!B49:C49=\"\",\"\",'Modül S1'!B49:C49)","v":""},null,{"$f":"IF('Modül S1'!D49=\"\",\"\",'Modül S1'!D49)","v":""},null,null,null,null,null,null,null,null,null,null,{"$f":"IF(P49=\"\",\"\",Sayıyı_Yazıya_Çevir(P49))","v":""},""]
[40,{"$f":"IF('Modül S1'!B50:C50=\"\",\"\",'Modül S1'!B50:C50)","v":""},null,{"$f":"IF('Modül S1'!D50=\"\",\"\",'Modül S1'!D50)","v":""},null,null,null,null,null,null,null,null,null,null,{"$f":"IF(P50=\"\",\"\",Sayıyı_Yazıya_Çevir(P50))","v":""},""]
["Not: E yaygında kayıtlı bütün kursiyerler not fişine kaydedilecektir."]
[null,null,null,null,null,null,null,null,null,null,null,null,null,"ÖĞRETMEN ADI SOYADI"]
[]
[null,null,null,null,null,null,null,null,null,null,null,null,null,{"$f":"'Modül S1'!N54:P54","v":"………………………………"}]
[null,null,null,null,null,null,null,null,null,null,null,null,null,"İMZA"]

{"sheet":"MS7","index":7,"n_rows":55,"n_cols":16,"rows_kept":55,"cut":false,"hidden":false,"merged":[[0,0,0,15],[1,3,1,15],[2,0,3,3],[2,4,2,13],[4,0,4,1],[4,2,4,3],[4,4,7,4],[4,5,7,5],[4,6,7,6],[4,7,7,7],[5,0,5,1],[5,2,5,3],[5,14,8,14],[5,15,8,15],[6,0,6,1],[6,2,6,3],[7,0,7,1],[7,2,7,3],[8,0,8,1],[8,2,8,3],[4,8,7,8],[4,9,7,9],[4,10,7,10],[4,11,7,11],[4,12,7,12],[4,13,7,13],[18,1,18,2],[8,4,8,12],[9,1,9,2],[9,14,9,15],[10,1,10,2],[11,1,11,2],[12,1,12,2],[13,1,13,2],[14,1,14,2],[15,1,15,2],[16,1,16,2],[17,1,17,2],[30,1,30,2],[19,1,19,2],[20,1,20,2],[21,1,21,2],[22,1,22,2],[23,1,23,2],[24,1,24,2],[25,1,25,2],[26,1,26,2],[27,1,27,2],[28,1,28,2],[29,1,29,2],[42,1,42,2],[31,1,31,2],[32,1,32,2],[33,1,33,2],[34,1,34,2],[35,1,35,2],[36,1,36,2],[37,1,37,2],[38,1,38,2],[39,1,39,2],[40,1,40,2],[41,1,41,2],[55,0,55,15],[43,1,43,2],[44,1,44,2],[45,1,45,2],[46,1,46,2],[47,1,47,2],[48,1,48,2],[49,1,49,2],[51,13,52,15],[53,0,54,12],[53,13,53,15],[54,13,54,15]]}
[]
[null,null,null,"MODÜL UYGULAMA SINAV DEĞERLENDİRME FORMU"]
[null,null,null,null,"UYGULAMA KRİTERLERİ"]
[null,null,null,null,1,2,3,4,5,6,7,8,9,10]
["KURS MERKEZİ: ",null,"Teomanpaşa Halk Eğitimi Merkezi",null,null,null,null,null,null,null,null,null,null,null,"YAZI İLE","RAKAM"]
["KURS ADI:",null,{"$f":"'Modül S1'!C6:D6","v":0},null,null,null,null,null,null,null,null,null,null,null,"YÜZ",100]
["KURS KODU:",null,{"$f":"'Modül S1'!C7:D7","v":0}]
["MODÜL ADI:"]
["MODÜL NO:",null,7,null,"NOT BAREMİ"]
["S.NO","T.C",null,"ADI VE SOYADI",null,null,null,null,null,null,null,null,null,null,"TOPLAM"]
[1,{"$f":"IF('Modül S1'!B11:C11=\"\",\"\",'Modül S1'!B11:C11)","v":""},null,{"$f":"IF('Modül S1'!D11=\"\",\"\",'Modül S1'!D11)","v":""},null,null,null,null,null,null,null,null,null,null,{"$f":"IF(P11=\"\",\"\",Sayıyı_Yazıya_Çevir(P11))","v":""},{"$f":"IF(E11=\"\",\"\",(IF(SUM(E11:N11)>100,\"<HATA>\",ROUND(SUM(E11:N11),0))))","v":""}]
[2,{"$f":"IF('Modül S1'!B12:C12=\"\",\"\",'Modül S1'!B12:C12)","v":""},null,{"$f":"IF('Modül S1'!D12=\"\",\"\",'Modül S1'!D12)","v":""},null,null,null,null,null,null,null,null,null,null,{"$f":"IF(P12=\"\",\"\",Sayıyı_Yazıya_Çevir(P12))","v":""},{"$f":"IF(E12=\"\",\"\",(IF(SUM(E12:N12)>100,\"<HATA>\",ROUND(SUM(E12:N12),0))))","v":""}]
[3,{"$f":"IF('Modül S1'!B13:C13=\"\",\"\",'Modül S1'!B13:C13)","v":""},null,{"$f":"IF('Modül S1'!D13=\"\",\"\",'Modül S1'!D13)","v":""},null,null,null,null,null,null,null,null,null,null,{"$f":"IF(P13=\"\",\"\",Sayıyı_Yazıya_Çevir(P13))","v":""},""]
[4,{"$f":"IF('Modül S1'!B14:C14=\"\",\"\",'Modül S1'!B14:C14)","v":""},null,{"$f":"IF('Modül S1'!D14=\"\",\"\",'Modül S1'!D14)","v":""},null,null,null,null,null,null,null,null,null,null,{"$f":"IF(P14=\"\",\"\",Sayıyı_Yazıya_Çevir(P14))","v":""},""]
[5,{"$f":"IF('Modül S1'!B15:C15=\"\",\"\",'Modül S1'!B15:C15)","v":""},null,{"$f":"IF('Modül S1'!D15=\"\",\"\",'Modül S1'!D15)","v":""},null,null,null,null,null,null,null,null,null,null,{"$f":"IF(P15=\"\",\"\",Sayıyı_Yazıya_Çevir(P15))","v":""},""]
[6,{"$f":"IF('Modül S1'!B16:C16=\"\",\"\",'Modül S1'!B16:C16)","v":""},null,{"$f":"IF('Modül S1'!D16=\"\",\"\",'Modül S1'!D16)","v":""},null,null,null,null,null,null,null,null,null,null,{"$f":"IF(P16=\"\",\"\",Sayıyı_Yazıya_Çevir(P16))","v":""},""]
[7,{"$f":"IF('Modül S1'!B17:C17=\"\",\"\",'Modül S1'!B17:C17)","v":""},null,{"$f":"IF('Modül S1'!D17=\"\",\"\",'Modül S1'!D17)","v":""},null,null,null,null,null,null,null,null,null,null,{"$f":"IF(P17=\"\",\"\",Sayıyı_Yazıya_Çevir(P17))","v":""},""]
[8,{"$f":"IF('Modül S1'!B18:C18=\"\",\"\",'Modül S1'!B18:C18)","v":""},null,{"$f":"IF('Modül S1'!D18=\"\",\"\",'Modül S1'!D18)","v":""},null,null,null,null,null,null,null,null,null,null,{"$f":"IF(P18=\"\",\"\",Sayıyı_Yazıya_Çevir(P18))","v":""},""]
[9,{"$f":"IF('Modül S1'!B19:C19=\"\",\"\",'Modül S1'!B19:C19)","v":""},null,{"$f":"IF('Modül S1'!D19=\"\",\"\",'Modül S1'!D19)","v":""},null,null,null,null,null,null,null,null,null,null,{"$f":"IF(P19=\"\",\"\",Sayıyı_Yazıya_Çevir(P19))","v":""},""]
[10,{"$f":"IF('Modül S1'!B20:C20=\"\",\"\",'Modül S1'!B20:C20)","v":""},null,{"$f":"IF('Modül S1'!D20=\"\",\"\",'Modül S1'!D20)","v":""},null,null,null,null,null,null,null,null,null,null,{"$f":"IF(P20=\"\",\"\",Sayıyı_Yazıya_Çevir(P20))","v":""},""]
[11,{"$f":"IF('Modül S1'!B21:C21=\"\",\"\",'Modül S1'!B21:C21)","v":""},null,{"$f":"IF('Modül S1'!D21=\"\",\"\",'Modül S1'!D21)","v":""},null,null,null,null,null,null,null,null,null,null,{"$f":"IF(P21=\"\",\"\",Sayıyı_Yazıya_Çevir(P21))","v":""},""]
[12,{"$f":"IF('Modül S1'!B22:C22=\"\",\"\",'Modül S1'!B22:C22)","v":""},null,{"$f":"IF('Modül S1'!D22=\"\",\"\",'Modül S1'!D22)","v":""},null,null,null,null,null,null,null,null,null,null,{"$f":"IF(P22=\"\",\"\",Sayıyı_Yazıya_Çevir(P22))","v":""},""]
[13,{"$f":"IF('Modül S1'!B23:C23=\"\",\"\",'Modül S1'!B23:C23)","v":""},null,{"$f":"IF('Modül S1'!D23=\"\",\"\",'Modül S1'!D23)","v":""},null,null,null,null,null,null,null,null,null,null,{"$f":"IF(P23=\"\",\"\",Sayıyı_Yazıya_Çevir(P23))","v":""},""]
[14,{"$f":"IF('Modül S1'!B24:C24=\"\",\"\",'Modül S1'!B24:C24)","v":""},null,{"$f":"IF('Modül S1'!D24=\"\",\"\",'Modül S1'!D24)","v":""},null,null,null,null,null,null,null,null,null,null,{"$f":"IF(P24=\"\",\"\",Sayıyı_Yazıya_Çevir(P24))","v":""},""]
[15,{"$f":"IF('Modül S1'!B25:C25=\"\",\"\",'Modül S1'!B25:C25)","v":""},null,{"$f":"IF('Modül S1'!D25=\"\",\"\",'Modül S1'!D25)","v":""},null,null,null,null,null,null,null,null,null,null,{"$f":"IF(P25=\"\",\"\",Sayıyı_Yazıya_Çevir(P25))","v":""},""]
[16,{"$f":"IF('Modül S1'!B26:C26=\"\",\"\",'Modül S1'!B26:C26)","v":""},null,{"$f":"IF('Modül S1'!D26=\"\",\"\",'Modül S1'!D26)","v":""},null,null,null,null,null,null,null,null,null,null,{"$f":"IF(P26=\"\",\"\",Sayıyı_Yazıya_Çevir(P26))","v":""},""]
[17,{"$f":"IF('Modül S1'!B27:C27=\"\",\"\",'Modül S1'!B27:C27)","v":""},null,{"$f":"IF('Modül S1'!D27=\"\",\"\",'Modül S1'!D27)","v":""},null,null,null,null,null,null,null,null,null,null,{"$f":"IF(P27=\"\",\"\",Sayıyı_Yazıya_Çevir(P27))","v":""},""]
[18,{"$f":"IF('Modül S1'!B28:C28=\"\",\"\",'Modül S1'!B28:C28)","v":""},null,{"$f":"IF('Modül S1'!D28=\"\",\"\",'Modül S1'!D28)","v":""},null,null,null,null,null,null,null,null,null,null,{"$f":"IF(P28=\"\",\"\",Sayıyı_Yazıya_Çevir(P28))","v":""},""]
[19,{"$f":"IF('Modül S1'!B29:C29=\"\",\"\",'Modül S1'!B29:C29)","v":""},null,{"$f":"IF('Modül S1'!D29=\"\",\"\",'Modül S1'!D29)","v":""},null,null,null,null,null,null,null,null,null,null,{"$f":"IF(P29=\"\",\"\",Sayıyı_Yazıya_Çevir(P29))","v":""},""]
[20,{"$f":"IF('Modül S1'!B30:C30=\"\",\"\",'Modül S1'!B30:C30)","v":""},null,{"$f":"IF('Modül S1'!D30=\"\",\"\",'Modül S1'!D30)","v":""},null,null,null,null,null,null,null,null,null,null,{"$f":"IF(P30=\"\",\"\",Sayıyı_Yazıya_Çevir(P30))","v":""},""]
[21,{"$f":"IF('Modül S1'!B31:C31=\"\",\"\",'Modül S1'!B31:C31)","v":""},null,{"$f":"IF('Modül S1'!D31=\"\",\"\",'Modül S1'!D31)","v":""},null,null,null,null,null,null,null,null,null,null,{"$f":"IF(P31=\"\",\"\",Sayıyı_Yazıya_Çevir(P31))","v":""},""]
[22,{"$f":"IF('Modül S1'!B32:C32=\"\",\"\",'Modül S1'!B32:C32)","v":""},null,{"$f":"IF('Modül S1'!D32=\"\",\"\",'Modül S1'!D32)","v":""},null,null,null,null,null,null,null,null,null,null,{"$f":"IF(P32=\"\",\"\",Sayıyı_Yazıya_Çevir(P32))","v":""},""]
[23,{"$f":"IF('Modül S1'!B33:C33=\"\",\"\",'Modül S1'!B33:C33)","v":""},null,{"$f":"IF('Modül S1'!D33=\"\",\"\",'Modül S1'!D33)","v":""},null,null,null,null,null,null,null,null,null,null,{"$f":"IF(P33=\"\",\"\",Sayıyı_Yazıya_Çevir(P33))","v":""},""]
[24,{"$f":"IF('Modül S1'!B34:C34=\"\",\"\",'Modül S1'!B34:C34)","v":""},null,{"$f":"IF('Modül S1'!D34=\"\",\"\",'Modül S1'!D34)","v":""},null,null,null,null,null,null,null,null,null,null,{"$f":"IF(P34=\"\",\"\",Sayıyı_Yazıya_Çevir(P34))","v":""},""]
[25,{"$f":"IF('Modül S1'!B35:C35=\"\",\"\",'Modül S1'!B35:C35)","v":""},null,{"$f":"IF('Modül S1'!D35=\"\",\"\",'Modül S1'!D35)","v":""},null,null,null,null,null,null,null,null,null,null,{"$f":"IF(P35=\"\",\"\",Sayıyı_Yazıya_Çevir(P35))","v":""},""]
[26,{"$f":"IF('Modül S1'!B36:C36=\"\",\"\",'Modül S1'!B36:C36)","v":""},null,{"$f":"IF('Modül S1'!D36=\"\",\"\",'Modül S1'!D36)","v":""},null,null,null,null,null,null,null,null,null,null,{"$f":"IF(P36=\"\",\"\",Sayıyı_Yazıya_Çevir(P36))","v":""},""]
[27,{"$f":"IF('Modül S1'!B37:C37=\"\",\"\",'Modül S1'!B37:C37)","v":""},null,{"$f":"IF('Modül S1'!D37=\"\",\"\",'Modül S1'!D37)","v":""},null,null,null,null,null,null,null,null,null,null,{"$f":"IF(P37=\"\",\"\",Sayıyı_Yazıya_Çevir(P37))","v":""},""]
[28,{"$f":"IF('Modül S1'!B38:C38=\"\",\"\",'Modül S1'!B38:C38)","v":""},null,{"$f":"IF('Modül S1'!D38=\"\",\"\",'Modül S1'!D38)","v":""},null,null,null,null,null,null,null,null,null,null,{"$f":"IF(P38=\"\",\"\",Sayıyı_Yazıya_Çevir(P38))","v":""},""]
[29,{"$f":"IF('Modül S1'!B39:C39=\"\",\"\",'Modül S1'!B39:C39)","v":""},null,{"$f":"IF('Modül S1'!D39=\"\",\"\",'Modül S1'!D39)","v":""},null,null,null,null,null,null,null,null,null,null,{"$f":"IF(P39=\"\",\"\",Sayıyı_Yazıya_Çevir(P39))","v":""},""]
[30,{"$f":"IF('Modül S1'!B40:C40=\"\",\"\",'Modül S1'!B40:C40)","v":""},null,{"$f":"IF('Modül S1'!D40=\"\",\"\",'Modül S1'!D40)","v":""},null,null,null,null,null,null,null,null,null,null,{"$f":"IF(P40=\"\",\"\",Sayıyı_Yazıya_Çevir(P40))","v":""},""]
[31,{"$f":"IF('Modül S1'!B41:C41=\"\",\"\",'Modül S1'!B41:C41)","v":""},null,{"$f":"IF('Modül S1'!D41=\"\",\"\",'Modül S1'!D41)","v":""},null,null,null,null,null,null,null,null,null,null,{"$f":"IF(P41=\"\",\"\",Sayıyı_Yazıya_Çevir(P41))","v":""},""]
[32,{"$f":"IF('Modül S1'!B42:C42=\"\",\"\",'Modül S1'!B42:C42)","v":""},null,{"$f":"IF('Modül S1'!D42=\"\",\"\",'Modül S1'!D42)","v":""},null,null,null,null,null,null,null,null,null,null,{"$f":"IF(P42=\"\",\"\",Sayıyı_Yazıya_Çevir(P42))","v":""},""]
[33,{"$f":"IF('Modül S1'!B43:C43=\"\",\"\",'Modül S1'!B43:C43)","v":""},null,{"$f":"IF('Modül S1'!D43=\"\",\"\",'Modül S1'!D43)","v":""},null,null,null,null,null,null,null,null,null,null,{"$f":"IF(P43=\"\",\"\",Sayıyı_Yazıya_Çevir(P43))","v":""},""]
[34,{"$f":"IF('Modül S1'!B44:C44=\"\",\"\",'Modül S1'!B44:C44)","v":""},null,{"$f":"IF('Modül S1'!D44=\"\",\"\",'Modül S1'!D44)","v":""},null,null,null,null,null,null,null,null,null,null,{"$f":"IF(P44=\"\",\"\",Sayıyı_Yazıya_Çevir(P44))","v":""},""]
[35,{"$f":"IF('Modül S1'!B45:C45=\"\",\"\",'Modül S1'!B45:C45)","v":""},null,{"$f":"IF('Modül S1'!D45=\"\",\"\",'Modül S1'!D45)","v":""},null,null,null,null,null,null,null,null,null,null,{"$f":"IF(P45=\"\",\"\",Sayıyı_Yazıya_Çevir(P45))","v":""},""]
[36,{"$f":"IF('Modül S1'!B46:C46=\"\",\"\",'Modül S1'!B46:C46)","v":""},null,{"$f":"IF('Modül S1'!D46=\"\",\"\",'Modül S1'!D46)","v":""},null,null,null,null,null,null,null,null,null,null,{"$f":"IF(P46=\"\",\"\",Sayıyı_Yazıya_Çevir(P46))","v":""},""]
[37,{"$f":"IF('Modül S1'!B47:C47=\"\",\"\",'Modül S1'!B47:C47)","v":""},null,{"$f":"IF('Modül S1'!D47=\"\",\"\",'Modül S1'!D47)","v":""},null,null,null,null,null,null,null,null,null,null,{"$f":"IF(P47=\"\",\"\",Sayıyı_Yazıya_Çevir(P47))","v":""},""]
[38,{"$f":"IF('Modül S1'!B48:C48=\"\",\"\",'Modül S1'!B48:C48)","v":""},null,{"$f":"IF('Modül S1'!D48=\"\",\"\",'Modül S1'!D48)","v":""},null,null,null,null,null,null,null,null,null,null,{"$f":"IF(P48=\"\",\"\",Sayıyı_Yazıya_Çevir(P48))","v":""},""]
[39,{"$f":"IF('Modül S1'!B49:C49=\"\",\"\",'Modül S1'!B49:C49)","v":""},null,{"$f":"IF('Modül S1'!D49=\"\",\"\",'Modül S1'!D49)","v":""},null,null,null,null,null,null,null,null,null,null,{"$f":"IF(P49=\"\",\"\",Sayıyı_Yazıya_Çevir(P49))","v":""},""]
[40,{"$f":"IF('Modül S1'!B50:C50=\"\",\"\",'Modül S1'!B50:C50)","v":""},null,{"$f":"IF('Modül S1'!D50=\"\",\"\",'Modül S1'!D50)","v":""},null,null,null,null,null,null,null,null,null,null,{"$f":"IF(P50=\"\",\"\",Sayıyı_Yazıya_Çevir(P50))","v":""},""]
["Not: E yaygında kayıtlı bütün kursiyerler not fişine kaydedilecektir."]
[null,null,null,null,null,null,null,null,null,null,null,null,null,"ÖĞRETMEN ADI SOYADI"]
[]
[null,null,null,null,null,null,null,null,null,null,null,null,null,{"$f":"'Modül S1'!N54:P54","v":"………………………………"}]
[null,null,null,null,null,null,null,null,null,null,null,null,null,"İMZA"]

{"sheet":"MS8","index":8,"n_rows":55,"n_cols":16,"rows_kept":55,"cut":false,"hidden":false,"merged":[[0,0,0,15],[1,3,1,15],[2,0,3,3],[2,4,2,13],[4,0,4,1],[4,2,4,3],[4,4,7,4],[4,5,7,5],[4,6,7,6],[4,7,7,7],[5,0,5,1],[5,2,5,3],[5,14,8,14],[5,15,8,15],[6,0,6,1],[6,2,6,3],[7,0,7,1],[7,2,7,3],[8,0,8,1],[8,2,8,3],[4,8,7,8],[4,9,7,9],[4,10,7,10],[4,11,7,11],[4,12,7,12],[4,13,7,13],[18,1,18,2],[8,4,8,12],[9,1,9,2],[9,14,9,15],[10,1,10,2],[11,1,11,2],[12,1,12,2],[13,1,13,2],[14,1,14,2],[15,1,15,2],[16,1,16,2],[17,1,17,2],[30,1,30,2],[19,1,19,2],[20,1,20,2],[21,1,21,2],[22,1,22,2],[23,1,23,2],[24,1,24,2],[25,1,25,2],[26,1,26,2],[27,1,27,2],[28,1,28,2],[29,1,29,2],[42,1,42,2],[31,1,31,2],[32,1,32,2],[33,1,33,2],[34,1,34,2],[35,1,35,2],[36,1,36,2],[37,1,37,2],[38,1,38,2],[39,1,39,2],[40,1,40,2],[41,1,41,2],[55,0,55,15],[43,1,43,2],[44,1,44,2],[45,1,45,2],[46,1,46,2],[47,1,47,2],[48,1,48,2],[49,1,49,2],[51,13,52,15],[53,0,54,12],[53,13,53,15],[54,13,54,15]]}
[]
[null,null,null,"MODÜL UYGULAMA SINAV DEĞERLENDİRME FORMU"]
[null,null,null,null,"UYGULAMA KRİTERLERİ"]
[null,null,null,null,1,2,3,4,5,6,7,8,9,10]
["KURS MERKEZİ: ",null,"Teomanpaşa Halk Eğitimi Merkezi",null,null,null,null,null,null,null,null,null,null,null,"YAZI İLE","RAKAM"]
["KURS ADI:",null,{"$f":"'Modül S1'!C6:D6","v":0},null,null,null,null,null,null,null,null,null,null,null,"YÜZ",100]
["KURS KODU:",null,{"$f":"'Modül S1'!C7:D7","v":0}]
["MODÜL ADI:"]
["MODÜL NO:",null,8,null,"NOT BAREMİ"]
["S.NO","T.C",null,"ADI VE SOYADI",null,null,null,null,null,null,null,null,null,null,"TOPLAM"]
[1,{"$f":"IF('Modül S1'!B11:C11=\"\",\"\",'Modül S1'!B11:C11)","v":""},null,{"$f":"IF('Modül S1'!D11=\"\",\"\",'Modül S1'!D11)","v":""},null,null,null,null,null,null,null,null,null,null,{"$f":"IF(P11=\"\",\"\",Sayıyı_Yazıya_Çevir(P11))","v":""},{"$f":"IF(E11=\"\",\"\",(IF(SUM(E11:N11)>100,\"<HATA>\",ROUND(SUM(E11:N11),0))))","v":""}]
[2,{"$f":"IF('Modül S1'!B12:C12=\"\",\"\",'Modül S1'!B12:C12)","v":""},null,{"$f":"IF('Modül S1'!D12=\"\",\"\",'Modül S1'!D12)","v":""},null,null,null,null,null,null,null,null,null,null,{"$f":"IF(P12=\"\",\"\",Sayıyı_Yazıya_Çevir(P12))","v":""},{"$f":"IF(E12=\"\",\"\",(IF(SUM(E12:N12)>100,\"<HATA>\",ROUND(SUM(E12:N12),0))))","v":""}]
[3,{"$f":"IF('Modül S1'!B13:C13=\"\",\"\",'Modül S1'!B13:C13)","v":""},null,{"$f":"IF('Modül S1'!D13=\"\",\"\",'Modül S1'!D13)","v":""},null,null,null,null,null,null,null,null,null,null,{"$f":"IF(P13=\"\",\"\",Sayıyı_Yazıya_Çevir(P13))","v":""},""]
[4,{"$f":"IF('Modül S1'!B14:C14=\"\",\"\",'Modül S1'!B14:C14)","v":""},null,{"$f":"IF('Modül S1'!D14=\"\",\"\",'Modül S1'!D14)","v":""},null,null,null,null,null,null,null,null,null,null,{"$f":"IF(P14=\"\",\"\",Sayıyı_Yazıya_Çevir(P14))","v":""},""]
[5,{"$f":"IF('Modül S1'!B15:C15=\"\",\"\",'Modül S1'!B15:C15)","v":""},null,{"$f":"IF('Modül S1'!D15=\"\",\"\",'Modül S1'!D15)","v":""},null,null,null,null,null,null,null,null,null,null,{"$f":"IF(P15=\"\",\"\",Sayıyı_Yazıya_Çevir(P15))","v":""},""]
[6,{"$f":"IF('Modül S1'!B16:C16=\"\",\"\",'Modül S1'!B16:C16)","v":""},null,{"$f":"IF('Modül S1'!D16=\"\",\"\",'Modül S1'!D16)","v":""},null,null,null,null,null,null,null,null,null,null,{"$f":"IF(P16=\"\",\"\",Sayıyı_Yazıya_Çevir(P16))","v":""},""]
[7,{"$f":"IF('Modül S1'!B17:C17=\"\",\"\",'Modül S1'!B17:C17)","v":""},null,{"$f":"IF('Modül S1'!D17=\"\",\"\",'Modül S1'!D17)","v":""},null,null,null,null,null,null,null,null,null,null,{"$f":"IF(P17=\"\",\"\",Sayıyı_Yazıya_Çevir(P17))","v":""},""]
[8,{"$f":"IF('Modül S1'!B18:C18=\"\",\"\",'Modül S1'!B18:C18)","v":""},null,{"$f":"IF('Modül S1'!D18=\"\",\"\",'Modül S1'!D18)","v":""},null,null,null,null,null,null,null,null,null,null,{"$f":"IF(P18=\"\",\"\",Sayıyı_Yazıya_Çevir(P18))","v":""},""]
[9,{"$f":"IF('Modül S1'!B19:C19=\"\",\"\",'Modül S1'!B19:C19)","v":""},null,{"$f":"IF('Modül S1'!D19=\"\",\"\",'Modül S1'!D19)","v":""},null,null,null,null,null,null,null,null,null,null,{"$f":"IF(P19=\"\",\"\",Sayıyı_Yazıya_Çevir(P19))","v":""},""]
[10,{"$f":"IF('Modül S1'!B20:C20=\"\",\"\",'Modül S1'!B20:C20)","v":""},null,{"$f":"IF('Modül S1'!D20=\"\",\"\",'Modül S1'!D20)","v":""},null,null,null,null,null,null,null,null,null,null,{"$f":"IF(P20=\"\",\"\",Sayıyı_Yazıya_Çevir(P20))","v":""},""]
[11,{"$f":"IF('Modül S1'!B21:C21=\"\",\"\",'Modül S1'!B21:C21)","v":""},null,{"$f":"IF('Modül S1'!D21=\"\",\"\",'Modül S1'!D21)","v":""},null,null,null,null,null,null,null,null,null,null,{"$f":"IF(P21=\"\",\"\",Sayıyı_Yazıya_Çevir(P21))","v":""},""]
[12,{"$f":"IF('Modül S1'!B22:C22=\"\",\"\",'Modül S1'!B22:C22)","v":""},null,{"$f":"IF('Modül S1'!D22=\"\",\"\",'Modül S1'!D22)","v":""},null,null,null,null,null,null,null,null,null,null,{"$f":"IF(P22=\"\",\"\",Sayıyı_Yazıya_Çevir(P22))","v":""},""]
[13,{"$f":"IF('Modül S1'!B23:C23=\"\",\"\",'Modül S1'!B23:C23)","v":""},null,{"$f":"IF('Modül S1'!D23=\"\",\"\",'Modül S1'!D23)","v":""},null,null,null,null,null,null,null,null,null,null,{"$f":"IF(P23=\"\",\"\",Sayıyı_Yazıya_Çevir(P23))","v":""},""]
[14,{"$f":"IF('Modül S1'!B24:C24=\"\",\"\",'Modül S1'!B24:C24)","v":""},null,{"$f":"IF('Modül S1'!D24=\"\",\"\",'Modül S1'!D24)","v":""},null,null,null,null,null,null,null,null,null,null,{"$f":"IF(P24=\"\",\"\",Sayıyı_Yazıya_Çevir(P24))","v":""},""]
[15,{"$f":"IF('Modül S1'!B25:C25=\"\",\"\",'Modül S1'!B25:C25)","v":""},null,{"$f":"IF('Modül S1'!D25=\"\",\"\",'Modül S1'!D25)","v":""},null,null,null,null,null,null,null,null,null,null,{"$f":"IF(P25=\"\",\"\",Sayıyı_Yazıya_Çevir(P25))","v":""},""]
[16,{"$f":"IF('Modül S1'!B26:C26=\"\",\"\",'Modül S1'!B26:C26)","v":""},null,{"$f":"IF('Modül S1'!D26=\"\",\"\",'Modül S1'!D26)","v":""},null,null,null,null,null,null,null,null,null,null,{"$f":"IF(P26=\"\",\"\",Sayıyı_Yazıya_Çevir(P26))","v":""},""]
[17,{"$f":"IF('Modül S1'!B27:C27=\"\",\"\",'Modül S1'!B27:C27)","v":""},null,{"$f":"IF('Modül S1'!D27=\"\",\"\",'Modül S1'!D27)","v":""},null,null,null,null,null,null,null,null,null,null,{"$f":"IF(P27=\"\",\"\",Sayıyı_Yazıya_Çevir(P27))","v":""},""]
[18,{"$f":"IF('Modül S1'!B28:C28=\"\",\"\",'Modül S1'!B28:C28)","v":""},null,{"$f":"IF('Modül S1'!D28=\"\",\"\",'Modül S1'!D28)","v":""},null,null,null,null,null,null,null,null,null,null,{"$f":"IF(P28=\"\",\"\",Sayıyı_Yazıya_Çevir(P28))","v":""},""]
[19,{"$f":"IF('Modül S1'!B29:C29=\"\",\"\",'Modül S1'!B29:C29)","v":""},null,{"$f":"IF('Modül S1'!D29=\"\",\"\",'Modül S1'!D29)","v":""},null,null,null,null,null,null,null,null,null,null,{"$f":"IF(P29=\"\",\"\",Sayıyı_Yazıya_Çevir(P29))","v":""},""]
[20,{"$f":"IF('Modül S1'!B30:C30=\"\",\"\",'Modül S1'!B30:C30)","v":""},null,{"$f":"IF('Modül S1'!D30=\"\",\"\",'Modül S1'!D30)","v":""},null,null,null,null,null,null,null,null,null,null,{"$f":"IF(P30=\"\",\"\",Sayıyı_Yazıya_Çevir(P30))","v":""},""]
[21,{"$f":"IF('Modül S1'!B31:C31=\"\",\"\",'Modül S1'!B31:C31)","v":""},null,{"$f":"IF('Modül S1'!D31=\"\",\"\",'Modül S1'!D31)","v":""},null,null,null,null,null,null,null,null,null,null,{"$f":"IF(P31=\"\",\"\",Sayıyı_Yazıya_Çevir(P31))","v":""},""]
[22,{"$f":"IF('Modül S1'!B32:C32=\"\",\"\",'Modül S1'!B32:C32)","v":""},null,{"$f":"IF('Modül S1'!D32=\"\",\"\",'Modül S1'!D32)","v":""},null,null,null,null,null,null,null,null,null,null,{"$f":"IF(P32=\"\",\"\",Sayıyı_Yazıya_Çevir(P32))","v":""},""]
[23,{"$f":"IF('Modül S1'!B33:C33=\"\",\"\",'Modül S1'!B33:C33)","v":""},null,{"$f":"IF('Modül S1'!D33=\"\",\"\",'Modül S1'!D33)","v":""},null,null,null,null,null,null,null,null,null,null,{"$f":"IF(P33=\"\",\"\",Sayıyı_Yazıya_Çevir(P33))","v":""},""]
[24,{"$f":"IF('Modül S1'!B34:C34=\"\",\"\",'Modül S1'!B34:C34)","v":""},null,{"$f":"IF('Modül S1'!D34=\"\",\"\",'Modül S1'!D34)","v":""},null,null,null,null,null,null,null,null,null,null,{"$f":"IF(P34=\"\",\"\",Sayıyı_Yazıya_Çevir(P34))","v":""},""]
[25,{"$f":"IF('Modül S1'!B35:C35=\"\",\"\",'Modül S1'!B35:C35)","v":""},null,{"$f":"IF('Modül S1'!D35=\"\",\"\",'Modül S1'!D35)","v":""},null,null,null,null,null,null,null,null,null,null,{"$f":"IF(P35=\"\",\"\",Sayıyı_Yazıya_Çevir(P35))","v":""},""]
[26,{"$f":"IF('Modül S1'!B36:C36=\"\",\"\",'Modül S1'!B36:C36)","v":""},null,{"$f":"IF('Modül S1'!D36=\"\",\"\",'Modül S1'!D36)","v":""},null,null,null,null,null,null,null,null,null,null,{"$f":"IF(P36=\"\",\"\",Sayıyı_Yazıya_Çevir(P36))","v":""},""]
[27,{"$f":"IF('Modül S1'!B37:C37=\"\",\"\",'Modül S1'!B37:C37)","v":""},null,{"$f":"IF('Modül S1'!D37=\"\",\"\",'Modül S1'!D37)","v":""},null,null,null,null,null,null,null,null,null,null,{"$f":"IF(P37=\"\",\"\",Sayıyı_Yazıya_Çevir(P37))","v":""},""]
[28,{"$f":"IF('Modül S1'!B38:C38=\"\",\"\",'Modül S1'!B38:C38)","v":""},null,{"$f":"IF('Modül S1'!D38=\"\",\"\",'Modül S1'!D38)","v":""},null,null,null,null,null,null,null,null,null,null,{"$f":"IF(P38=\"\",\"\",Sayıyı_Yazıya_Çevir(P38))","v":""},""]
[29,{"$f":"IF('Modül S1'!B39:C39=\"\",\"\",'Modül S1'!B39:C39)","v":""},null,{"$f":"IF('Modül S1'!D39=\"\",\"\",'Modül S1'!D39)","v":""},null,null,null,null,null,null,null,null,null,null,{"$f":"IF(P39=\"\",\"\",Sayıyı_Yazıya_Çevir(P39))","v":""},""]
[30,{"$f":"IF('Modül S1'!B40:C40=\"\",\"\",'Modül S1'!B40:C40)","v":""},null,{"$f":"IF('Modül S1'!D40=\"\",\"\",'Modül S1'!D40)","v":""},null,null,null,null,null,null,null,null,null,null,{"$f":"IF(P40=\"\",\"\",Sayıyı_Yazıya_Çevir(P40))","v":""},""]
[31,{"$f":"IF('Modül S1'!B41:C41=\"\",\"\",'Modül S1'!B41:C41)","v":""},null,{"$f":"IF('Modül S1'!D41=\"\",\"\",'Modül S1'!D41)","v":""},null,null,null,null,null,null,null,null,null,null,{"$f":"IF(P41=\"\",\"\",Sayıyı_Yazıya_Çevir(P41))","v":""},""]
[32,{"$f":"IF('Modül S1'!B42:C42=\"\",\"\",'Modül S1'!B42:C42)","v":""},null,{"$f":"IF('Modül S1'!D42=\"\",\"\",'Modül S1'!D42)","v":""},null,null,null,null,null,null,null,null,null,null,{"$f":"IF(P42=\"\",\"\",Sayıyı_Yazıya_Çevir(P42))","v":""},""]
[33,{"$f":"IF('Modül S1'!B43:C43=\"\",\"\",'Modül S1'!B43:C43)","v":""},null,{"$f":"IF('Modül S1'!D43=\"\",\"\",'Modül S1'!D43)","v":""},null,null,null,null,null,null,null,null,null,null,{"$f":"IF(P43=\"\",\"\",Sayıyı_Yazıya_Çevir(P43))","v":""},""]
[34,{"$f":"IF('Modül S1'!B44:C44=\"\",\"\",'Modül S1'!B44:C44)","v":""},null,{"$f":"IF('Modül S1'!D44=\"\",\"\",'Modül S1'!D44)","v":""},null,null,null,null,null,null,null,null,null,null,{"$f":"IF(P44=\"\",\"\",Sayıyı_Yazıya_Çevir(P44))","v":""},""]
[35,{"$f":"IF('Modül S1'!B45:C45=\"\",\"\",'Modül S1'!B45:C45)","v":""},null,{"$f":"IF('Modül S1'!D45=\"\",\"\",'Modül S1'!D45)","v":""},null,null,null,null,null,null,null,null,null,null,{"$f":"IF(P45=\"\",\"\",Sayıyı_Yazıya_Çevir(P45))","v":""},""]
[36,{"$f":"IF('Modül S1'!B46:C46=\"\",\"\",'Modül S1'!B46:C46)","v":""},null,{"$f":"IF('Modül S1'!D46=\"\",\"\",'Modül S1'!D46)","v":""},null,null,null,null,null,null,null,null,null,null,{"$f":"IF(P46=\"\",\"\",Sayıyı_Yazıya_Çevir(P46))","v":""},""]
[37,{"$f":"IF('Modül S1'!B47:C47=\"\",\"\",'Modül S1'!B47:C47)","v":""},null,{"$f":"IF('Modül S1'!D47=\"\",\"\",'Modül S1'!D47)","v":""},null,null,null,null,null,null,null,null,null,null,{"$f":"IF(P47=\"\",\"\",Sayıyı_Yazıya_Çevir(P47))","v":""},""]
[38,{"$f":"IF('Modül S1'!B48:C48=\"\",\"\",'Modül S1'!B48:C48)","v":""},null,{"$f":"IF('Modül S1'!D48=\"\",\"\",'Modül S1'!D48)","v":""},null,null,null,null,null,null,null,null,null,null,{"$f":"IF(P48=\"\",\"\",Sayıyı_Yazıya_Çevir(P48))","v":""},""]
[39,{"$f":"IF('Modül S1'!B49:C49=\"\",\"\",'Modül S1'!B49:C49)","v":""},null,{"$f":"IF('Modül S1'!D49=\"\",\"\",'Modül S1'!D49)","v":""},null,null,null,null,null,null,null,null,null,null,{"$f":"IF(P49=\"\",\"\",Sayıyı_Yazıya_Çevir(P49))","v":""},""]
[40,{"$f":"IF('Modül S1'!B50:C50=\"\",\"\",'Modül S1'!B50:C50)","v":""},null,{"$f":"IF('Modül S1'!D50=\"\",\"\",'Modül S1'!D50)","v":""},null,null,null,null,null,null,null,null,null,null,{"$f":"IF(P50=\"\",\"\",Sayıyı_Yazıya_Çevir(P50))","v":""},""]
["Not: E yaygında kayıtlı bütün kursiyerler not fişine kaydedilecektir."]
[null,null,null,null,null,null,null,null,null,null,null,null,null,"ÖĞRETMEN ADI SOYADI"]
[]
[null,null,null,null,null,null,null,null,null,null,null,null,null,{"$f":"'Modül S1'!N54:P54","v":"………………………………"}]
[null,null,null,null,null,null,null,null,null,null,null,null,null,"İMZA"]

{"sheet":"MS9","index":9,"n_rows":55,"n_cols":16,"rows_kept":55,"cut":false,"hidden":false,"merged":[[0,0,0,15],[1,3,1,15],[2,0,3,3],[2,4,2,13],[4,0,4,1],[4,2,4,3],[4,4,7,4],[4,5,7,5],[4,6,7,6],[4,7,7,7],[5,0,5,1],[5,2,5,3],[5,14,8,14],[5,15,8,15],[6,0,6,1],[6,2,6,3],[7,0,7,1],[7,2,7,3],[8,0,8,1],[8,2,8,3],[4,8,7,8],[4,9,7,9],[4,10,7,10],[4,11,7,11],[4,12,7,12],[4,13,7,13],[18,1,18,2],[8,4,8,12],[9,1,9,2],[9,14,9,15],[10,1,10,2],[11,1,11,2],[12,1,12,2],[13,1,13,2],[14,1,14,2],[15,1,15,2],[16,1,16,2],[17,1,17,2],[30,1,30,2],[19,1,19,2],[20,1,20,2],[21,1,21,2],[22,1,22,2],[23,1,23,2],[24,1,24,2],[25,1,25,2],[26,1,26,2],[27,1,27,2],[28,1,28,2],[29,1,29,2],[42,1,42,2],[31,1,31,2],[32,1,32,2],[33,1,33,2],[34,1,34,2],[35,1,35,2],[36,1,36,2],[37,1,37,2],[38,1,38,2],[39,1,39,2],[40,1,40,2],[41,1,41,2],[55,0,55,15],[43,1,43,2],[44,1,44,2],[45,1,45,2],[46,1,46,2],[47,1,47,2],[48,1,48,2],[49,1,49,2],[51,13,52,15],[53,0,54,12],[53,13,53,15],[54,13,54,15]]}
[]
[null,null,null,"MODÜL UYGULAMA SINAV DEĞERLENDİRME FORMU"]
[null,null,null,null,"UYGULAMA KRİTERLERİ"]
[null,null,null,null,1,2,3,4,5,6,7,8,9,10]
["KURS MERKEZİ: ",null,"Teomanpaşa Halk Eğitimi Merkezi",null,null,null,null,null,null,null,null,null,null,null,"YAZI İLE","RAKAM"]
["KURS ADI:",null,{"$f":"'Modül S1'!C6:D6","v":0},null,null,null,null,null,null,null,null,null,null,null,"YÜZ",100]
["KURS KODU:",null,{"$f":"'Modül S1'!C7:D7","v":0}]
["MODÜL ADI:"]
["MODÜL NO:",null,9,null,"NOT BAREMİ"]
["S.NO","T.C",null,"ADI VE SOYADI",null,null,null,null,null,null,null,null,null,null,"TOPLAM"]
[1,{"$f":"IF('Modül S1'!B11:C11=\"\",\"\",'Modül S1'!B11:C11)","v":""},null,{"$f":"IF('Modül S1'!D11=\"\",\"\",'Modül S1'!D11)","v":""},null,null,null,null,null,null,null,null,null,null,{"$f":"IF(P11=\"\",\"\",Sayıyı_Yazıya_Çevir(P11))","v":""},{"$f":"IF(E11=\"\",\"\",(IF(SUM(E11:N11)>100,\"<HATA>\",ROUND(SUM(E11:N11),0))))","v":""}]
[2,{"$f":"IF('Modül S1'!B12:C12=\"\",\"\",'Modül S1'!B12:C12)","v":""},null,{"$f":"IF('Modül S1'!D12=\"\",\"\",'Modül S1'!D12)","v":""},null,null,null,null,null,null,null,null,null,null,{"$f":"IF(P12=\"\",\"\",Sayıyı_Yazıya_Çevir(P12))","v":""},{"$f":"IF(E12=\"\",\"\",(IF(SUM(E12:N12)>100,\"<HATA>\",ROUND(SUM(E12:N12),0))))","v":""}]
[3,{"$f":"IF('Modül S1'!B13:C13=\"\",\"\",'Modül S1'!B13:C13)","v":""},null,{"$f":"IF('Modül S1'!D13=\"\",\"\",'Modül S1'!D13)","v":""},null,null,null,null,null,null,null,null,null,null,{"$f":"IF(P13=\"\",\"\",Sayıyı_Yazıya_Çevir(P13))","v":""},""]
[4,{"$f":"IF('Modül S1'!B14:C14=\"\",\"\",'Modül S1'!B14:C14)","v":""},null,{"$f":"IF('Modül S1'!D14=\"\",\"\",'Modül S1'!D14)","v":""},null,null,null,null,null,null,null,null,null,null,{"$f":"IF(P14=\"\",\"\",Sayıyı_Yazıya_Çevir(P14))","v":""},""]
[5,{"$f":"IF('Modül S1'!B15:C15=\"\",\"\",'Modül S1'!B15:C15)","v":""},null,{"$f":"IF('Modül S1'!D15=\"\",\"\",'Modül S1'!D15)","v":""},null,null,null,null,null,null,null,null,null,null,{"$f":"IF(P15=\"\",\"\",Sayıyı_Yazıya_Çevir(P15))","v":""},""]
[6,{"$f":"IF('Modül S1'!B16:C16=\"\",\"\",'Modül S1'!B16:C16)","v":""},null,{"$f":"IF('Modül S1'!D16=\"\",\"\",'Modül S1'!D16)","v":""},null,null,null,null,null,null,null,null,null,null,{"$f":"IF(P16=\"\",\"\",Sayıyı_Yazıya_Çevir(P16))","v":""},""]
[7,{"$f":"IF('Modül S1'!B17:C17=\"\",\"\",'Modül S1'!B17:C17)","v":""},null,{"$f":"IF('Modül S1'!D17=\"\",\"\",'Modül S1'!D17)","v":""},null,null,null,null,null,null,null,null,null,null,{"$f":"IF(P17=\"\",\"\",Sayıyı_Yazıya_Çevir(P17))","v":""},""]
[8,{"$f":"IF('Modül S1'!B18:C18=\"\",\"\",'Modül S1'!B18:C18)","v":""},null,{"$f":"IF('Modül S1'!D18=\"\",\"\",'Modül S1'!D18)","v":""},null,null,null,null,null,null,null,null,null,null,{"$f":"IF(P18=\"\",\"\",Sayıyı_Yazıya_Çevir(P18))","v":""},""]
[9,{"$f":"IF('Modül S1'!B19:C19=\"\",\"\",'Modül S1'!B19:C19)","v":""},null,{"$f":"IF('Modül S1'!D19=\"\",\"\",'Modül S1'!D19)","v":""},null,null,null,null,null,null,null,null,null,null,{"$f":"IF(P19=\"\",\"\",Sayıyı_Yazıya_Çevir(P19))","v":""},""]
[10,{"$f":"IF('Modül S1'!B20:C20=\"\",\"\",'Modül S1'!B20:C20)","v":""},null,{"$f":"IF('Modül S1'!D20=\"\",\"\",'Modül S1'!D20)","v":""},null,null,null,null,null,null,null,null,null,null,{"$f":"IF(P20=\"\",\"\",Sayıyı_Yazıya_Çevir(P20))","v":""},""]
[11,{"$f":"IF('Modül S1'!B21:C21=\"\",\"\",'Modül S1'!B21:C21)","v":""},null,{"$f":"IF('Modül S1'!D21=\"\",\"\",'Modül S1'!D21)","v":""},null,null,null,null,null,null,null,null,null,null,{"$f":"IF(P21=\"\",\"\",Sayıyı_Yazıya_Çevir(P21))","v":""},""]
[12,{"$f":"IF('Modül S1'!B22:C22=\"\",\"\",'Modül S1'!B22:C22)","v":""},null,{"$f":"IF('Modül S1'!D22=\"\",\"\",'Modül S1'!D22)","v":""},null,null,null,null,null,null,null,null,null,null,{"$f":"IF(P22=\"\",\"\",Sayıyı_Yazıya_Çevir(P22))","v":""},""]
[13,{"$f":"IF('Modül S1'!B23:C23=\"\",\"\",'Modül S1'!B23:C23)","v":""},null,{"$f":"IF('Modül S1'!D23=\"\",\"\",'Modül S1'!D23)","v":""},null,null,null,null,null,null,null,null,null,null,{"$f":"IF(P23=\"\",\"\",Sayıyı_Yazıya_Çevir(P23))","v":""},""]
[14,{"$f":"IF('Modül S1'!B24:C24=\"\",\"\",'Modül S1'!B24:C24)","v":""},null,{"$f":"IF('Modül S1'!D24=\"\",\"\",'Modül S1'!D24)","v":""},null,null,null,null,null,null,null,null,null,null,{"$f":"IF(P24=\"\",\"\",Sayıyı_Yazıya_Çevir(P24))","v":""},""]
[15,{"$f":"IF('Modül S1'!B25:C25=\"\",\"\",'Modül S1'!B25:C25)","v":""},null,{"$f":"IF('Modül S1'!D25=\"\",\"\",'Modül S1'!D25)","v":""},null,null,null,null,null,null,null,null,null,null,{"$f":"IF(P25=\"\",\"\",Sayıyı_Yazıya_Çevir(P25))","v":""},""]
[16,{"$f":"IF('Modül S1'!B26:C26=\"\",\"\",'Modül S1'!B26:C26)","v":""},null,{"$f":"IF('Modül S1'!D26=\"\",\"\",'Modül S1'!D26)","v":""},null,null,null,null,null,null,null,null,null,null,{"$f":"IF(P26=\"\",\"\",Sayıyı_Yazıya_Çevir(P26))","v":""},""]
[17,{"$f":"IF('Modül S1'!B27:C27=\"\",\"\",'Modül S1'!B27:C27)","v":""},null,{"$f":"IF('Modül S1'!D27=\"\",\"\",'Modül S1'!D27)","v":""},null,null,null,null,null,null,null,null,null,null,{"$f":"IF(P27=\"\",\"\",Sayıyı_Yazıya_Çevir(P27))","v":""},""]
[18,{"$f":"IF('Modül S1'!B28:C28=\"\",\"\",'Modül S1'!B28:C28)","v":""},null,{"$f":"IF('Modül S1'!D28=\"\",\"\",'Modül S1'!D28)","v":""},null,null,null,null,null,null,null,null,null,null,{"$f":"IF(P28=\"\",\"\",Sayıyı_Yazıya_Çevir(P28))","v":""},""]
[19,{"$f":"IF('Modül S1'!B29:C29=\"\",\"\",'Modül S1'!B29:C29)","v":""},null,{"$f":"IF('Modül S1'!D29=\"\",\"\",'Modül S1'!D29)","v":""},null,null,null,null,null,null,null,null,null,null,{"$f":"IF(P29=\"\",\"\",Sayıyı_Yazıya_Çevir(P29))","v":""},""]
[20,{"$f":"IF('Modül S1'!B30:C30=\"\",\"\",'Modül S1'!B30:C30)","v":""},null,{"$f":"IF('Modül S1'!D30=\"\",\"\",'Modül S1'!D30)","v":""},null,null,null,null,null,null,null,null,null,null,{"$f":"IF(P30=\"\",\"\",Sayıyı_Yazıya_Çevir(P30))","v":""},""]
[21,{"$f":"IF('Modül S1'!B31:C31=\"\",\"\",'Modül S1'!B31:C31)","v":""},null,{"$f":"IF('Modül S1'!D31=\"\",\"\",'Modül S1'!D31)","v":""},null,null,null,null,null,null,null,null,null,null,{"$f":"IF(P31=\"\",\"\",Sayıyı_Yazıya_Çevir(P31))","v":""},""]
[22,{"$f":"IF('Modül S1'!B32:C32=\"\",\"\",'Modül S1'!B32:C32)","v":""},null,{"$f":"IF('Modül S1'!D32=\"\",\"\",'Modül S1'!D32)","v":""},null,null,null,null,null,null,null,null,null,null,{"$f":"IF(P32=\"\",\"\",Sayıyı_Yazıya_Çevir(P32))","v":""},""]
[23,{"$f":"IF('Modül S1'!B33:C33=\"\",\"\",'Modül S1'!B33:C33)","v":""},null,{"$f":"IF('Modül S1'!D33=\"\",\"\",'Modül S1'!D33)","v":""},null,null,null,null,null,null,null,null,null,null,{"$f":"IF(P33=\"\",\"\",Sayıyı_Yazıya_Çevir(P33))","v":""},""]
[24,{"$f":"IF('Modül S1'!B34:C34=\"\",\"\",'Modül S1'!B34:C34)","v":""},null,{"$f":"IF('Modül S1'!D34=\"\",\"\",'Modül S1'!D34)","v":""},null,null,null,null,null,null,null,null,null,null,{"$f":"IF(P34=\"\",\"\",Sayıyı_Yazıya_Çevir(P34))","v":""},""]
[25,{"$f":"IF('Modül S1'!B35:C35=\"\",\"\",'Modül S1'!B35:C35)","v":""},null,{"$f":"IF('Modül S1'!D35=\"\",\"\",'Modül S1'!D35)","v":""},null,null,null,null,null,null,null,null,null,null,{"$f":"IF(P35=\"\",\"\",Sayıyı_Yazıya_Çevir(P35))","v":""},""]
[26,{"$f":"IF('Modül S1'!B36:C36=\"\",\"\",'Modül S1'!B36:C36)","v":""},null,{"$f":"IF('Modül S1'!D36=\"\",\"\",'Modül S1'!D36)","v":""},null,null,null,null,null,null,null,null,null,null,{"$f":"IF(P36=\"\",\"\",Sayıyı_Yazıya_Çevir(P36))","v":""},""]
[27,{"$f":"IF('Modül S1'!B37:C37=\"\",\"\",'Modül S1'!B37:C37)","v":""},null,{"$f":"IF('Modül S1'!D37=\"\",\"\",'Modül S1'!D37)","v":""},null,null,null,null,null,null,null,null,null,null,{"$f":"IF(P37=\"\",\"\",Sayıyı_Yazıya_Çevir(P37))","v":""},""]
[28,{"$f":"IF('Modül S1'!B38:C38=\"\",\"\",'Modül S1'!B38:C38)","v":""},null,{"$f":"IF('Modül S1'!D38=\"\",\"\",'Modül S1'!D38)","v":""},null,null,null,null,null,null,null,null,null,null,{"$f":"IF(P38=\"\",\"\",Sayıyı_Yazıya_Çevir(P38))","v":""},""]
[29,{"$f":"IF('Modül S1'!B39:C39=\"\",\"\",'Modül S1'!B39:C39)","v":""},null,{"$f":"IF('Modül S1'!D39=\"\",\"\",'Modül S1'!D39)","v":""},null,null,null,null,null,null,null,null,null,null,{"$f":"IF(P39=\"\",\"\",Sayıyı_Yazıya_Çevir(P39))","v":""},""]
[30,{"$f":"IF('Modül S1'!B40:C40=\"\",\"\",'Modül S1'!B40:C40)","v":""},null,{"$f":"IF('Modül S1'!D40=\"\",\"\",'Modül S1'!D40)","v":""},null,null,null,null,null,null,null,null,null,null,{"$f":"IF(P40=\"\",\"\",Sayıyı_Yazıya_Çevir(P40))","v":""},""]
[31,{"$f":"IF('Modül S1'!B41:C41=\"\",\"\",'Modül S1'!B41:C41)","v":""},null,{"$f":"IF('Modül S1'!D41=\"\",\"\",'Modül S1'!D41)","v":""},null,null,null,null,null,null,null,null,null,null,{"$f":"IF(P41=\"\",\"\",Sayıyı_Yazıya_Çevir(P41))","v":""},""]
[32,{"$f":"IF('Modül S1'!B42:C42=\"\",\"\",'Modül S1'!B42:C42)","v":""},null,{"$f":"IF('Modül S1'!D42=\"\",\"\",'Modül S1'!D42)","v":""},null,null,null,null,null,null,null,null,null,null,{"$f":"IF(P42=\"\",\"\",Sayıyı_Yazıya_Çevir(P42))","v":""},""]
[33,{"$f":"IF('Modül S1'!B43:C43=\"\",\"\",'Modül S1'!B43:C43)","v":""},null,{"$f":"IF('Modül S1'!D43=\"\",\"\",'Modül S1'!D43)","v":""},null,null,null,null,null,null,null,null,null,null,{"$f":"IF(P43=\"\",\"\",Sayıyı_Yazıya_Çevir(P43))","v":""},""]
[34,{"$f":"IF('Modül S1'!B44:C44=\"\",\"\",'Modül S1'!B44:C44)","v":""},null,{"$f":"IF('Modül S1'!D44=\"\",\"\",'Modül S1'!D44)","v":""},null,null,null,null,null,null,null,null,null,null,{"$f":"IF(P44=\"\",\"\",Sayıyı_Yazıya_Çevir(P44))","v":""},""]
[35,{"$f":"IF('Modül S1'!B45:C45=\"\",\"\",'Modül S1'!B45:C45)","v":""},null,{"$f":"IF('Modül S1'!D45=\"\",\"\",'Modül S1'!D45)","v":""},null,null,null,null,null,null,null,null,null,null,{"$f":"IF(P45=\"\",\"\",Sayıyı_Yazıya_Çevir(P45))","v":""},""]
[36,{"$f":"IF('Modül S1'!B46:C46=\"\",\"\",'Modül S1'!B46:C46)","v":""},null,{"$f":"IF('Modül S1'!D46=\"\",\"\",'Modül S1'!D46)","v":""},null,null,null,null,null,null,null,null,null,null,{"$f":"IF(P46=\"\",\"\",Sayıyı_Yazıya_Çevir(P46))","v":""},""]
[37,{"$f":"IF('Modül S1'!B47:C47=\"\",\"\",'Modül S1'!B47:C47)","v":""},null,{"$f":"IF('Modül S1'!D47=\"\",\"\",'Modül S1'!D47)","v":""},null,null,null,null,null,null,null,null,null,null,{"$f":"IF(P47=\"\",\"\",Sayıyı_Yazıya_Çevir(P47))","v":""},""]
[38,{"$f":"IF('Modül S1'!B48:C48=\"\",\"\",'Modül S1'!B48:C48)","v":""},null,{"$f":"IF('Modül S1'!D48=\"\",\"\",'Modül S1'!D48)","v":""},null,null,null,null,null,null,null,null,null,null,{"$f":"IF(P48=\"\",\"\",Sayıyı_Yazıya_Çevir(P48))","v":""},""]
[39,{"$f":"IF('Modül S1'!B49:C49=\"\",\"\",'Modül S1'!B49:C49)","v":""},null,{"$f":"IF('Modül S1'!D49=\"\",\"\",'Modül S1'!D49)","v":""},null,null,null,null,null,null,null,null,null,null,{"$f":"IF(P49=\"\",\"\",Sayıyı_Yazıya_Çevir(P49))","v":""},""]
[40,{"$f":"IF('Modül S1'!B50:C50=\"\",\"\",'Modül S1'!B50:C50)","v":""},null,{"$f":"IF('Modül S1'!D50=\"\",\"\",'Modül S1'!D50)","v":""},null,null,null,null,null,null,null,null,null,null,{"$f":"IF(P50=\"\",\"\",Sayıyı_Yazıya_Çevir(P50))","v":""},""]
["Not: E yaygında kayıtlı bütün kursiyerler not fişine kaydedilecektir."]
[null,null,null,null,null,null,null,null,null,null,null,null,null,"ÖĞRETMEN ADI SOYADI"]
[]
[null,null,null,null,null,null,null,null,null,null,null,null,null,{"$f":"'Modül S1'!N54:P54","v":"………………………………"}]
[null,null,null,null,null,null,null,null,null,null,null,null,null,"İMZA"]

{"sheet":"MODÜLER NOT FİŞİ","index":10,"n_rows":41,"n_cols":33,"rows_kept":41,"cut":false,"hidden":false,"merged":[[13,29,13,31],[14,29,14,31],[19,29,19,31],[23,29,23,31],[24,29,24,31],[25,29,25,31],[30,29,30,31],[20,29,20,31],[15,29,15,31],[21,29,21,31],[22,29,22,31],[16,29,16,31],[17,29,17,31],[18,29,18,31],[28,29,28,31],[41,0,41,1],[39,0,39,1],[40,28,40,31],[31,29,31,31],[26,29,26,31],[27,29,27,31],[40,0,40,1],[39,28,39,31],[29,29,29,31],[37,28,38,31],[0,0,0,32],[1,2,1,26],[5,0,5,10],[5,14,5,30],[7,31,7,32],[4,16,4,19],[3,20,4,25],[1,29,1,32],[5,31,5,32],[5,11,5,13],[12,29,12,31],[6,0,6,10],[10,5,10,7],[10,8,10,10],[7,0,7,10],[10,26,10,28],[10,1,11,1],[10,0,11,0],[10,2,10,4],[10,20,10,22],[10,11,10,13],[10,14,10,16],[10,17,10,19],[6,14,6,30],[6,31,6,32],[6,11,6,13],[10,32,11,32],[10,29,11,31],[10,23,10,25],[7,11,7,13],[7,14,7,30]]}
["TEOMANPAŞA HALK EĞİTİMİ MERKEZİ"]
[null,null,"KURSİYER NOT FİŞİ",null,null,null,null,null,null,null,null,null,null,null,null,null,null,null,null,null,null,null,null,null,null,null,null,null,null," Tel :0 242 3383125"]
[null,null,null,null,null,null,null,null,null,null,null,null,null,null,null,null,null,null,null,null,null,null,null,null,null,null," Web:","http://teomanpasahem.meb.k12.tr/"]
[null,null,null,null,null,null,null,null,null,null,null,null,null,null,null,null,null,null,null,null,{"$f":"'Modül S1'!C7","v":0},null,null,null,null,null,"Mail :","970101@meb.gov.tr"]
["KURSUN ADI : ",null,{"$f":"'Modül S1'!C6:D6","v":0},null,null,null,null,null,null,null,null,null,null,null,null,null,"KURS NO (e-Yaygin): "]
["KURSA BAŞLAYAN KURSİYER SAYISI (e-Yaygın Sistemine Kayıtlı Kursiyer)",null,null,null,null,null,null,null,null,null,null,null,null,null,"BAŞARISIZ OLAN KURSİYER SAYISI (Not dan dolayı)"]
["BAŞARILI OLAN KURSİYER SAYISI (e-Yaygın Sisteminden BELGE ALACAK)",null,null,null,null,null,null,null,null,null,null,null,null,null,"DEVAMSIZ OLAN KURSİYER SAYISI (Devamsızlığı kursun 1/5 inin geçeneler)"]
["SADECE TRANSKRİPT ALACAK KURSİYER SAYISI"]
[]
[]
["S.\nNO","ADI VE SOYADI","1. Modül",null,null,"2. Modül",null,null,"3. Modül",null,null,"4. Modül",null,null,"5. Modül",null,null,"6. Modül",null,null,"7. Modül",null,null,"8. Modül",null,null,"9. Modül",null,null,"Açıklama",null,null,"Belge/\nTranskript"]
[null,null,"Uy.","Yaz.","OR.","Uy.","Yaz.","ORT","Uy.","Yaz.","ORT","Uy.","Yaz.","ORT","Uy.","Yaz.","ORT","Uy.","Yaz.","ORT","Uy.","Yaz.","ORT","Uy.","Yaz.","ORT","Uy.","Yaz.","ORT"]
[1,{"$f":"IF('Modül S1'!D11=\"\",\"\",'Modül S1'!D11)","v":""},{"$f":"'Modül S1'!P11","v":""},null,{"$f":"IF(ISERROR(AVERAGE(C13:D13)),\"\",AVERAGE(C13:D13))","v":""},{"$f":"IF('MS2'!P11=0,\"\",'MS2'!P11)","v":""},null,{"$f":"IF(ISERROR(AVERAGE(F13:G13)),\"\",AVERAGE(F13:G13))","v":""},{"$f":"IF('MS3'!P11=0,\"\",'MS3'!P11)","v":""},null,{"$f":"IF(ISERROR(AVERAGE(I13:J13)),\"\",AVERAGE(I13:J13))","v":""},{"$f":"IF('MS4'!P11=0,\"\",'MS4'!P11)","v":""},null,{"$f":"IF(ISERROR(AVERAGE(L13:M13)),\"\",AVERAGE(L13:M13))","v":""},{"$f":"IF('MS5'!P11=0,\"\",'MS5'!P11)","v":""},null,{"$f":"IF(ISERROR(AVERAGE(O13:P13)),\"\",AVERAGE(O13:P13))","v":""},{"$f":"IF('MS6'!P11=0,\"\",'MS6'!P11)","v":""},null,{"$f":"IF(ISERROR(AVERAGE(R13:S13)),\"\",AVERAGE(R13:S13))","v":""},{"$f":"IF('MS7'!P11=0,\"\",'MS7'!P11)","v":""},null,{"$f":"IF(ISERROR(AVERAGE(U13:V13)),\"\",AVERAGE(U13:V13))","v":""},{"$f":"IF('MS8'!P11=0,\"\",'MS8'!P11)","v":""},null,{"$f":"IF(ISERROR(AVERAGE(X13:Y13)),\"\",AVERAGE(X13:Y13))","v":""},{"$f":"IF('MS9'!P11=0,\"\",'MS9'!P11)","v":""},null,{"$f":"IF(ISERROR(AVERAGE(AA13:AB13)),\"\",AVERAGE(AA13:AB13))","v":""}]
[2,{"$f":"IF('Modül S1'!D12=\"\",\"\",'Modül S1'!D12)","v":""},{"$f":"'Modül S1'!P12","v":""},null,{"$f":"IF(ISERROR(AVERAGE(C14:D14)),\"\",AVERAGE(C14:D14))","v":""},{"$f":"IF('MS2'!P12=0,\"\",'MS2'!P12)","v":""},null,{"$f":"IF(ISERROR(AVERAGE(F14:G14)),\"\",AVERAGE(F14:G14))","v":""},{"$f":"IF('MS3'!P12=0,\"\",'MS3'!P12)","v":""},null,{"$f":"IF(ISERROR(AVERAGE(I14:J14)),\"\",AVERAGE(I14:J14))","v":""},{"$f":"IF('MS4'!P12=0,\"\",'MS4'!P12)","v":""},null,{"$f":"IF(ISERROR(AVERAGE(L14:M14)),\"\",AVERAGE(L14:M14))","v":""},{"$f":"IF('MS5'!P12=0,\"\",'MS5'!P12)","v":""},null,{"$f":"IF(ISERROR(AVERAGE(O14:P14)),\"\",AVERAGE(O14:P14))","v":""},{"$f":"IF('MS6'!P12=0,\"\",'MS6'!P12)","v":""},null,{"$f":"IF(ISERROR(AVERAGE(R14:S14)),\"\",AVERAGE(R14:S14))","v":""},{"$f":"IF('MS7'!P12=0,\"\",'MS7'!P12)","v":""},null,{"$f":"IF(ISERROR(AVERAGE(U14:V14)),\"\",AVERAGE(U14:V14))","v":""},{"$f":"IF('MS8'!P12=0,\"\",'MS8'!P12)","v":""},null,{"$f":"IF(ISERROR(AVERAGE(X14:Y14)),\"\",AVERAGE(X14:Y14))","v":""},{"$f":"IF('MS9'!P12=0,\"\",'MS9'!P12)","v":""},null,{"$f":"IF(ISERROR(AVERAGE(AA14:AB14)),\"\",AVERAGE(AA14:AB14))","v":""}]
[3,{"$f":"IF('Modül S1'!D13=\"\",\"\",'Modül S1'!D13)","v":""},{"$f":"'Modül S1'!P13","v":""},null,"",{"$f":"IF('MS2'!P13=0,\"\",'MS2'!P13)","v":""},null,"",{"$f":"IF('MS3'!P13=0,\"\",'MS3'!P13)","v":""},null,"",{"$f":"IF('MS4'!P13=0,\"\",'MS4'!P13)","v":""},null,"",{"$f":"IF('MS5'!P13=0,\"\",'MS5'!P13)","v":""},null,"",{"$f":"IF('MS6'!P13=0,\"\",'MS6'!P13)","v":""},null,"",{"$f":"IF('MS7'!P13=0,\"\",'MS7'!P13)","v":""},null,"",{"$f":"IF('MS8'!P13=0,\"\",'MS8'!P13)","v":""},null,"",{"$f":"IF('MS9'!P13=0,\"\",'MS9'!P13)","v":""},null,""]
[4,{"$f":"IF('Modül S1'!D14=\"\",\"\",'Modül S1'!D14)","v":""},{"$f":"'Modül S1'!P14","v":""},null,"",{"$f":"IF('MS2'!P14=0,\"\",'MS2'!P14)","v":""},null,"",{"$f":"IF('MS3'!P14=0,\"\",'MS3'!P14)","v":""},null,"",{"$f":"IF('MS4'!P14=0,\"\",'MS4'!P14)","v":""},null,"",{"$f":"IF('MS5'!P14=0,\"\",'MS5'!P14)","v":""},null,"",{"$f":"IF('MS6'!P14=0,\"\",'MS6'!P14)","v":""},null,"",{"$f":"IF('MS7'!P14=0,\"\",'MS7'!P14)","v":""},null,"",{"$f":"IF('MS8'!P14=0,\"\",'MS8'!P14)","v":""},null,"",{"$f":"IF('MS9'!P14=0,\"\",'MS9'!P14)","v":""},null,""]
[5,{"$f":"IF('Modül S1'!D15=\"\",\"\",'Modül S1'!D15)","v":""},{"$f":"'Modül S1'!P15","v":""},null,"",{"$f":"IF('MS2'!P15=0,\"\",'MS2'!P15)","v":""},null,"",{"$f":"IF('MS3'!P15=0,\"\",'MS3'!P15)","v":""},null,"",{"$f":"IF('MS4'!P15=0,\"\",'MS4'!P15)","v":""},null,"",{"$f":"IF('MS5'!P15=0,\"\",'MS5'!P15)","v":""},null,"",{"$f":"IF('MS6'!P15=0,\"\",'MS6'!P15)","v":""},null,"",{"$f":"IF('MS7'!P15=0,\"\",'MS7'!P15)","v":""},null,"",{"$f":"IF('MS8'!P15=0,\"\",'MS8'!P15)","v":""},null,"",{"$f":"IF('MS9'!P15=0,\"\",'MS9'!P15)","v":""},null,""]
[6,{"$f":"IF('Modül S1'!D16=\"\",\"\",'Modül S1'!D16)","v":""},{"$f":"'Modül S1'!P16","v":""},null,"",{"$f":"IF('MS2'!P16=0,\"\",'MS2'!P16)","v":""},null,"",{"$f":"IF('MS3'!P16=0,\"\",'MS3'!P16)","v":""},null,"",{"$f":"IF('MS4'!P16=0,\"\",'MS4'!P16)","v":""},null,"",{"$f":"IF('MS5'!P16=0,\"\",'MS5'!P16)","v":""},null,"",{"$f":"IF('MS6'!P16=0,\"\",'MS6'!P16)","v":""},null,"",{"$f":"IF('MS7'!P16=0,\"\",'MS7'!P16)","v":""},null,"",{"$f":"IF('MS8'!P16=0,\"\",'MS8'!P16)","v":""},null,"",{"$f":"IF('MS9'!P16=0,\"\",'MS9'!P16)","v":""},null,""]
[7,{"$f":"IF('Modül S1'!D17=\"\",\"\",'Modül S1'!D17)","v":""},{"$f":"'Modül S1'!P17","v":""},null,"",{"$f":"IF('MS2'!P17=0,\"\",'MS2'!P17)","v":""},null,"",{"$f":"IF('MS3'!P17=0,\"\",'MS3'!P17)","v":""},null,"",{"$f":"IF('MS4'!P17=0,\"\",'MS4'!P17)","v":""},null,"",{"$f":"IF('MS5'!P17=0,\"\",'MS5'!P17)","v":""},null,"",{"$f":"IF('MS6'!P17=0,\"\",'MS6'!P17)","v":""},null,"",{"$f":"IF('MS7'!P17=0,\"\",'MS7'!P17)","v":""},null,"",{"$f":"IF('MS8'!P17=0,\"\",'MS8'!P17)","v":""},null,"",{"$f":"IF('MS9'!P17=0,\"\",'MS9'!P17)","v":""},null,""]
[8,{"$f":"IF('Modül S1'!D18=\"\",\"\",'Modül S1'!D18)","v":""},{"$f":"'Modül S1'!P18","v":""},null,"",{"$f":"IF('MS2'!P18=0,\"\",'MS2'!P18)","v":""},null,"",{"$f":"IF('MS3'!P18=0,\"\",'MS3'!P18)","v":""},null,"",{"$f":"IF('MS4'!P18=0,\"\",'MS4'!P18)","v":""},null,"",{"$f":"IF('MS5'!P18=0,\"\",'MS5'!P18)","v":""},null,"",{"$f":"IF('MS6'!P18=0,\"\",'MS6'!P18)","v":""},null,"",{"$f":"IF('MS7'!P18=0,\"\",'MS7'!P18)","v":""},null,"",{"$f":"IF('MS8'!P18=0,\"\",'MS8'!P18)","v":""},null,"",{"$f":"IF('MS9'!P18=0,\"\",'MS9'!P18)","v":""},null,""]
[9,{"$f":"IF('Modül S1'!D19=\"\",\"\",'Modül S1'!D19)","v":""},{"$f":"'Modül S1'!P19","v":""},null,"",{"$f":"IF('MS2'!P19=0,\"\",'MS2'!P19)","v":""},null,"",{"$f":"IF('MS3'!P19=0,\"\",'MS3'!P19)","v":""},null,"",{"$f":"IF('MS4'!P19=0,\"\",'MS4'!P19)","v":""},null,"",{"$f":"IF('MS5'!P19=0,\"\",'MS5'!P19)","v":""},null,"",{"$f":"IF('MS6'!P19=0,\"\",'MS6'!P19)","v":""},null,"",{"$f":"IF('MS7'!P19=0,\"\",'MS7'!P19)","v":""},null,"",{"$f":"IF('MS8'!P19=0,\"\",'MS8'!P19)","v":""},null,"",{"$f":"IF('MS9'!P19=0,\"\",'MS9'!P19)","v":""},null,""]
[10,{"$f":"IF('Modül S1'!D20=\"\",\"\",'Modül S1'!D20)","v":""},{"$f":"'Modül S1'!P20","v":""},null,"",{"$f":"IF('MS2'!P20=0,\"\",'MS2'!P20)","v":""},null,"",{"$f":"IF('MS3'!P20=0,\"\",'MS3'!P20)","v":""},null,"",{"$f":"IF('MS4'!P20=0,\"\",'MS4'!P20)","v":""},null,"",{"$f":"IF('MS5'!P20=0,\"\",'MS5'!P20)","v":""},null,"",{"$f":"IF('MS6'!P20=0,\"\",'MS6'!P20)","v":""},null,"",{"$f":"IF('MS7'!P20=0,\"\",'MS7'!P20)","v":""},null,"",{"$f":"IF('MS8'!P20=0,\"\",'MS8'!P20)","v":""},null,"",{"$f":"IF('MS9'!P20=0,\"\",'MS9'!P20)","v":""},null,""]
[11,{"$f":"IF('Modül S1'!D21=\"\",\"\",'Modül S1'!D21)","v":""},{"$f":"'Modül S1'!P21","v":""},null,"",{"$f":"IF('MS2'!P21=0,\"\",'MS2'!P21)","v":""},null,"",{"$f":"IF('MS3'!P21=0,\"\",'MS3'!P21)","v":""},null,"",{"$f":"IF('MS4'!P21=0,\"\",'MS4'!P21)","v":""},null,"",{"$f":"IF('MS5'!P21=0,\"\",'MS5'!P21)","v":""},null,"",{"$f":"IF('MS6'!P21=0,\"\",'MS6'!P21)","v":""},null,"",{"$f":"IF('MS7'!P21=0,\"\",'MS7'!P21)","v":""},null,"",{"$f":"IF('MS8'!P21=0,\"\",'MS8'!P21)","v":""},null,"",{"$f":"IF('MS9'!P21=0,\"\",'MS9'!P21)","v":""},null,""]
[12,{"$f":"IF('Modül S1'!D22=\"\",\"\",'Modül S1'!D22)","v":""},{"$f":"'Modül S1'!P22","v":""},null,"",{"$f":"IF('MS2'!P22=0,\"\",'MS2'!P22)","v":""},null,"",{"$f":"IF('MS3'!P22=0,\"\",'MS3'!P22)","v":""},null,"",{"$f":"IF('MS4'!P22=0,\"\",'MS4'!P22)","v":""},null,"",{"$f":"IF('MS5'!P22=0,\"\",'MS5'!P22)","v":""},null,"",{"$f":"IF('MS6'!P22=0,\"\",'MS6'!P22)","v":""},null,"",{"$f":"IF('MS7'!P22=0,\"\",'MS7'!P22)","v":""},null,"",{"$f":"IF('MS8'!P22=0,\"\",'MS8'!P22)","v":""},null,"",{"$f":"IF('MS9'!P22=0,\"\",'MS9'!P22)","v":""},null,""]
[13,{"$f":"IF('Modül S1'!D23=\"\",\"\",'Modül S1'!D23)","v":""},{"$f":"'Modül S1'!P23","v":""},null,"",{"$f":"IF('MS2'!P23=0,\"\",'MS2'!P23)","v":""},null,"",{"$f":"IF('MS3'!P23=0,\"\",'MS3'!P23)","v":""},null,"",{"$f":"IF('MS4'!P23=0,\"\",'MS4'!P23)","v":""},null,"",{"$f":"IF('MS5'!P23=0,\"\",'MS5'!P23)","v":""},null,"",{"$f":"IF('MS6'!P23=0,\"\",'MS6'!P23)","v":""},null,"",{"$f":"IF('MS7'!P23=0,\"\",'MS7'!P23)","v":""},null,"",{"$f":"IF('MS8'!P23=0,\"\",'MS8'!P23)","v":""},null,"",{"$f":"IF('MS9'!P23=0,\"\",'MS9'!P23)","v":""},null,""]
[14,{"$f":"IF('Modül S1'!D24=\"\",\"\",'Modül S1'!D24)","v":""},{"$f":"'Modül S1'!P24","v":""},null,"",{"$f":"IF('MS2'!P24=0,\"\",'MS2'!P24)","v":""},null,"",{"$f":"IF('MS3'!P24=0,\"\",'MS3'!P24)","v":""},null,"",{"$f":"IF('MS4'!P24=0,\"\",'MS4'!P24)","v":""},null,"",{"$f":"IF('MS5'!P24=0,\"\",'MS5'!P24)","v":""},null,"",{"$f":"IF('MS6'!P24=0,\"\",'MS6'!P24)","v":""},null,"",{"$f":"IF('MS7'!P24=0,\"\",'MS7'!P24)","v":""},null,"",{"$f":"IF('MS8'!P24=0,\"\",'MS8'!P24)","v":""},null,"",{"$f":"IF('MS9'!P24=0,\"\",'MS9'!P24)","v":""},null,""]
[15,{"$f":"IF('Modül S1'!D25=\"\",\"\",'Modül S1'!D25)","v":""},{"$f":"'Modül S1'!P25","v":""},null,"",{"$f":"IF('MS2'!P25=0,\"\",'MS2'!P25)","v":""},null,"",{"$f":"IF('MS3'!P25=0,\"\",'MS3'!P25)","v":""},null,"",{"$f":"IF('MS4'!P25=0,\"\",'MS4'!P25)","v":""},null,"",{"$f":"IF('MS5'!P25=0,\"\",'MS5'!P25)","v":""},null,"",{"$f":"IF('MS6'!P25=0,\"\",'MS6'!P25)","v":""},null,"",{"$f":"IF('MS7'!P25=0,\"\",'MS7'!P25)","v":""},null,"",{"$f":"IF('MS8'!P25=0,\"\",'MS8'!P25)","v":""},null,"",{"$f":"IF('MS9'!P25=0,\"\",'MS9'!P25)","v":""},null,""]
[16,{"$f":"IF('Modül S1'!D26=\"\",\"\",'Modül S1'!D26)","v":""},{"$f":"'Modül S1'!P26","v":""},null,"",{"$f":"IF('MS2'!P26=0,\"\",'MS2'!P26)","v":""},null,"",{"$f":"IF('MS3'!P26=0,\"\",'MS3'!P26)","v":""},null,"",{"$f":"IF('MS4'!P26=0,\"\",'MS4'!P26)","v":""},null,"",{"$f":"IF('MS5'!P26=0,\"\",'MS5'!P26)","v":""},null,"",{"$f":"IF('MS6'!P26=0,\"\",'MS6'!P26)","v":""},null,"",{"$f":"IF('MS7'!P26=0,\"\",'MS7'!P26)","v":""},null,"",{"$f":"IF('MS8'!P26=0,\"\",'MS8'!P26)","v":""},null,"",{"$f":"IF('MS9'!P26=0,\"\",'MS9'!P26)","v":""},null,""]
[17,{"$f":"IF('Modül S1'!D27=\"\",\"\",'Modül S1'!D27)","v":""},{"$f":"'Modül S1'!P27","v":""},null,"",{"$f":"IF('MS2'!P27=0,\"\",'MS2'!P27)","v":""},null,"",{"$f":"IF('MS3'!P27=0,\"\",'MS3'!P27)","v":""},null,"",{"$f":"IF('MS4'!P27=0,\"\",'MS4'!P27)","v":""},null,"",{"$f":"IF('MS5'!P27=0,\"\",'MS5'!P27)","v":""},null,"",{"$f":"IF('MS6'!P27=0,\"\",'MS6'!P27)","v":""},null,"",{"$f":"IF('MS7'!P27=0,\"\",'MS7'!P27)","v":""},null,"",{"$f":"IF('MS8'!P27=0,\"\",'MS8'!P27)","v":""},null,"",{"$f":"IF('MS9'!P27=0,\"\",'MS9'!P27)","v":""},null,""]
[18,{"$f":"IF('Modül S1'!D28=\"\",\"\",'Modül S1'!D28)","v":""},{"$f":"'Modül S1'!P28","v":""},null,"",{"$f":"IF('MS2'!P28=0,\"\",'MS2'!P28)","v":""},null,"",{"$f":"IF('MS3'!P28=0,\"\",'MS3'!P28)","v":""},null,"",{"$f":"IF('MS4'!P28=0,\"\",'MS4'!P28)","v":""},null,"",{"$f":"IF('MS5'!P28=0,\"\",'MS5'!P28)","v":""},null,"",{"$f":"IF('MS6'!P28=0,\"\",'MS6'!P28)","v":""},null,"",{"$f":"IF('MS7'!P28=0,\"\",'MS7'!P28)","v":""},null,"",{"$f":"IF('MS8'!P28=0,\"\",'MS8'!P28)","v":""},null,"",{"$f":"IF('MS9'!P28=0,\"\",'MS9'!P28)","v":""},null,""]
[19,{"$f":"IF('Modül S1'!D29=\"\",\"\",'Modül S1'!D29)","v":""},{"$f":"'Modül S1'!P29","v":""},null,"",{"$f":"IF('MS2'!P29=0,\"\",'MS2'!P29)","v":""},null,"",{"$f":"IF('MS3'!P29=0,\"\",'MS3'!P29)","v":""},null,"",{"$f":"IF('MS4'!P29=0,\"\",'MS4'!P29)","v":""},null,"",{"$f":"IF('MS5'!P29=0,\"\",'MS5'!P29)","v":""},null,"",{"$f":"IF('MS6'!P29=0,\"\",'MS6'!P29)","v":""},null,"",{"$f":"IF('MS7'!P29=0,\"\",'MS7'!P29)","v":""},null,"",{"$f":"IF('MS8'!P29=0,\"\",'MS8'!P29)","v":""},null,"",{"$f":"IF('MS9'!P29=0,\"\",'MS9'!P29)","v":""},null,""]
[20,{"$f":"IF('Modül S1'!D30=\"\",\"\",'Modül S1'!D30)","v":""},{"$f":"'Modül S1'!P30","v":""},null,"",{"$f":"IF('MS2'!P30=0,\"\",'MS2'!P30)","v":""},null,"",{"$f":"IF('MS3'!P30=0,\"\",'MS3'!P30)","v":""},null,"",{"$f":"IF('MS4'!P30=0,\"\",'MS4'!P30)","v":""},null,"",{"$f":"IF('MS5'!P30=0,\"\",'MS5'!P30)","v":""},null,"",{"$f":"IF('MS6'!P30=0,\"\",'MS6'!P30)","v":""},null,"",{"$f":"IF('MS7'!P30=0,\"\",'MS7'!P30)","v":""},null,"",{"$f":"IF('MS8'!P30=0,\"\",'MS8'!P30)","v":""},null,"",{"$f":"IF('MS9'!P30=0,\"\",'MS9'!P30)","v":""},null,""]
[null,"Not: E yaygında kayıtlı bütün kursiyerler not fişine kaydedilecektir."]
[]
["Açıklamalar: "]
[1,"Uy. Modül uygulama notu (Varsa) 100 üzerinden"]
[2,"Yaz. Modül yazılı notu (Varsa) 100 üzerinden"]
[3,"Ort: 100 üzerinden"]
[]
["Ders Öğretmeni (İmza)",null,null,null,null,null,null,null,null,null,null,null,null,null,null,null,null,null,null,null,null,null,null,null,null,null,null,null,"ONAYLANIR"]
["…………………………………..",null,null,null,null,null,null,null,null,null,null,null,null,null,null,null,null,null,null,null,null,null,null,null,null,null,null,null,"........../........../20….."]

{"sheet":"MODÜLER NOT FİŞİ (2)","index":11,"n_rows":41,"n_cols":33,"rows_kept":41,"cut":false,"hidden":false,"merged":[[5,0,5,10],[5,11,5,13],[5,14,5,30],[5,31,5,32],[0,0,0,32],[1,2,1,26],[1,29,1,32],[3,20,4,25],[4,16,4,19],[10,11,10,13],[6,0,6,10],[6,11,6,13],[6,14,6,30],[6,31,6,32],[7,0,7,10],[7,11,7,13],[7,14,7,30],[7,31,7,32],[10,0,11,0],[10,1,11,1],[10,2,10,4],[10,5,10,7],[10,8,10,10],[10,32,11,32],[16,29,16,31],[10,14,10,16],[10,17,10,19],[10,20,10,22],[10,23,10,25],[10,26,10,28],[10,29,11,31],[12,29,12,31],[13,29,13,31],[14,29,14,31],[15,29,15,31],[28,29,28,31],[17,29,17,31],[18,29,18,31],[19,29,19,31],[20,29,20,31],[21,29,21,31],[22,29,22,31],[23,29,23,31],[24,29,24,31],[25,29,25,31],[26,29,26,31],[27,29,27,31],[41,0,41,1],[29,29,29,31],[30,29,30,31],[31,29,31,31],[39,0,39,1],[39,28,39,31],[40,0,40,1],[40,28,40,31],[37,28,38,31]]}
["TEOMANPAŞA HALK EĞİTİMİ MERKEZİ"]
[null,null,"KURSİYER NOT FİŞİ",null,null,null,null,null,null,null,null,null,null,null,null,null,null,null,null,null,null,null,null,null,null,null,null,null,null," Tel :0 242 3383125"]
[null,null,null,null,null,null,null,null,null,null,null,null,null,null,null,null,null,null,null,null,null,null,null,null,null,null," Web:","http://teomanpasahem.meb.k12.tr/"]
[null,null,null,null,null,null,null,null,null,null,null,null,null,null,null,null,null,null,null,null,{"$f":"'Modül S1'!C7","v":0}]
["KURSUN ADI : ",null,{"$f":"'Modül S1'!C6:D6","v":0},null,null,null,null,null,null,null,null,null,null,null,null,null,"KURS NO (e-Yaygin): "]
["KURSA BAŞLAYAN KURSİYER SAYISI (e-Yaygın Sistemine Kayıtlı Kursiyer)",null,null,null,null,null,null,null,null,null,null,{"$f":"'MODÜLER NOT FİŞİ'!L6:N6","v":0},null,null,"BAŞARISIZ OLAN KURSİYER SAYISI (Not dan dolayı)",null,null,null,null,null,null,null,null,null,null,null,null,null,null,null,null,{"$f":"'MODÜLER NOT FİŞİ'!AF6:AG6","v":0}]
["BAŞARILI OLAN KURSİYER SAYISI (e-Yaygın Sisteminden BELGE ALACAK)",null,null,null,null,null,null,null,null,null,null,{"$f":"'MODÜLER NOT FİŞİ'!L7:N7","v":0},null,null,"DEVAMSIZ OLAN KURSİYER SAYISI (Devamsızlığı kursun 1/5 inin geçeneler)",null,null,null,null,null,null,null,null,null,null,null,null,null,null,null,null,{"$f":"'MODÜLER NOT FİŞİ'!AF7:AG7","v":0}]
["SADECE TRANSKRİPT ALACAK KURSİYER SAYISI",null,null,null,null,null,null,null,null,null,null,{"$f":"'MODÜLER NOT FİŞİ'!L8:N8","v":0}]
[]
[]
["S.\nNO","ADI VE SOYADI","1. Modül",null,null,"2. Modül",null,null,"3. Modül",null,null,"4. Modül",null,null,"5. Modül",null,null,"6. Modül",null,null,"7. Modül",null,null,"8. Modül",null,null,"9. Modül",null,null,"Açıklama",null,null,"Belge/\nTranskript"]
[null,null,"Uy.","Yaz.","OR.","Uy.","Yaz.","ORT","Uy.","Yaz.","ORT","Uy.","Yaz.","ORT","Uy.","Yaz.","ORT","Uy.","Yaz.","ORT","Uy.","Yaz.","ORT","Uy.","Yaz.","ORT","Uy.","Yaz.","ORT"]
[21,{"$f":"IF('Modül S1'!D31=\"\",\"\",'Modül S1'!D31)","v":""},{"$f":"'Modül S1'!P31","v":""},null,{"$f":"IF(ISERROR(AVERAGE(C13:D13)),\"\",AVERAGE(C13:D13))","v":""},{"$f":"IF('MS2'!P31=0,\"\",'MS2'!P31)","v":""},null,{"$f":"IF(ISERROR(AVERAGE(F13:G13)),\"\",AVERAGE(F13:G13))","v":""},{"$f":"IF('MS3'!P31=0,\"\",'MS3'!P31)","v":""},null,{"$f":"IF(ISERROR(AVERAGE(I13:J13)),\"\",AVERAGE(I13:J13))","v":""},{"$f":"IF('MS4'!P31=0,\"\",'MS4'!P31)","v":""},null,{"$f":"IF(ISERROR(AVERAGE(L13:M13)),\"\",AVERAGE(L13:M13))","v":""},{"$f":"IF('MS5'!P31=0,\"\",'MS5'!P31)","v":""},null,{"$f":"IF(ISERROR(AVERAGE(O13:P13)),\"\",AVERAGE(O13:P13))","v":""},{"$f":"IF('MS6'!P31=0,\"\",'MS6'!P31)","v":""},null,{"$f":"IF(ISERROR(AVERAGE(R13:S13)),\"\",AVERAGE(R13:S13))","v":""},{"$f":"IF('MS7'!P31=0,\"\",'MS7'!P31)","v":""},null,{"$f":"IF(ISERROR(AVERAGE(U13:V13)),\"\",AVERAGE(U13:V13))","v":""},{"$f":"IF('MS8'!P31=0,\"\",'MS8'!P31)","v":""},null,{"$f":"IF(ISERROR(AVERAGE(X13:Y13)),\"\",AVERAGE(X13:Y13))","v":""},{"$f":"IF('MS9'!P31=0,\"\",'MS9'!P31)","v":""},null,{"$f":"IF(ISERROR(AVERAGE(AA13:AB13)),\"\",AVERAGE(AA13:AB13))","v":""}]
[22,{"$f":"IF('Modül S1'!D32=\"\",\"\",'Modül S1'!D32)","v":""},{"$f":"'Modül S1'!P32","v":""},null,{"$f":"IF(ISERROR(AVERAGE(C14:D14)),\"\",AVERAGE(C14:D14))","v":""},{"$f":"IF('MS2'!P32=0,\"\",'MS2'!P32)","v":""},null,{"$f":"IF(ISERROR(AVERAGE(F14:G14)),\"\",AVERAGE(F14:G14))","v":""},{"$f":"IF('MS3'!P32=0,\"\",'MS3'!P32)","v":""},null,{"$f":"IF(ISERROR(AVERAGE(I14:J14)),\"\",AVERAGE(I14:J14))","v":""},{"$f":"IF('MS4'!P32=0,\"\",'MS4'!P32)","v":""},null,{"$f":"IF(ISERROR(AVERAGE(L14:M14)),\"\",AVERAGE(L14:M14))","v":""},{"$f":"IF('MS5'!P32=0,\"\",'MS5'!P32)","v":""},null,{"$f":"IF(ISERROR(AVERAGE(O14:P14)),\"\",AVERAGE(O14:P14))","v":""},{"$f":"IF('MS6'!P32=0,\"\",'MS6'!P32)","v":""},null,{"$f":"IF(ISERROR(AVERAGE(R14:S14)),\"\",AVERAGE(R14:S14))","v":""},{"$f":"IF('MS7'!P32=0,\"\",'MS7'!P32)","v":""},null,{"$f":"IF(ISERROR(AVERAGE(U14:V14)),\"\",AVERAGE(U14:V14))","v":""},{"$f":"IF('MS8'!P32=0,\"\",'MS8'!P32)","v":""},null,{"$f":"IF(ISERROR(AVERAGE(X14:Y14)),\"\",AVERAGE(X14:Y14))","v":""},{"$f":"IF('MS9'!P32=0,\"\",'MS9'!P32)","v":""},null,{"$f":"IF(ISERROR(AVERAGE(AA14:AB14)),\"\",AVERAGE(AA14:AB14))","v":""}]
[23,{"$f":"IF('Modül S1'!D33=\"\",\"\",'Modül S1'!D33)","v":""},{"$f":"'Modül S1'!P33","v":""},null,"",{"$f":"IF('MS2'!P33=0,\"\",'MS2'!P33)","v":""},null,"",{"$f":"IF('MS3'!P33=0,\"\",'MS3'!P33)","v":""},null,"",{"$f":"IF('MS4'!P33=0,\"\",'MS4'!P33)","v":""},null,"",{"$f":"IF('MS5'!P33=0,\"\",'MS5'!P33)","v":""},null,"",{"$f":"IF('MS6'!P33=0,\"\",'MS6'!P33)","v":""},null,"",{"$f":"IF('MS7'!P33=0,\"\",'MS7'!P33)","v":""},null,"",{"$f":"IF('MS8'!P33=0,\"\",'MS8'!P33)","v":""},null,"",{"$f":"IF('MS9'!P33=0,\"\",'MS9'!P33)","v":""},null,""]
[24,{"$f":"IF('Modül S1'!D34=\"\",\"\",'Modül S1'!D34)","v":""},{"$f":"'Modül S1'!P34","v":""},null,"",{"$f":"IF('MS2'!P34=0,\"\",'MS2'!P34)","v":""},null,"",{"$f":"IF('MS3'!P34=0,\"\",'MS3'!P34)","v":""},null,"",{"$f":"IF('MS4'!P34=0,\"\",'MS4'!P34)","v":""},null,"",{"$f":"IF('MS5'!P34=0,\"\",'MS5'!P34)","v":""},null,"",{"$f":"IF('MS6'!P34=0,\"\",'MS6'!P34)","v":""},null,"",{"$f":"IF('MS7'!P34=0,\"\",'MS7'!P34)","v":""},null,"",{"$f":"IF('MS8'!P34=0,\"\",'MS8'!P34)","v":""},null,"",{"$f":"IF('MS9'!P34=0,\"\",'MS9'!P34)","v":""},null,""]
[25,{"$f":"IF('Modül S1'!D35=\"\",\"\",'Modül S1'!D35)","v":""},{"$f":"'Modül S1'!P35","v":""},null,"",{"$f":"IF('MS2'!P35=0,\"\",'MS2'!P35)","v":""},null,"",{"$f":"IF('MS3'!P35=0,\"\",'MS3'!P35)","v":""},null,"",{"$f":"IF('MS4'!P35=0,\"\",'MS4'!P35)","v":""},null,"",{"$f":"IF('MS5'!P35=0,\"\",'MS5'!P35)","v":""},null,"",{"$f":"IF('MS6'!P35=0,\"\",'MS6'!P35)","v":""},null,"",{"$f":"IF('MS7'!P35=0,\"\",'MS7'!P35)","v":""},null,"",{"$f":"IF('MS8'!P35=0,\"\",'MS8'!P35)","v":""},null,"",{"$f":"IF('MS9'!P35=0,\"\",'MS9'!P35)","v":""},null,""]
[26,{"$f":"IF('Modül S1'!D36=\"\",\"\",'Modül S1'!D36)","v":""},{"$f":"'Modül S1'!P36","v":""},null,"",{"$f":"IF('MS2'!P36=0,\"\",'MS2'!P36)","v":""},null,"",{"$f":"IF('MS3'!P36=0,\"\",'MS3'!P36)","v":""},null,"",{"$f":"IF('MS4'!P36=0,\"\",'MS4'!P36)","v":""},null,"",{"$f":"IF('MS5'!P36=0,\"\",'MS5'!P36)","v":""},null,"",{"$f":"IF('MS6'!P36=0,\"\",'MS6'!P36)","v":""},null,"",{"$f":"IF('MS7'!P36=0,\"\",'MS7'!P36)","v":""},null,"",{"$f":"IF('MS8'!P36=0,\"\",'MS8'!P36)","v":""},null,"",{"$f":"IF('MS9'!P36=0,\"\",'MS9'!P36)","v":""},null,""]
[27,{"$f":"IF('Modül S1'!D37=\"\",\"\",'Modül S1'!D37)","v":""},{"$f":"'Modül S1'!P37","v":""},null,"",{"$f":"IF('MS2'!P37=0,\"\",'MS2'!P37)","v":""},null,"",{"$f":"IF('MS3'!P37=0,\"\",'MS3'!P37)","v":""},null,"",{"$f":"IF('MS4'!P37=0,\"\",'MS4'!P37)","v":""},null,"",{"$f":"IF('MS5'!P37=0,\"\",'MS5'!P37)","v":""},null,"",{"$f":"IF('MS6'!P37=0,\"\",'MS6'!P37)","v":""},null,"",{"$f":"IF('MS7'!P37=0,\"\",'MS7'!P37)","v":""},null,"",{"$f":"IF('MS8'!P37=0,\"\",'MS8'!P37)","v":""},null,"",{"$f":"IF('MS9'!P37=0,\"\",'MS9'!P37)","v":""},null,""]
[28,{"$f":"IF('Modül S1'!D38=\"\",\"\",'Modül S1'!D38)","v":""},{"$f":"'Modül S1'!P38","v":""},null,"",{"$f":"IF('MS2'!P38=0,\"\",'MS2'!P38)","v":""},null,"",{"$f":"IF('MS3'!P38=0,\"\",'MS3'!P38)","v":""},null,"",{"$f":"IF('MS4'!P38=0,\"\",'MS4'!P38)","v":""},null,"",{"$f":"IF('MS5'!P38=0,\"\",'MS5'!P38)","v":""},null,"",{"$f":"IF('MS6'!P38=0,\"\",'MS6'!P38)","v":""},null,"",{"$f":"IF('MS7'!P38=0,\"\",'MS7'!P38)","v":""},null,"",{"$f":"IF('MS8'!P38=0,\"\",'MS8'!P38)","v":""},null,"",{"$f":"IF('MS9'!P38=0,\"\",'MS9'!P38)","v":""},null,""]
[29,{"$f":"IF('Modül S1'!D39=\"\",\"\",'Modül S1'!D39)","v":""},{"$f":"'Modül S1'!P39","v":""},null,"",{"$f":"IF('MS2'!P39=0,\"\",'MS2'!P39)","v":""},null,"",{"$f":"IF('MS3'!P39=0,\"\",'MS3'!P39)","v":""},null,"",{"$f":"IF('MS4'!P39=0,\"\",'MS4'!P39)","v":""},null,"",{"$f":"IF('MS5'!P39=0,\"\",'MS5'!P39)","v":""},null,"",{"$f":"IF('MS6'!P39=0,\"\",'MS6'!P39)","v":""},null,"",{"$f":"IF('MS7'!P39=0,\"\",'MS7'!P39)","v":""},null,"",{"$f":"IF('MS8'!P39=0,\"\",'MS8'!P39)","v":""},null,"",{"$f":"IF('MS9'!P39=0,\"\",'MS9'!P39)","v":""},null,""]
[30,{"$f":"IF('Modül S1'!D40=\"\",\"\",'Modül S1'!D40)","v":""},{"$f":"'Modül S1'!P40","v":""},null,"",{"$f":"IF('MS2'!P40=0,\"\",'MS2'!P40)","v":""},null,"",{"$f":"IF('MS3'!P40=0,\"\",'MS3'!P40)","v":""},null,"",{"$f":"IF('MS4'!P40=0,\"\",'MS4'!P40)","v":""},null,"",{"$f":"IF('MS5'!P40=0,\"\",'MS5'!P40)","v":""},null,"",{"$f":"IF('MS6'!P40=0,\"\",'MS6'!P40)","v":""},null,"",{"$f":"IF('MS7'!P40=0,\"\",'MS7'!P40)","v":""},null,"",{"$f":"IF('MS8'!P40=0,\"\",'MS8'!P40)","v":""},null,"",{"$f":"IF('MS9'!P40=0,\"\",'MS9'!P40)","v":""},null,""]
[31,{"$f":"IF('Modül S1'!D41=\"\",\"\",'Modül S1'!D41)","v":""},{"$f":"'Modül S1'!P41","v":""},null,"",{"$f":"IF('MS2'!P41=0,\"\",'MS2'!P41)","v":""},null,"",{"$f":"IF('MS3'!P41=0,\"\",'MS3'!P41)","v":""},null,"",{"$f":"IF('MS4'!P41=0,\"\",'MS4'!P41)","v":""},null,"",{"$f":"IF('MS5'!P41=0,\"\",'MS5'!P41)","v":""},null,"",{"$f":"IF('MS6'!P41=0,\"\",'MS6'!P41)","v":""},null,"",{"$f":"IF('MS7'!P41=0,\"\",'MS7'!P41)","v":""},null,"",{"$f":"IF('MS8'!P41=0,\"\",'MS8'!P41)","v":""},null,"",{"$f":"IF('MS9'!P41=0,\"\",'MS9'!P41)","v":""},null,""]
[32,{"$f":"IF('Modül S1'!D42=\"\",\"\",'Modül S1'!D42)","v":""},{"$f":"'Modül S1'!P42","v":""},null,"",{"$f":"IF('MS2'!P42=0,\"\",'MS2'!P42)","v":""},null,"",{"$f":"IF('MS3'!P42=0,\"\",'MS3'!P42)","v":""},null,"",{"$f":"IF('MS4'!P42=0,\"\",'MS4'!P42)","v":""},null,"",{"$f":"IF('MS5'!P42=0,\"\",'MS5'!P42)","v":""},null,"",{"$f":"IF('MS6'!P42=0,\"\",'MS6'!P42)","v":""},null,"",{"$f":"IF('MS7'!P42=0,\"\",'MS7'!P42)","v":""},null,"",{"$f":"IF('MS8'!P42=0,\"\",'MS8'!P42)","v":""},null,"",{"$f":"IF('MS9'!P42=0,\"\",'MS9'!P42)","v":""},null,""]
[33,{"$f":"IF('Modül S1'!D43=\"\",\"\",'Modül S1'!D43)","v":""},{"$f":"'Modül S1'!P43","v":""},null,"",{"$f":"IF('MS2'!P43=0,\"\",'MS2'!P43)","v":""},null,"",{"$f":"IF('MS3'!P43=0,\"\",'MS3'!P43)","v":""},null,"",{"$f":"IF('MS4'!P43=0,\"\",'MS4'!P43)","v":""},null,"",{"$f":"IF('MS5'!P43=0,\"\",'MS5'!P43)","v":""},null,"",{"$f":"IF('MS6'!P43=0,\"\",'MS6'!P43)","v":""},null,"",{"$f":"IF('MS7'!P43=0,\"\",'MS7'!P43)","v":""},null,"",{"$f":"IF('MS8'!P43=0,\"\",'MS8'!P43)","v":""},null,"",{"$f":"IF('MS9'!P43=0,\"\",'MS9'!P43)","v":""},null,""]
[34,{"$f":"IF('Modül S1'!D44=\"\",\"\",'Modül S1'!D44)","v":""},{"$f":"'Modül S1'!P44","v":""},null,"",{"$f":"IF('MS2'!P44=0,\"\",'MS2'!P44)","v":""},null,"",{"$f":"IF('MS3'!P44=0,\"\",'MS3'!P44)","v":""},null,"",{"$f":"IF('MS4'!P44=0,\"\",'MS4'!P44)","v":""},null,"",{"$f":"IF('MS5'!P44=0,\"\",'MS5'!P44)","v":""},null,"",{"$f":"IF('MS6'!P44=0,\"\",'MS6'!P44)","v":""},null,"",{"$f":"IF('MS7'!P44=0,\"\",'MS7'!P44)","v":""},null,"",{"$f":"IF('MS8'!P44=0,\"\",'MS8'!P44)","v":""},null,"",{"$f":"IF('MS9'!P44=0,\"\",'MS9'!P44)","v":""},null,""]
[35,{"$f":"IF('Modül S1'!D45=\"\",\"\",'Modül S1'!D45)","v":""},{"$f":"'Modül S1'!P45","v":""},null,"",{"$f":"IF('MS2'!P45=0,\"\",'MS2'!P45)","v":""},null,"",{"$f":"IF('MS3'!P45=0,\"\",'MS3'!P45)","v":""},null,"",{"$f":"IF('MS4'!P45=0,\"\",'MS4'!P45)","v":""},null,"",{"$f":"IF('MS5'!P45=0,\"\",'MS5'!P45)","v":""},null,"",{"$f":"IF('MS6'!P45=0,\"\",'MS6'!P45)","v":""},null,"",{"$f":"IF('MS7'!P45=0,\"\",'MS7'!P45)","v":""},null,"",{"$f":"IF('MS8'!P45=0,\"\",'MS8'!P45)","v":""},null,"",{"$f":"IF('MS9'!P45=0,\"\",'MS9'!P45)","v":""},null,""]
[36,{"$f":"IF('Modül S1'!D46=\"\",\"\",'Modül S1'!D46)","v":""},{"$f":"'Modül S1'!P46","v":""},null,"",{"$f":"IF('MS2'!P46=0,\"\",'MS2'!P46)","v":""},null,"",{"$f":"IF('MS3'!P46=0,\"\",'MS3'!P46)","v":""},null,"",{"$f":"IF('MS4'!P46=0,\"\",'MS4'!P46)","v":""},null,"",{"$f":"IF('MS5'!P46=0,\"\",'MS5'!P46)","v":""},null,"",{"$f":"IF('MS6'!P46=0,\"\",'MS6'!P46)","v":""},null,"",{"$f":"IF('MS7'!P46=0,\"\",'MS7'!P46)","v":""},null,"",{"$f":"IF('MS8'!P46=0,\"\",'MS8'!P46)","v":""},null,"",{"$f":"IF('MS9'!P46=0,\"\",'MS9'!P46)","v":""},null,""]
[37,{"$f":"IF('Modül S1'!D47=\"\",\"\",'Modül S1'!D47)","v":""},{"$f":"'Modül S1'!P47","v":""},null,"",{"$f":"IF('MS2'!P47=0,\"\",'MS2'!P47)","v":""},null,"",{"$f":"IF('MS3'!P47=0,\"\",'MS3'!P47)","v":""},null,"",{"$f":"IF('MS4'!P47=0,\"\",'MS4'!P47)","v":""},null,"",{"$f":"IF('MS5'!P47=0,\"\",'MS5'!P47)","v":""},null,"",{"$f":"IF('MS6'!P47=0,\"\",'MS6'!P47)","v":""},null,"",{"$f":"IF('MS7'!P47=0,\"\",'MS7'!P47)","v":""},null,"",{"$f":"IF('MS8'!P47=0,\"\",'MS8'!P47)","v":""},null,"",{"$f":"IF('MS9'!P47=0,\"\",'MS9'!P47)","v":""},null,""]
[38,{"$f":"IF('Modül S1'!D48=\"\",\"\",'Modül S1'!D48)","v":""},{"$f":"'Modül S1'!P48","v":""},null,"",{"$f":"IF('MS2'!P48=0,\"\",'MS2'!P48)","v":""},null,"",{"$f":"IF('MS3'!P48=0,\"\",'MS3'!P48)","v":""},null,"",{"$f":"IF('MS4'!P48=0,\"\",'MS4'!P48)","v":""},null,"",{"$f":"IF('MS5'!P48=0,\"\",'MS5'!P48)","v":""},null,"",{"$f":"IF('MS6'!P48=0,\"\",'MS6'!P48)","v":""},null,"",{"$f":"IF('MS7'!P48=0,\"\",'MS7'!P48)","v":""},null,"",{"$f":"IF('MS8'!P48=0,\"\",'MS8'!P48)","v":""},null,"",{"$f":"IF('MS9'!P48=0,\"\",'MS9'!P48)","v":""},null,""]
[39,{"$f":"IF('Modül S1'!D49=\"\",\"\",'Modül S1'!D49)","v":""},{"$f":"'Modül S1'!P49","v":""},null,"",{"$f":"IF('MS2'!P49=0,\"\",'MS2'!P49)","v":""},null,"",{"$f":"IF('MS3'!P49=0,\"\",'MS3'!P49)","v":""},null,"",{"$f":"IF('MS4'!P49=0,\"\",'MS4'!P49)","v":""},null,"",{"$f":"IF('MS5'!P49=0,\"\",'MS5'!P49)","v":""},null,"",{"$f":"IF('MS6'!P49=0,\"\",'MS6'!P49)","v":""},null,"",{"$f":"IF('MS7'!P49=0,\"\",'MS7'!P49)","v":""},null,"",{"$f":"IF('MS8'!P49=0,\"\",'MS8'!P49)","v":""},null,"",{"$f":"IF('MS9'!P49=0,\"\",'MS9'!P49)","v":""},null,""]
[40,{"$f":"IF('Modül S1'!D50=\"\",\"\",'Modül S1'!D50)","v":""},{"$f":"'Modül S1'!P50","v":""},null,"",{"$f":"IF('MS2'!P50=0,\"\",'MS2'!P50)","v":""},null,"",{"$f":"IF('MS3'!P50=0,\"\",'MS3'!P50)","v":""},null,"",{"$f":"IF('MS4'!P50=0,\"\",'MS4'!P50)","v":""},null,"",{"$f":"IF('MS5'!P50=0,\"\",'MS5'!P50)","v":""},null,"",{"$f":"IF('MS6'!P50=0,\"\",'MS6'!P50)","v":""},null,"",{"$f":"IF('MS7'!P50=0,\"\",'MS7'!P50)","v":""},null,"",{"$f":"IF('MS8'!P50=0,\"\",'MS8'!P50)","v":""},null,"",{"$f":"IF('MS9'!P50=0,\"\",'MS9'!P50)","v":""},null,""]
[null,"Not: E yaygında kayıtlı bütün kursiyerler not fişine kaydedilecektir."]
[]
["Açıklamalar: "]
[1,"Uy. Modül uygulama notu (Varsa) 100 üzerinden"]
[2,"Yaz. Modül yazılı notu (Varsa) 100 üzerinden"]
[3,"Ort: 100 üzerinden"]
[]
["Ders Öğretmeni (İmza)",null,null,null,null,null,null,null,null,null,null,null,null,null,null,null,null,null,null,null,null,null,null,null,null,null,null,null,"ONAYLANIR"]
[{"$f":"'MODÜLER NOT FİŞİ'!A41:B41","v":"………………………………….."},null,null,null,null,null,null,null,null,null,null,null,null,null,null,null,null,null,null,null,null,null,null,null,null,null,null,null,"........../........../20….."]